From mboxrd@z Thu Jan 1 00:00:00 1970 Return-Path: Received: from mails.dpdk.org (mails.dpdk.org [217.70.189.124]) by inbox.dpdk.org (Postfix) with ESMTP id DA2FB48935 for ; Tue, 14 Oct 2025 14:07:28 +0200 (CEST) Received: from mails.dpdk.org (localhost [127.0.0.1]) by mails.dpdk.org (Postfix) with ESMTP id BDBE5402AE; Tue, 14 Oct 2025 14:07:28 +0200 (CEST) Received: from mail-qv1-f100.google.com (mail-qv1-f100.google.com [209.85.219.100]) by mails.dpdk.org (Postfix) with ESMTP id 81C32402AE for ; Tue, 14 Oct 2025 14:07:27 +0200 (CEST) Received: by mail-qv1-f100.google.com with SMTP id 6a1803df08f44-795773ac2a2so64321406d6.1 for ; Tue, 14 Oct 2025 05:07:27 -0700 (PDT) DKIM-Signature: v=1; a=rsa-sha256; c=relaxed/relaxed; d=iol.unh.edu; s=unh-iol; t=1760443647; x=1761048447; darn=dpdk.org; h=cc:to:from:subject:message-id:date:from:to:cc:subject:date :message-id:reply-to; bh=5M5XlZ91ubhooj10ewAdBsZHx+PhHrmL87Xzdr9nwYo=; b=HaIwdkCQG8UBZAcsYAtSoxWFW5RlMSS4Q6HM6ACkcLx8CCa2HmbOiZri1UDUNEj7kS FTsfbTfc7dQbHJKM4YVsQGGdwp0b8tbkhXTGAy0pITiwTfvOdziU9eQU2/HdEhHp85qc UVGQa8rBTasSjW40cAqyqj2Ls//uBQzlAeSsg= X-Google-DKIM-Signature: v=1; a=rsa-sha256; c=relaxed/relaxed; d=1e100.net; s=20230601; t=1760443647; x=1761048447; h=cc:to:from:subject:message-id:date:x-gm-message-state:from:to:cc :subject:date:message-id:reply-to; bh=5M5XlZ91ubhooj10ewAdBsZHx+PhHrmL87Xzdr9nwYo=; b=SpYl66447SU9ACO9bgRIK9A1YUhF+LyjAak5AIM5l2cLHRokllGqHfYURmA9YgrL/x 0pb+IOvIweJAiZPUjvrofuzBds/Vdnhc8bsPuxNGLA9/d5Gug3YwmXagtLYpxQbZviar bWL4uDUuIyLbFu/gi5UfFEHho0H7GMjM4nENKpGoj5kKqAAWAEniLMufsB3DP4sovbk4 WTlqgrXWnhYcNPewXEJBmEXvvYlUU43yBjSgn3H9A0AzkCATuTd8am47WNLBrL9GOWV6 rKDjmF8J9KWio0lDqSQWcCEyD+LwdoC3R59Wtqx8iAopDe9/JYftur/3Ji4xd7VlLvXq Q9pw== X-Gm-Message-State: AOJu0Ywzu4kBHHxjLBSfi1bnjX/Dman9hw9fne9VhRKvf5l0I6stkHMv G4kM6BEZoWOBUF6uqvm1LmuOnw9KSxfkcu2Gh6sR/NH/QohYnLN+SrSb2qIKKoAQwkP6icgCMU2 z6IfUoFmM6W57QDzThVdDuHsPTWSMCRpL4y4Snb91/WjYvBFmM2fAUzhaXPJG X-Gm-Gg: ASbGncu5gwqY+rsZbSaSTC9qjIwpclNt95o348YX75SZ8VcZ7PiKbS/bZIOurz7VvQ0 A8RBsuAkrIu5fBBl2612UUiZLp+ylMiqmUw0koZe2lu+g+OeRebZUIz5Xoi5t2MbNWT85ACBlWZ SXVJv24C8OlgWjGxQ9iTbgfp3I9nJMzfad0Pb9bF3mgLB9PQ7hDfqr97xspdZNK1iYo86KdPQl2 a4xMDdl/adaJuTKXa5QeRlumtwKpFhHF9MqbYicTpT+PBVNAf69Jg8t28Gc145IFcWpkurqGkQc T+TxPFd+AMhJchNZxCUzbvQ+sjB1PAtn7PGHmrTW9k/w4TD8BA== X-Google-Smtp-Source: AGHT+IG+xDqTp1egMQauZ/FY4xpQP7/JNZ+R9BLiySJQQWXZsig/r9XJ0/8VTkm0SkrULiprT4yEwZufjSFz X-Received: by 2002:a05:6214:ac4:b0:798:acd7:2a5 with SMTP id 6a1803df08f44-87b2ef93a09mr328680826d6.55.1760443646720; Tue, 14 Oct 2025 05:07:26 -0700 (PDT) Received: from postal.iol.unh.edu (postal.iol.unh.edu. [2606:4100:3880:1234::84]) by smtp-relay.gmail.com with ESMTPS id 6a1803df08f44-87bce4c7d86sm8723186d6.18.2025.10.14.05.07.26 (version=TLS1_2 cipher=ECDHE-ECDSA-AES128-GCM-SHA256 bits=128/128); Tue, 14 Oct 2025 05:07:26 -0700 (PDT) X-Relaying-Domain: iol.unh.edu Date: Tue, 14 Oct 2025 05:07:26 -0700 (PDT) Message-ID: <68ee3cfe.050a0220.3bcfc5.aa41SMTPIN_ADDED_MISSING@mx.google.com> Received: from [172.21.0.2] (unknown [172.18.0.240]) by postal.iol.unh.edu (Postfix) with ESMTP id 6D9236051830; Tue, 14 Oct 2025 08:07:26 -0400 (EDT) Subject: |SUCCESS| [GIT MASTER] b26049c00e3c452cb446d688a43c6c7eebbee32e From: dpdklab@iol.unh.edu To: Test Report Cc: dpdk-test-reports@iol.unh.edu, Bruce Richardson Content-Type: text/plain X-BeenThere: test-report@dpdk.org X-Mailman-Version: 2.1.29 Precedence: list List-Id: automatic DPDK test reports List-Unsubscribe: , List-Archive: List-Post: List-Help: List-Subscribe: , Errors-To: test-report-bounces@dpdk.org _Testing PASS_ Branch: dpdk-next-net-intel b26049c00e3c452cb446d688a43c6c7eebbee32e --> testing pass Upstream job id: Generic-Unit-Test-DPDK#381278 Test environment and result as below: +-------------------------------+----------------+ | Environment | dpdk_unit_test | +===============================+================+ | CentOS Stream 9 | PASS | +-------------------------------+----------------+ | CentOS Stream 10 | PASS | +-------------------------------+----------------+ | Debian GNU/Linux 12 | PASS | +-------------------------------+----------------+ | Fedora Linux 40 | PASS | +-------------------------------+----------------+ | Fedora Linux 41 | PASS | +-------------------------------+----------------+ | Ubuntu 20.04 | PASS | +-------------------------------+----------------+ | Fedora Linux 42 | PASS | +-------------------------------+----------------+ | Red Hat Enterprise Linux 8.10 | PASS | +-------------------------------+----------------+ | Red Hat Enterprise Linux 9.5 | PASS | +-------------------------------+----------------+ | Ubuntu 22.04 | PASS | +-------------------------------+----------------+ | Ubuntu 24.04 | PASS | +-------------------------------+----------------+ CentOS Stream 9 Kernel: 5.15 Compiler: gcc gcc (GCC) 11.5.0 20240719 (Red Hat 11.5.0-11) CentOS Stream 10 Kernel: 5.15 Compiler: gcc gcc (GCC) 14.2.1 20250110 (Red Hat 14.2.1-8) Debian GNU/Linux 12 Kernel: 5.15 Compiler: gcc gcc (Debian 12.2.0-14+deb12u1) 12.2.0 Fedora Linux 40 Kernel: 5.15 Compiler: gcc gcc (GCC) 14.2.1 20240912 (Red Hat 14.2.1-3) Fedora Linux 41 Kernel: 5.15 Compiler: gcc gcc (GCC) 14.3.1 20250523 (Red Hat 14.3.1-1) Ubuntu 20.04 Kernel: 5.15 Compiler: gcc gcc (Ubuntu 9.4.0-1ubuntu1~20.04.2) 9.4.0 Fedora Linux 42 Kernel: 5.15 Compiler: clang gcc (GCC) 15.2.1 20250808 (Red Hat 15.2.1-1) Red Hat Enterprise Linux 8.10 Kernel: 5.15 Compiler: gcc gcc (GCC) 8.5.0 20210514 (Red Hat 8.5.0-22) Red Hat Enterprise Linux 9.5 Kernel: 5.15 Compiler: gcc gcc (GCC) 11.5.0 20240719 (Red Hat 11.5.0-2) Ubuntu 22.04 Kernel: 5.15 Compiler: gcc gcc (Ubuntu 11.4.0-1ubuntu1~22.04) 11.4.0 Ubuntu 24.04 Kernel: 5.15 Compiler: gcc gcc (Ubuntu 13.3.0-6ubuntu2~24.04) 13.3.0 To view detailed results, visit: https://lab.dpdk.org/results/dashboard/tarballs/35203/ UNH-IOL DPDK Community Lab To manage your email subscriptions, visit: https://lab.dpdk.org/results/dashboard/preferences/subscriptions/