From mboxrd@z Thu Jan 1 00:00:00 1970 Return-Path: Received: from mails.dpdk.org (mails.dpdk.org [217.70.189.124]) by inbox.dpdk.org (Postfix) with ESMTP id 140AB48935 for ; Tue, 14 Oct 2025 14:19:28 +0200 (CEST) Received: from mails.dpdk.org (localhost [127.0.0.1]) by mails.dpdk.org (Postfix) with ESMTP id E1AD5402AE; Tue, 14 Oct 2025 14:19:27 +0200 (CEST) Received: from mail-pl1-f226.google.com (mail-pl1-f226.google.com [209.85.214.226]) by mails.dpdk.org (Postfix) with ESMTP id B3DF0402AE for ; Tue, 14 Oct 2025 14:19:26 +0200 (CEST) Received: by mail-pl1-f226.google.com with SMTP id d9443c01a7336-279e2554b5fso40237325ad.1 for ; Tue, 14 Oct 2025 05:19:26 -0700 (PDT) DKIM-Signature: v=1; a=rsa-sha256; c=relaxed/relaxed; d=iol.unh.edu; s=unh-iol; t=1760444366; x=1761049166; darn=dpdk.org; h=cc:to:from:subject:message-id:date:from:to:cc:subject:date :message-id:reply-to; bh=v148NIRO2MP3B5+c6T2nEh+cu6NeStN1ZOECXhRxvl4=; b=MJvjJEdjzJQXzhQPAPKE8KoWlEsvYFXK6olzNpFzklmI2AvfPvH7P9Now9MsQoiq/6 TmEoygLl3cL7vMEBBk64SZ1foxHRohcXL24SLTEt9H3bLKTofyFiVF7GxqhJ2N8jzf+D T6Mna7/XJ/PBS//vT0MOWfPxvv5st3tgZQDgA= X-Google-DKIM-Signature: v=1; a=rsa-sha256; c=relaxed/relaxed; d=1e100.net; s=20230601; t=1760444366; x=1761049166; h=cc:to:from:subject:message-id:date:x-gm-message-state:from:to:cc :subject:date:message-id:reply-to; bh=v148NIRO2MP3B5+c6T2nEh+cu6NeStN1ZOECXhRxvl4=; b=Uo48E1Fb+AKx3of8RCZHWMqo4sTRusJLAS0U7NTYvY8FPqSexP/Ge+NG/AzHVH3md0 s5Amm31ivx5EqnxIwgOg/deDZW2tDvRZlGb0qhgIOUxazkUAiYDGaMjRzfIv704PYYxU OL4L6YEipPn3ayboiWSGF1Zqnkcc9jK6747SpBM+3PKi7QJJTayY9F5a+vn2alWz+KCI myvUMqw81L6+Phct539nFKl9oAH/x6ITigFn4ZDUfoYOLlNTYosehNtsGyNGdPuoRNp7 GmBV1x1dd8vnlvsVnhccRIpViDnuBXaY9n3jUoosRzSJD3CmUyjOGq3deNUYokQiJ0br nldQ== X-Gm-Message-State: AOJu0YyW8Hye7GjN6iTyvIc47b6BVXLMyDsHW4qK2RQV1LXtWs2IRPi8 byNdjl6uqZww/8Bg4nzzhkJAUe4CUdftmGtlohKkAwJyOabp4wgzSRqE7KiPalFbF3GzubOU/XU RrNZkBGAvGkRzZlH6U8JFzDukFHJW1Ts8TjOvciP/3hPKsMfw7T5DrYnjBgPO X-Gm-Gg: ASbGnct/KCzuzXhCoYaKZX2NwAGE1hySvyzR1hecUAzI9D2RKFPCRLRH3Uo3XM2yBIv foac4xNPhbLw6pEQuhWexnIUTWU/rt8uSrssFXlHHkBs+KwvhZfuqwnhDdLruYeGv6gt/9GV6Eg Fg7FMBo0NTpANGTLIGwxRyPusRajir5ZRbWzjwfrmD2xVPMfmu7vWzaCCEs0nl0w7zDRKkI8ryY WyumGcgpkFBePrzdcY3tg3gsedV8L7YqSdBq1VgsKLsqf5waWoJ5P/8mhlZPZdHXqVjW8M+qUaB No6Dj9m86slv4rgjSX/Rh3yhk74XaGt/P6rXu2uWVlgba2c+cA== X-Google-Smtp-Source: AGHT+IGr0GM+yRhmmCRQC4rj4A5mFuIoDzdHhtR/WFAnC0qhNGkwSP1S8QJ4RPHAEgsGpmHjLf4O7gpgEv4u X-Received: by 2002:a17:902:f691:b0:267:cdc1:83e with SMTP id d9443c01a7336-28ec9c975a0mr398655805ad.15.1760444364418; Tue, 14 Oct 2025 05:19:24 -0700 (PDT) Received: from postal.iol.unh.edu (postal.iol.unh.edu. [2606:4100:3880:1234::84]) by smtp-relay.gmail.com with ESMTPS id d9443c01a7336-29040e07c83sm10476315ad.64.2025.10.14.05.19.24 (version=TLS1_2 cipher=ECDHE-ECDSA-AES128-GCM-SHA256 bits=128/128); Tue, 14 Oct 2025 05:19:24 -0700 (PDT) X-Relaying-Domain: iol.unh.edu Date: Tue, 14 Oct 2025 05:19:24 -0700 (PDT) Message-ID: <68ee3fcc.170a0220.2e0559.43bdSMTPIN_ADDED_MISSING@mx.google.com> Received: from [172.21.0.2] (unknown [172.18.0.240]) by postal.iol.unh.edu (Postfix) with ESMTP id CB6536051830; Tue, 14 Oct 2025 08:19:23 -0400 (EDT) Subject: |SUCCESS| [GIT MASTER] b26049c00e3c452cb446d688a43c6c7eebbee32e From: dpdklab@iol.unh.edu To: Test Report Cc: dpdk-test-reports@iol.unh.edu, Bruce Richardson Content-Type: text/plain X-BeenThere: test-report@dpdk.org X-Mailman-Version: 2.1.29 Precedence: list List-Id: automatic DPDK test reports List-Unsubscribe: , List-Archive: List-Post: List-Help: List-Subscribe: , Errors-To: test-report-bounces@dpdk.org _Testing PASS_ Branch: dpdk-next-net-intel b26049c00e3c452cb446d688a43c6c7eebbee32e --> testing pass Upstream job id: Generic-DPDK-Compile-Meson#434118 Test environment and result as below: +-------------------------------+--------------------+-------------------+------------------+ | Environment | dpdk_meson_compile | dpdk_compile_spdk | dpdk_compile_ovs | +===============================+====================+===================+==================+ | CentOS Stream 9 | PASS | PASS | SKIPPED | +-------------------------------+--------------------+-------------------+------------------+ | CentOS Stream 10 | PASS | SKIPPED | SKIPPED | +-------------------------------+--------------------+-------------------+------------------+ | Debian GNU/Linux 12 | PASS | PASS | SKIPPED | +-------------------------------+--------------------+-------------------+------------------+ | Ubuntu 20.04 | PASS | SKIPPED | SKIPPED | +-------------------------------+--------------------+-------------------+------------------+ | Fedora Linux 42 | PASS | PASS | PASS | +-------------------------------+--------------------+-------------------+------------------+ | Red Hat Enterprise Linux 9.5 | PASS | SKIPPED | SKIPPED | +-------------------------------+--------------------+-------------------+------------------+ | Red Hat Enterprise Linux 8.10 | PASS | SKIPPED | SKIPPED | +-------------------------------+--------------------+-------------------+------------------+ | openSUSE Leap 15.6 | PASS | SKIPPED | SKIPPED | +-------------------------------+--------------------+-------------------+------------------+ | Ubuntu 24.04 | PASS | PASS | PASS | +-------------------------------+--------------------+-------------------+------------------+ | Ubuntu 22.04 | PASS | PASS | SKIPPED | +-------------------------------+--------------------+-------------------+------------------+ | Alpine Linux 3.22.0 | PASS | SKIPPED | SKIPPED | +-------------------------------+--------------------+-------------------+------------------+ | FreeBSD 14.2 | PASS | SKIPPED | SKIPPED | +-------------------------------+--------------------+-------------------+------------------+ CentOS Stream 9 Kernel: 5.15 Compiler: gcc gcc (GCC) 11.5.0 20240719 (Red Hat 11.5.0-11) CentOS Stream 10 Kernel: 5.15 Compiler: gcc gcc (GCC) 14.2.1 20250110 (Red Hat 14.2.1-8) Debian GNU/Linux 12 Kernel: 5.15 Compiler: gcc gcc (Debian 12.2.0-14+deb12u1) 12.2.0 Ubuntu 20.04 Kernel: 4.19 Compiler: gcc gcc (Ubuntu 9.4.0-1ubuntu1~20.04.2) 9.4.0 Fedora Linux 42 Kernel: 5.15 Compiler: clang gcc (GCC) 15.2.1 20250808 (Red Hat 15.2.1-1) Red Hat Enterprise Linux 9.5 Kernel: 5.15 Compiler: gcc gcc (GCC) 11.5.0 20240719 (Red Hat 11.5.0-2) Red Hat Enterprise Linux 8.10 Kernel: 5.15 Compiler: gcc gcc (GCC) 8.5.0 20210514 (Red Hat 8.5.0-22) openSUSE Leap 15.6 Kernel: 5.15 Compiler: gcc gcc (SUSE Linux) 7.5.0 Ubuntu 24.04 Kernel: 5.15 Compiler: gcc gcc (Ubuntu 13.3.0-6ubuntu2~24.04) 13.3.0 Ubuntu 22.04 Kernel: 5.15 Compiler: gcc gcc (Ubuntu 11.4.0-1ubuntu1~22.04) 11.4.0 Alpine Linux 3.22.0 Kernel: 5.15 Compiler: gcc gcc (Alpine 14.2.0) 14.2.0 FreeBSD 14.2 Kernel: 14.2-RELEASE Compiler: clang 18.1.6 To view detailed results, visit: https://lab.dpdk.org/results/dashboard/tarballs/35203/ UNH-IOL DPDK Community Lab To manage your email subscriptions, visit: https://lab.dpdk.org/results/dashboard/preferences/subscriptions/