From mboxrd@z Thu Jan 1 00:00:00 1970 Return-Path: Received: from mails.dpdk.org (mails.dpdk.org [217.70.189.124]) by inbox.dpdk.org (Postfix) with ESMTP id 1A14448935 for ; Tue, 14 Oct 2025 14:33:50 +0200 (CEST) Received: from mails.dpdk.org (localhost [127.0.0.1]) by mails.dpdk.org (Postfix) with ESMTP id 1261C40288; Tue, 14 Oct 2025 14:33:50 +0200 (CEST) Received: from mail-pl1-f228.google.com (mail-pl1-f228.google.com [209.85.214.228]) by mails.dpdk.org (Postfix) with ESMTP id 929A940288 for ; Tue, 14 Oct 2025 14:33:48 +0200 (CEST) Received: by mail-pl1-f228.google.com with SMTP id d9443c01a7336-26e68904f0eso54215455ad.0 for ; Tue, 14 Oct 2025 05:33:48 -0700 (PDT) DKIM-Signature: v=1; a=rsa-sha256; c=relaxed/relaxed; d=iol.unh.edu; s=unh-iol; t=1760445228; x=1761050028; darn=dpdk.org; h=references:in-reply-to:cc:to:from:subject:message-id:date:from:to :cc:subject:date:message-id:reply-to; bh=dBwF+EhyVixv5W2CMeAgtmfT+p/x4PJq1X+aMvHPQ+c=; b=IB+MkkOcjh9XfjSNbtNPRqQyYT7TGlkNDnjm4vJncfJ3I6A3WK/bI2dX/mWRHC0S0+ uMbpjepzwK2J3vxzcH2vY3ot45fmlQZYnte3XSvqD6hhpIV+FpEnCb4EvtF0AbgW130C rTSO1H/DF74uZIh0SEzLWEd12KHwlpMz1qVVQ= X-Google-DKIM-Signature: v=1; a=rsa-sha256; c=relaxed/relaxed; d=1e100.net; s=20230601; t=1760445228; x=1761050028; h=references:in-reply-to:cc:to:from:subject:message-id:date :x-gm-message-state:from:to:cc:subject:date:message-id:reply-to; bh=dBwF+EhyVixv5W2CMeAgtmfT+p/x4PJq1X+aMvHPQ+c=; b=qQklK1Wsh8/JKSBvQ8zSQXTYSX/8pryNYXMGhNv8dnFWEh/jKUkICheGf/5kFCTOD0 lzBDVyb2FAqh3UY0k/xnxAYmM6Tzqxr1eyhjf3N1L0LZob2VsGJrOTYnLhEKdXu1z7Jl mBux53nncNZlW1avQNmckVVaxd3FEZLGD2BMhYTsZZpWCJXMUWozupcpOd9P8PK4wafn lHqaU4TgESZfN8EtkyonBHmUWtiSi7sDK0A2n1Txy61WRigD9KC4Cb+LVP90g9lfIm0C c9rv6+yGUHZ/UHXT0K9q+hGUCWnp3w9LkETNkqvG/Y17uUaz1AbALpAJZNswYQDVCtYA 4uVA== X-Gm-Message-State: AOJu0YywuriikqLnRdu3OYKHCILHzrrv3NLlSuHq4enEIF/0fnqg1jne 1wa5uyGJf2RsM2vqfnidQZeTXhEG3iFPjiJwpxbbNsRwRHfrz+f+9LLW9jbgjuUc407QanzakN8 meXuO63nhwc3Oj5cyr2AAP2505LjWvec4SA8GLkpNJqBt X-Gm-Gg: ASbGncuuHnNTbAK5fDkVPzlKrV76ISiif6Eiv/bWZL1O5/8585HJESVnAURjotXdqta EJrHLYzQhmAbWoc3l/iMRs2eJU5ZjKA4xUXMUfJPEM7ttBRleHoFyisDbhgEpE7qJ5/9dBkZkpZ NMzwl12XYOfiIccnswphLWyOf7VBqPGZnbkeE70GCDJBdz2TqFZxeLJOvomA9uYITYNwyzz3YHV bT4zSkyK1O0vz9mFQOObM4TlQVYyxXKM/rkDeCDGmKNTC69kc4HL3wADTjIUxHiWfN5muHuoEAb 1fzWvHDNa/zvnQcNZtor5IzeHDzznJ9/p8OSGNI//DNRHWZNxYH9E/ARQwspK0tWDSfzqVKV X-Google-Smtp-Source: AGHT+IF4mEzgkvbdDCPF8TxJkO9F2L4TEhmUHD7oxb4VaNzVpy9LLuKP0QOARpINiu2rPc8dKV2QdoIEH2Cm X-Received: by 2002:a17:903:2350:b0:267:ba53:8bd3 with SMTP id d9443c01a7336-290272b6070mr298732895ad.28.1760445227272; Tue, 14 Oct 2025 05:33:47 -0700 (PDT) Received: from postal.iol.unh.edu (postal.iol.unh.edu. [132.177.123.84]) by smtp-relay.gmail.com with ESMTPS id d9443c01a7336-29034eed20dsm13735005ad.45.2025.10.14.05.33.47 (version=TLS1_2 cipher=ECDHE-ECDSA-AES128-GCM-SHA256 bits=128/128); Tue, 14 Oct 2025 05:33:47 -0700 (PDT) X-Relaying-Domain: iol.unh.edu Date: Tue, 14 Oct 2025 05:33:47 -0700 (PDT) Message-ID: <68ee432b.170a0220.105a8d.4ab5SMTPIN_ADDED_MISSING@mx.google.com> Received: from [172.21.0.2] (unknown [172.18.0.240]) by postal.iol.unh.edu (Postfix) with ESMTP id 8CA4E6051830; Tue, 14 Oct 2025 08:33:46 -0400 (EDT) Subject: |SUCCESS| pw157562-157563 [PATCH] [v7,2/2] net/cpfl: added CPFL devI From: dpdklab@iol.unh.edu To: Test Report Cc: dpdk-test-reports@iol.unh.edu, Bruce Richardson In-Reply-To: <20251014104511.459215-3-venkatesh.vemula@intel.com> References: <20251014104511.459215-3-venkatesh.vemula@intel.com> Content-Type: text/plain X-BeenThere: test-report@dpdk.org X-Mailman-Version: 2.1.29 Precedence: list List-Id: automatic DPDK test reports List-Unsubscribe: , List-Archive: List-Post: List-Help: List-Subscribe: , Errors-To: test-report-bounces@dpdk.org Test-Label: iol-unit-amd64-testing Test-Status: SUCCESS http://dpdk.org/patch/157563 _Testing PASS_ Submitter: Venkatesh Vemula Date: Tuesday, October 14 2025 10:45:11 DPDK git baseline: Repo:dpdk-next-net-intel Branch: master CommitID:b26049c00e3c452cb446d688a43c6c7eebbee32e 157562-157563 --> testing pass Upstream job id: Generic-Unit-Test-DPDK#381299 Test environment and result as below: +-------------------------------+----------------+ | Environment | dpdk_unit_test | +===============================+================+ | CentOS Stream 9 | PASS | +-------------------------------+----------------+ | CentOS Stream 10 | PASS | +-------------------------------+----------------+ | Fedora Linux 40 | PASS | +-------------------------------+----------------+ | Debian GNU/Linux 12 | PASS | +-------------------------------+----------------+ | Fedora Linux 42 | PASS | +-------------------------------+----------------+ | Fedora Linux 41 | PASS | +-------------------------------+----------------+ | Ubuntu 24.04 | PASS | +-------------------------------+----------------+ | Ubuntu 20.04 | PASS | +-------------------------------+----------------+ | Red Hat Enterprise Linux 8.10 | PASS | +-------------------------------+----------------+ | Red Hat Enterprise Linux 9.5 | PASS | +-------------------------------+----------------+ | Ubuntu 22.04 | PASS | +-------------------------------+----------------+ CentOS Stream 9 Kernel: 5.15 Compiler: gcc gcc (GCC) 11.5.0 20240719 (Red Hat 11.5.0-11) CentOS Stream 10 Kernel: 5.15 Compiler: gcc gcc (GCC) 14.2.1 20250110 (Red Hat 14.2.1-8) Fedora Linux 40 Kernel: 5.15 Compiler: clang gcc (GCC) 14.2.1 20240912 (Red Hat 14.2.1-3) Debian GNU/Linux 12 Kernel: 5.15 Compiler: gcc gcc (Debian 12.2.0-14+deb12u1) 12.2.0 Fedora Linux 42 Kernel: 5.15 Compiler: gcc gcc (GCC) 15.2.1 20250808 (Red Hat 15.2.1-1) Fedora Linux 41 Kernel: 5.15 Compiler: clang gcc (GCC) 14.3.1 20250523 (Red Hat 14.3.1-1) Ubuntu 24.04 Kernel: 5.15 Compiler: gcc gcc (Ubuntu 13.3.0-6ubuntu2~24.04) 13.3.0 Ubuntu 20.04 Kernel: 5.15 Compiler: gcc gcc (Ubuntu 9.4.0-1ubuntu1~20.04.2) 9.4.0 Red Hat Enterprise Linux 8.10 Kernel: 5.15 Compiler: gcc gcc (GCC) 8.5.0 20210514 (Red Hat 8.5.0-22) Red Hat Enterprise Linux 9.5 Kernel: 5.15 Compiler: gcc gcc (GCC) 11.5.0 20240719 (Red Hat 11.5.0-2) Ubuntu 22.04 Kernel: 5.15 Compiler: gcc gcc (Ubuntu 11.4.0-1ubuntu1~22.04) 11.4.0 To view detailed results, visit: https://lab.dpdk.org/results/dashboard/patchsets/34275/ UNH-IOL DPDK Community Lab To manage your email subscriptions, visit: https://lab.dpdk.org/results/dashboard/preferences/subscriptions/