From mboxrd@z Thu Jan 1 00:00:00 1970 Return-Path: Received: from mails.dpdk.org (mails.dpdk.org [217.70.189.124]) by inbox.dpdk.org (Postfix) with ESMTP id A8ADD48935 for ; Tue, 14 Oct 2025 14:39:38 +0200 (CEST) Received: from mails.dpdk.org (localhost [127.0.0.1]) by mails.dpdk.org (Postfix) with ESMTP id 9E1FB402AE; Tue, 14 Oct 2025 14:39:38 +0200 (CEST) Received: from mail-pf1-f226.google.com (mail-pf1-f226.google.com [209.85.210.226]) by mails.dpdk.org (Postfix) with ESMTP id 9D113402AE for ; Tue, 14 Oct 2025 14:39:36 +0200 (CEST) Received: by mail-pf1-f226.google.com with SMTP id d2e1a72fcca58-781db5068b8so4208538b3a.0 for ; Tue, 14 Oct 2025 05:39:36 -0700 (PDT) DKIM-Signature: v=1; a=rsa-sha256; c=relaxed/relaxed; d=iol.unh.edu; s=unh-iol; t=1760445576; x=1761050376; darn=dpdk.org; h=references:in-reply-to:cc:to:from:subject:message-id:date:from:to :cc:subject:date:message-id:reply-to; bh=gBbxl7EvcPZh7QTIDvCmGf3cIOQYrYt33clyz4545r4=; b=E65eCE3je8m4qKCRpEVLeNd9TUkKx2YXUZUEtk9NZYp9h1BSOk57D9QjQV0ord+1lH 1SrERPZU/VCzBmrrWQg6wfpeAFca8Mv+0cI5Pj1c26V4rDhf+MpQQgDMv/EKHFMntG5C w9zm9d95e/MxwW09/M1zzwv0rkZDzCd25PzEs= X-Google-DKIM-Signature: v=1; a=rsa-sha256; c=relaxed/relaxed; d=1e100.net; s=20230601; t=1760445576; x=1761050376; h=references:in-reply-to:cc:to:from:subject:message-id:date :x-gm-message-state:from:to:cc:subject:date:message-id:reply-to; bh=gBbxl7EvcPZh7QTIDvCmGf3cIOQYrYt33clyz4545r4=; b=TlYsojNL9vSXR0BbrZYwuNOnPa4wjRFpfEV1LoQtmyuPMBq+mANKiPQOVimi5QTyDX 677I+stfO+CqiGn6qjWGQs14sk9PtNMacmnQMnYNpueskZMwLFD+wbzbDAfl1Sn9NhDD TFq2AhoAmwNpVeExJgEDdEULp0YjtdtpmJPSIJH88ppJfARuAVKwhstzfzueEGZGaTQp jzdcW3zYYX+q6jrpgaGgTBR40oC3LGSf4SfKwSkb0qK6Xq6u9M5eUAbUqJueOWknzs9Q XkSYG86IVxB945/zw/lpaL483UaeY3Q8U5WbxhlXA9BwV2wKXCtaMQloV02YZZnD8Tqa R5iQ== X-Gm-Message-State: AOJu0YyfISrLOTjPMSiSRVd3EKRn4ipleCfiEn8jR4TbBPuggnilOypW HLMuq7hBhXTPDM5gPpxWXAtSfQbmcmUPJGxZlB5Jw6o+pu9wRw4QBUasMGT2qCBxY9RC9jhGju/ t243wmHOEm6CzYmBTHsVm8C1VKXJNjMitan0T1i46WhNLDOVpg16RE2iQXaM0 X-Gm-Gg: ASbGnctt9oe+DTuxfG6jDgUcxz13zC+HptYR3u4t3OQU7rzieYp4Hvz3lKFDYHPSkw4 HI9c161UYj8YzdUSZCzgjJkjF0tK9YO5rQ8cYDwJ9C1PV2WZlqpbYGeOwlFOrgfX9bdaDTTFn7/ LynjQp68x0x3dK+fkzqDmFfYwI91ESq40hVjz63SKpokAewXPqzKkgahgK59NJvy1yXcR4RlUJl d36v8wCEq5+YEglFWR/irGjfTTnLnRK9wmc7oL4fqjqOf/v7n08K57tsetyaYmFoUo4ZERQqOrv GXl5yM9qNWM3hohicFDx6MqN+4f94RhPb+g+2gc6KFqoEm5vYg== X-Google-Smtp-Source: AGHT+IGrK7idk2mxmuENUMHEE9lhqVHq35tSUe7gUNDtuOT/H7YcwUwF4/qgBQj5PeD5+wluNq8Dgx5k5yde X-Received: by 2002:a05:6a00:14ca:b0:77f:472b:bc72 with SMTP id d2e1a72fcca58-793859f3347mr26023238b3a.3.1760445575743; Tue, 14 Oct 2025 05:39:35 -0700 (PDT) Received: from postal.iol.unh.edu (postal.iol.unh.edu. [2606:4100:3880:1234::84]) by smtp-relay.gmail.com with ESMTPS id d2e1a72fcca58-7993330e74bsm1085544b3a.8.2025.10.14.05.39.35 (version=TLS1_2 cipher=ECDHE-ECDSA-AES128-GCM-SHA256 bits=128/128); Tue, 14 Oct 2025 05:39:35 -0700 (PDT) X-Relaying-Domain: iol.unh.edu Date: Tue, 14 Oct 2025 05:39:35 -0700 (PDT) Message-ID: <68ee4487.050a0220.175d29.48f1SMTPIN_ADDED_MISSING@mx.google.com> Received: from [172.21.0.2] (unknown [172.18.0.240]) by postal.iol.unh.edu (Postfix) with ESMTP id 0784F6050A61; Tue, 14 Oct 2025 08:39:35 -0400 (EDT) Subject: |SUCCESS| pw157554-157556 [PATCH] [v4,3/3] bbdev: fix build with Min From: dpdklab@iol.unh.edu To: Test Report Cc: dpdk-test-reports@iol.unh.edu In-Reply-To: <20251014091528.936405-4-thomas@monjalon.net> References: <20251014091528.936405-4-thomas@monjalon.net> Content-Type: text/plain X-BeenThere: test-report@dpdk.org X-Mailman-Version: 2.1.29 Precedence: list List-Id: automatic DPDK test reports List-Unsubscribe: , List-Archive: List-Post: List-Help: List-Subscribe: , Errors-To: test-report-bounces@dpdk.org Test-Label: iol-compile-amd64-testing Test-Status: SUCCESS http://dpdk.org/patch/157556 _Testing PASS_ Submitter: Thomas Monjalon Date: Tuesday, October 14 2025 09:14:01 DPDK git baseline: Repo:dpdk Branch: master CommitID:2b403dd8fb37d0ba13723e44ffc7ee2c2795f838 157554-157556 --> testing pass Upstream job id: Windows-Compile-DPDK-VS#7188 Test environment and result as below: +-------------------------------+--------------------+-------------------+------------------+-------------------+ | Environment | dpdk_meson_compile | dpdk_compile_spdk | dpdk_compile_ovs | dpdk_msvc_compile | +===============================+====================+===================+==================+===================+ | CentOS Stream 9 | PASS | PASS | SKIPPED | SKIPPED | +-------------------------------+--------------------+-------------------+------------------+-------------------+ | CentOS Stream 10 | PASS | SKIPPED | SKIPPED | SKIPPED | +-------------------------------+--------------------+-------------------+------------------+-------------------+ | Debian GNU/Linux 12 | PASS | PASS | SKIPPED | SKIPPED | +-------------------------------+--------------------+-------------------+------------------+-------------------+ | Fedora Linux 42 | PASS | PASS | PASS | SKIPPED | +-------------------------------+--------------------+-------------------+------------------+-------------------+ | openSUSE Leap 15.6 | PASS | SKIPPED | SKIPPED | SKIPPED | +-------------------------------+--------------------+-------------------+------------------+-------------------+ | Red Hat Enterprise Linux 8.10 | PASS | SKIPPED | SKIPPED | SKIPPED | +-------------------------------+--------------------+-------------------+------------------+-------------------+ | Red Hat Enterprise Linux 9.5 | PASS | SKIPPED | SKIPPED | SKIPPED | +-------------------------------+--------------------+-------------------+------------------+-------------------+ | Ubuntu 20.04 | PASS | SKIPPED | SKIPPED | SKIPPED | +-------------------------------+--------------------+-------------------+------------------+-------------------+ | Ubuntu 22.04 | PASS | PASS | SKIPPED | SKIPPED | +-------------------------------+--------------------+-------------------+------------------+-------------------+ | Ubuntu 24.04 | PASS | PASS | PASS | SKIPPED | +-------------------------------+--------------------+-------------------+------------------+-------------------+ | Alpine Linux 3.22.0 | PASS | SKIPPED | SKIPPED | SKIPPED | +-------------------------------+--------------------+-------------------+------------------+-------------------+ | FreeBSD 14.2 | PASS | SKIPPED | SKIPPED | SKIPPED | +-------------------------------+--------------------+-------------------+------------------+-------------------+ | Windows Server 2022 | SKIPPED | SKIPPED | SKIPPED | PASS | +-------------------------------+--------------------+-------------------+------------------+-------------------+ CentOS Stream 9 Kernel: 5.15 Compiler: gcc gcc (GCC) 11.5.0 20240719 (Red Hat 11.5.0-11) CentOS Stream 10 Kernel: 5.15 Compiler: gcc gcc (GCC) 14.2.1 20250110 (Red Hat 14.2.1-8) Debian GNU/Linux 12 Kernel: 5.15 Compiler: gcc gcc (Debian 12.2.0-14+deb12u1) 12.2.0 Fedora Linux 42 Kernel: 5.15 Compiler: clang gcc (GCC) 15.2.1 20250808 (Red Hat 15.2.1-1) openSUSE Leap 15.6 Kernel: 5.15 Compiler: gcc gcc (SUSE Linux) 7.5.0 Red Hat Enterprise Linux 8.10 Kernel: 5.15 Compiler: gcc gcc (GCC) 8.5.0 20210514 (Red Hat 8.5.0-22) Red Hat Enterprise Linux 9.5 Kernel: 5.15 Compiler: gcc gcc (GCC) 11.5.0 20240719 (Red Hat 11.5.0-2) Ubuntu 20.04 Kernel: 5.15 Compiler: gcc gcc (Ubuntu 9.4.0-1ubuntu1~20.04.2) 9.4.0 Ubuntu 22.04 Kernel: 5.15 Compiler: gcc gcc (Ubuntu 11.4.0-1ubuntu1~22.04) 11.4.0 Ubuntu 24.04 Kernel: 5.15 Compiler: gcc gcc (Ubuntu 13.3.0-6ubuntu2~24.04) 13.3.0 Alpine Linux 3.22.0 Kernel: 5.15 Compiler: gcc gcc (Alpine 14.2.0) 14.2.0 FreeBSD 14.2 Kernel: 14.2-RELEASE Compiler: clang 18.1.6 Windows Server 2022 Kernel: 10.0.20348.2031 Compiler: clang 15.0.7, gcc 14.1.0 (MinGW), and MSVC VS 19.39.33521 To view detailed results, visit: https://lab.dpdk.org/results/dashboard/patchsets/34273/ UNH-IOL DPDK Community Lab To manage your email subscriptions, visit: https://lab.dpdk.org/results/dashboard/preferences/subscriptions/