From mboxrd@z Thu Jan 1 00:00:00 1970 Return-Path: Received: from mails.dpdk.org (mails.dpdk.org [217.70.189.124]) by inbox.dpdk.org (Postfix) with ESMTP id 0618248935 for ; Tue, 14 Oct 2025 14:44:33 +0200 (CEST) Received: from mails.dpdk.org (localhost [127.0.0.1]) by mails.dpdk.org (Postfix) with ESMTP id F3F5B40665; Tue, 14 Oct 2025 14:44:32 +0200 (CEST) Received: from mail-il1-f228.google.com (mail-il1-f228.google.com [209.85.166.228]) by mails.dpdk.org (Postfix) with ESMTP id AE00E40665 for ; Tue, 14 Oct 2025 14:44:31 +0200 (CEST) Received: by mail-il1-f228.google.com with SMTP id e9e14a558f8ab-42d857dcf92so19877525ab.1 for ; Tue, 14 Oct 2025 05:44:31 -0700 (PDT) DKIM-Signature: v=1; a=rsa-sha256; c=relaxed/relaxed; d=iol.unh.edu; s=unh-iol; t=1760445871; x=1761050671; darn=dpdk.org; h=references:in-reply-to:cc:to:from:subject:message-id:date:from:to :cc:subject:date:message-id:reply-to; bh=0LuUpG1V7PQKIu2iLvqK61MEw+FxN8YenM77On3y2hg=; b=Pipv9bXs05RFaa3yoY14qdk623l2ZyuTnIfjlnjHTg5HVWAD+KYgYuN3LtAuf70535 YGM3wyrpV9d9CR/y1esccLh+8KhHgEXj74I+b2iulTVskL/+o+/lbFEfdkYeha13dT+M s4CYnXLtiVty1+cDt61nExqjWY14f2SJXbcnQ= X-Google-DKIM-Signature: v=1; a=rsa-sha256; c=relaxed/relaxed; d=1e100.net; s=20230601; t=1760445871; x=1761050671; h=references:in-reply-to:cc:to:from:subject:message-id:date :x-gm-message-state:from:to:cc:subject:date:message-id:reply-to; bh=0LuUpG1V7PQKIu2iLvqK61MEw+FxN8YenM77On3y2hg=; b=jm1qS5lSjlN5yDNmBOoL3mWmh62oN3MUC94m/Bo9dzkHTu8KJd3nCFlXVLxArCmiqA UoQf17ye1AG4nMq+gxu8f1zEqqDCfPCYc5lJDJyEHcG4EW9RwF9ZA+kLK4YvhTKN8WUV okSLhb6DrG6XfOA3CQsmDoMmT57j6MMm3+6wNIJIETgfS/kTO8YavcVnw/rtOm1tehnR 4GLoMKnOwJ4iPOgbSzBc/Xi0O1WtE2U5gGwH+wp7nJytLA3LKVkTkNs/Gml0CN0dOMN1 EfxUw6Fo9CjNjnEnmAc2rwGEidM7xA5h5K+Z4bpx9jkHffGrDT2M7b3au2O8DoKSv4BC EMzw== X-Gm-Message-State: AOJu0YxX//O+9sFe3UVC1RJj4nrlNtX/IfyJtS3jMH4FN63BYMqBrixY hqdNe65XT9EUk4QOWF6N4yAkntGYuhBkHMOrs+H3nVCa3jlxVgAZT8adNFDm+bSbl455Jzv+Va0 wcwx9lMneYm694Qf8Wjnnw0D551FT0zBQ6QujxoYxIvfI X-Gm-Gg: ASbGncvUoRw8EUZAUk++tJ6k1eh0n88qkfspqAcP9IdONQdNOmgku/CLhei5BJLYlgE k2dkhxDRcgiccv6zLbr4+t3Lms6yMXLEASgEfMYr85c0mNW1dq1sHyqUV3umUR1HF0JWtHOu++f KEyg/3h2lrafHcRp6Qo4x83Aax1kGmYLEDFQkD+6WbEGm3tUVYFsT/+6DSo+1JRS6MyWSWsAMYR XUuN52WjoCA51Z5PazkPKt/7aml513XP6kQuYrv+6jUT8Ean8wyeheFTKuxsiJoERCZjGe/WbgK S4PgwGQMJ4QvQysdWs90KHUfVUge9eFVpUzLDG8DHyrh0RigxidAtAeVeNic1A5J6qvySlUk X-Google-Smtp-Source: AGHT+IHVueHNcLFQEt9UwXBJCh2pRuXJIdmTjqMs/WTm00kZtLCtROfqbuc47Tfv3gVXewu6bptjxenEQx+T X-Received: by 2002:a05:6e02:2144:b0:42f:6790:476c with SMTP id e9e14a558f8ab-42f8740712dmr261520385ab.23.1760445870843; Tue, 14 Oct 2025 05:44:30 -0700 (PDT) Received: from postal.iol.unh.edu (postal.iol.unh.edu. [132.177.123.84]) by smtp-relay.gmail.com with ESMTPS id 8926c6da1cb9f-58f71e1883asm1071328173.35.2025.10.14.05.44.30 (version=TLS1_2 cipher=ECDHE-ECDSA-AES128-GCM-SHA256 bits=128/128); Tue, 14 Oct 2025 05:44:30 -0700 (PDT) X-Relaying-Domain: iol.unh.edu Date: Tue, 14 Oct 2025 05:44:30 -0700 (PDT) Message-ID: <68ee45ae.050a0220.dfaea.593fSMTPIN_ADDED_MISSING@mx.google.com> Received: from [172.21.0.2] (unknown [172.18.0.240]) by postal.iol.unh.edu (Postfix) with ESMTP id 6B8866050A61; Tue, 14 Oct 2025 08:44:30 -0400 (EDT) Subject: |SUCCESS| pw157547 [PATCH] devtools: honor -n flag regardless of std From: dpdklab@iol.unh.edu To: Test Report Cc: dpdk-test-reports@iol.unh.edu In-Reply-To: <20251014074340.2364328-1-alialnu@nvidia.com> References: <20251014074340.2364328-1-alialnu@nvidia.com> Content-Type: text/plain X-BeenThere: test-report@dpdk.org X-Mailman-Version: 2.1.29 Precedence: list List-Id: automatic DPDK test reports List-Unsubscribe: , List-Archive: List-Post: List-Help: List-Subscribe: , Errors-To: test-report-bounces@dpdk.org Test-Label: iol-compile-amd64-testing Test-Status: SUCCESS http://dpdk.org/patch/157547 _Testing PASS_ Submitter: Ali Alnubani Date: Tuesday, October 14 2025 07:43:40 DPDK git baseline: Repo:dpdk Branch: master CommitID:2b403dd8fb37d0ba13723e44ffc7ee2c2795f838 157547 --> testing pass Upstream job id: Windows-Compile-DPDK-Native#31603 Test environment and result as below: +-------------------------------+--------------------+-------------------+------------------+-------------------+-------------------------+ | Environment | dpdk_meson_compile | dpdk_compile_spdk | dpdk_compile_ovs | dpdk_msvc_compile | dpdk_llvm_clang_compile | +===============================+====================+===================+==================+===================+=========================+ | Ubuntu 20.04 | PASS | SKIPPED | SKIPPED | SKIPPED | SKIPPED | +-------------------------------+--------------------+-------------------+------------------+-------------------+-------------------------+ | FreeBSD 14.2 | PASS | SKIPPED | SKIPPED | SKIPPED | SKIPPED | +-------------------------------+--------------------+-------------------+------------------+-------------------+-------------------------+ | CentOS Stream 9 | PASS | PASS | SKIPPED | SKIPPED | SKIPPED | +-------------------------------+--------------------+-------------------+------------------+-------------------+-------------------------+ | CentOS Stream 10 | PASS | SKIPPED | SKIPPED | SKIPPED | SKIPPED | +-------------------------------+--------------------+-------------------+------------------+-------------------+-------------------------+ | Debian GNU/Linux 12 | PASS | PASS | SKIPPED | SKIPPED | SKIPPED | +-------------------------------+--------------------+-------------------+------------------+-------------------+-------------------------+ | Red Hat Enterprise Linux 9.5 | PASS | SKIPPED | SKIPPED | SKIPPED | SKIPPED | +-------------------------------+--------------------+-------------------+------------------+-------------------+-------------------------+ | Fedora Linux 42 | PASS | PASS | PASS | SKIPPED | SKIPPED | +-------------------------------+--------------------+-------------------+------------------+-------------------+-------------------------+ | Red Hat Enterprise Linux 8.10 | PASS | SKIPPED | SKIPPED | SKIPPED | SKIPPED | +-------------------------------+--------------------+-------------------+------------------+-------------------+-------------------------+ | Ubuntu 22.04 | PASS | PASS | SKIPPED | SKIPPED | SKIPPED | +-------------------------------+--------------------+-------------------+------------------+-------------------+-------------------------+ | Ubuntu 24.04 | PASS | PASS | PASS | SKIPPED | SKIPPED | +-------------------------------+--------------------+-------------------+------------------+-------------------+-------------------------+ | Alpine Linux 3.22.0 | PASS | SKIPPED | SKIPPED | SKIPPED | SKIPPED | +-------------------------------+--------------------+-------------------+------------------+-------------------+-------------------------+ | openSUSE Leap 15.6 | PASS | SKIPPED | SKIPPED | SKIPPED | SKIPPED | +-------------------------------+--------------------+-------------------+------------------+-------------------+-------------------------+ | Windows Server 2022 | SKIPPED | SKIPPED | SKIPPED | PASS | PASS | +-------------------------------+--------------------+-------------------+------------------+-------------------+-------------------------+ Ubuntu 20.04 Kernel: 4.19 Compiler: gcc gcc (Ubuntu 9.4.0-1ubuntu1~20.04.2) 9.4.0 FreeBSD 14.2 Kernel: 14.2-RELEASE Compiler: clang 18.1.6 CentOS Stream 9 Kernel: 5.15 Compiler: gcc gcc (GCC) 11.5.0 20240719 (Red Hat 11.5.0-11) CentOS Stream 10 Kernel: 5.15 Compiler: gcc gcc (GCC) 14.2.1 20250110 (Red Hat 14.2.1-8) Debian GNU/Linux 12 Kernel: 5.15 Compiler: gcc gcc (Debian 12.2.0-14+deb12u1) 12.2.0 Red Hat Enterprise Linux 9.5 Kernel: 5.15 Compiler: gcc gcc (GCC) 11.5.0 20240719 (Red Hat 11.5.0-2) Fedora Linux 42 Kernel: 5.15 Compiler: clang gcc (GCC) 15.2.1 20250808 (Red Hat 15.2.1-1) Red Hat Enterprise Linux 8.10 Kernel: 5.15 Compiler: gcc gcc (GCC) 8.5.0 20210514 (Red Hat 8.5.0-22) Ubuntu 22.04 Kernel: 5.15 Compiler: gcc gcc (Ubuntu 11.4.0-1ubuntu1~22.04) 11.4.0 Ubuntu 24.04 Kernel: 5.15 Compiler: gcc gcc (Ubuntu 13.3.0-6ubuntu2~24.04) 13.3.0 Alpine Linux 3.22.0 Kernel: 5.15 Compiler: gcc gcc (Alpine 14.2.0) 14.2.0 openSUSE Leap 15.6 Kernel: 5.15 Compiler: gcc gcc (SUSE Linux) 7.5.0 Windows Server 2022 Kernel: 10.0.20348.2031 Compiler: clang 15.0.7, gcc 14.1.0 (MinGW), and MSVC VS 19.39.33521 To view detailed results, visit: https://lab.dpdk.org/results/dashboard/patchsets/34271/ UNH-IOL DPDK Community Lab To manage your email subscriptions, visit: https://lab.dpdk.org/results/dashboard/preferences/subscriptions/