From mboxrd@z Thu Jan 1 00:00:00 1970 Return-Path: Received: from mails.dpdk.org (mails.dpdk.org [217.70.189.124]) by inbox.dpdk.org (Postfix) with ESMTP id 59B1648935 for ; Tue, 14 Oct 2025 14:54:18 +0200 (CEST) Received: from mails.dpdk.org (localhost [127.0.0.1]) by mails.dpdk.org (Postfix) with ESMTP id 35FD4402A8; Tue, 14 Oct 2025 14:54:18 +0200 (CEST) Received: from mail-pj1-f99.google.com (mail-pj1-f99.google.com [209.85.216.99]) by mails.dpdk.org (Postfix) with ESMTP id 2B875402A8 for ; Tue, 14 Oct 2025 14:54:17 +0200 (CEST) Received: by mail-pj1-f99.google.com with SMTP id 98e67ed59e1d1-32eb45ab7a0so5693870a91.0 for ; Tue, 14 Oct 2025 05:54:17 -0700 (PDT) DKIM-Signature: v=1; a=rsa-sha256; c=relaxed/relaxed; d=iol.unh.edu; s=unh-iol; t=1760446456; x=1761051256; darn=dpdk.org; h=references:in-reply-to:cc:to:from:subject:message-id:date:from:to :cc:subject:date:message-id:reply-to; bh=y1ik9ebJIdOAXTMQhmqIKrVNVOrYKfMykKj2W2OLdUo=; b=WQsmerk5/oLW1cMKJ7Dou2hAbxC4S5SU2MaegBVOnaUkaWS3iPLDvEmnj0AssFgoJQ sQhe0m8fXVB1duVn5Ml6sk7nEGSODy8D92IR6JpITAH8x9BUDGYt2jPGKz8I+wGFjBaF PlnTWS1NxWjSSMtrFLDiZkVWnaBJIWsSBlynA= X-Google-DKIM-Signature: v=1; a=rsa-sha256; c=relaxed/relaxed; d=1e100.net; s=20230601; t=1760446456; x=1761051256; h=references:in-reply-to:cc:to:from:subject:message-id:date :x-gm-message-state:from:to:cc:subject:date:message-id:reply-to; bh=y1ik9ebJIdOAXTMQhmqIKrVNVOrYKfMykKj2W2OLdUo=; b=XzFw5eaepR66yk1y5kW+GaxLuDYWGP9yEH304/ebi+oOisLEKGw6fo9TLrCdAUufxf 83n+9z/zpqVtaKCP4g4tIjNIN+84Zgz/cAgjdD7uEh8GgeG2YfkubMGHz4sFdrxdTqdp mOhTy6mzOCmsJHY1NMxsmxZh48vcrPB2URuQ8uCWo/wbBgdX45f8kBDRg8AIt8Lrd4wt 07pObw/c53T03udkmjdNQAb2iCeAcN1edtL5QPVYbviWP+ErW3JdF/mOlBKVK5EDLEr6 6yUESGax6LAQG7pOtNzeqI8epaR8oBF4fBBMKcJxe41ITeQKAR0XwuTz5C30RR2F4sKH RRpA== X-Gm-Message-State: AOJu0YxrHmRgqiODW4u/hya/L4xjQZHGNEFnX/06DMWmFQksmRvzI6xO TLZ2VA/titLXD58MPKuOkXpB8SYLTpL+50JcSVW1bOVCdLK93gv3Ag8F+4FltNjm4zx0DCGLEYQ zh2nmB5pb1whcdE1UydEhVbmARGF7I0UR9EWJY332sGNr X-Gm-Gg: ASbGncsANQt7Ve8dSZfKLzoYT4OwUD9fejLafUlGMILz5Vu7i8p0YVjXGwjaB9AM7pU pV9wiLXQE9NCmMOfpwSS8k34hUp5JcwQPuBJMg5zyV1LS/z/3Jo2m83Ai75dP2QRZGV4cI+Z71g V4yuIXlzwXldlfnba6DyAxoIrGFNHF/0TtFQFOxyBz9RfgZBVv9/38H6aOD9Bm6sgRQqWTvaal7 omfLw4kDKq4+mdyPuK9PSSzlKtLDmMmfZ6xo/ORBQIzEaFfHiQGEIywqCZJZVTMxelniEO5hOhT XDGpxBjk3HzgQcSxsiz5iyOq+nEG+QQXJBJ450MeLZNWksJU1/o6F5h2JtcI/NZJm7TvzRS7 X-Google-Smtp-Source: AGHT+IHoOBFHanNbEkvsGvygRVr0xOKtNOmYd0Xlt+7Vbbn9GiD2rzUEvp9GSo7lH851T63J4zNxkBtcmqPo X-Received: by 2002:a17:90b:4b87:b0:32e:e5:a90a with SMTP id 98e67ed59e1d1-33b511497f3mr36323206a91.8.1760446456233; Tue, 14 Oct 2025 05:54:16 -0700 (PDT) Received: from postal.iol.unh.edu (postal.iol.unh.edu. [132.177.123.84]) by smtp-relay.gmail.com with ESMTPS id 98e67ed59e1d1-33b8ac44003sm233922a91.2.2025.10.14.05.54.16 (version=TLS1_2 cipher=ECDHE-ECDSA-AES128-GCM-SHA256 bits=128/128); Tue, 14 Oct 2025 05:54:16 -0700 (PDT) X-Relaying-Domain: iol.unh.edu Date: Tue, 14 Oct 2025 05:54:16 -0700 (PDT) Message-ID: <68ee47f8.170a0220.1c28f8.b73bSMTPIN_ADDED_MISSING@mx.google.com> Received: from [172.21.0.4] (unknown [172.18.0.240]) by postal.iol.unh.edu (Postfix) with ESMTP id 7DAA8604D420; Tue, 14 Oct 2025 08:54:15 -0400 (EDT) Subject: |SUCCESS| pw157554-157556 [PATCH] [v4,3/3] bbdev: fix build with Min From: dpdklab@iol.unh.edu To: Test Report Cc: dpdk-test-reports@iol.unh.edu In-Reply-To: <20251014091528.936405-4-thomas@monjalon.net> References: <20251014091528.936405-4-thomas@monjalon.net> Content-Type: text/plain X-BeenThere: test-report@dpdk.org X-Mailman-Version: 2.1.29 Precedence: list List-Id: automatic DPDK test reports List-Unsubscribe: , List-Archive: List-Post: List-Help: List-Subscribe: , Errors-To: test-report-bounces@dpdk.org Test-Label: iol-unit-amd64-testing Test-Status: SUCCESS http://dpdk.org/patch/157556 _Testing PASS_ Submitter: Thomas Monjalon Date: Tuesday, October 14 2025 09:14:01 DPDK git baseline: Repo:dpdk Branch: master CommitID:2b403dd8fb37d0ba13723e44ffc7ee2c2795f838 157554-157556 --> testing pass Upstream job id: Generic-VM-Unit-Test-DPDK#31778 Test environment and result as below: +-------------------------------+----------------+ | Environment | dpdk_unit_test | +===============================+================+ | CentOS Stream 9 | PASS | +-------------------------------+----------------+ | CentOS Stream 10 | PASS | +-------------------------------+----------------+ | Debian GNU/Linux 12 | PASS | +-------------------------------+----------------+ | Fedora Linux 40 | PASS | +-------------------------------+----------------+ | Fedora Linux 41 | PASS | +-------------------------------+----------------+ | Fedora Linux 42 | PASS | +-------------------------------+----------------+ | Ubuntu 20.04 | PASS | +-------------------------------+----------------+ | Ubuntu 22.04 | PASS | +-------------------------------+----------------+ | Red Hat Enterprise Linux 8.10 | PASS | +-------------------------------+----------------+ | Red Hat Enterprise Linux 9.5 | PASS | +-------------------------------+----------------+ | Ubuntu 24.04 | PASS | +-------------------------------+----------------+ | Windows Server 2022 | PASS | +-------------------------------+----------------+ CentOS Stream 9 Kernel: 5.15 Compiler: gcc gcc (GCC) 11.5.0 20240719 (Red Hat 11.5.0-11) CentOS Stream 10 Kernel: 5.15 Compiler: gcc gcc (GCC) 14.2.1 20250110 (Red Hat 14.2.1-8) Debian GNU/Linux 12 Kernel: 5.15 Compiler: gcc gcc (Debian 12.2.0-14+deb12u1) 12.2.0 Fedora Linux 40 Kernel: 5.15 Compiler: gcc gcc (GCC) 14.2.1 20240912 (Red Hat 14.2.1-3) Fedora Linux 41 Kernel: 5.15 Compiler: clang gcc (GCC) 14.3.1 20250523 (Red Hat 14.3.1-1) Fedora Linux 42 Kernel: 5.15 Compiler: clang gcc (GCC) 15.2.1 20250808 (Red Hat 15.2.1-1) Ubuntu 20.04 Kernel: 5.15 Compiler: gcc gcc (Ubuntu 9.4.0-1ubuntu1~20.04.2) 9.4.0 Ubuntu 22.04 Kernel: 5.15 Compiler: gcc gcc (Ubuntu 11.4.0-1ubuntu1~22.04) 11.4.0 Red Hat Enterprise Linux 8.10 Kernel: 5.15 Compiler: gcc gcc (GCC) 8.5.0 20210514 (Red Hat 8.5.0-22) Red Hat Enterprise Linux 9.5 Kernel: 5.15 Compiler: gcc gcc (GCC) 11.5.0 20240719 (Red Hat 11.5.0-2) Ubuntu 24.04 Kernel: 5.15 Compiler: gcc gcc (Ubuntu 13.3.0-6ubuntu2~24.04) 13.3.0 Windows Server 2022 Kernel: 10.0.20348.2031 Compiler: clang 15.0.7, gcc 14.1.0 (MinGW), and MSVC VS 19.39.33521 To view detailed results, visit: https://lab.dpdk.org/results/dashboard/patchsets/34273/ UNH-IOL DPDK Community Lab To manage your email subscriptions, visit: https://lab.dpdk.org/results/dashboard/preferences/subscriptions/