From mboxrd@z Thu Jan 1 00:00:00 1970 Return-Path: Received: from mails.dpdk.org (mails.dpdk.org [217.70.189.124]) by inbox.dpdk.org (Postfix) with ESMTP id 9E84148935 for ; Tue, 14 Oct 2025 14:54:30 +0200 (CEST) Received: from mails.dpdk.org (localhost [127.0.0.1]) by mails.dpdk.org (Postfix) with ESMTP id 99D6140672; Tue, 14 Oct 2025 14:54:30 +0200 (CEST) Received: from mail-pj1-f99.google.com (mail-pj1-f99.google.com [209.85.216.99]) by mails.dpdk.org (Postfix) with ESMTP id D3FC34069D for ; Tue, 14 Oct 2025 14:54:28 +0200 (CEST) Received: by mail-pj1-f99.google.com with SMTP id 98e67ed59e1d1-33082aed31dso5529048a91.3 for ; Tue, 14 Oct 2025 05:54:28 -0700 (PDT) DKIM-Signature: v=1; a=rsa-sha256; c=relaxed/relaxed; d=iol.unh.edu; s=unh-iol; t=1760446468; x=1761051268; darn=dpdk.org; h=references:in-reply-to:cc:to:from:subject:message-id:date:from:to :cc:subject:date:message-id:reply-to; bh=NEIC0ppp04cWvsEmxyxmQ9ixmPb+0eeI9Wt2TDt63+4=; b=ImzuRkaxdGlFR6rWinFh0lz/+nuJoNdPxf0/UEf2rHu3wDFI1RbQWRoxCI2cFWAWWy HnnWbw35PVbMzkJByBtp6C0MUxnd0sPHzdmoRdophv8rK7g0DcG6ATkoCEU5N4ZfkW0X fvC2CseeJG3Os7FliWtJ18Uo+lOI8T9ObqzPE= X-Google-DKIM-Signature: v=1; a=rsa-sha256; c=relaxed/relaxed; d=1e100.net; s=20230601; t=1760446468; x=1761051268; h=references:in-reply-to:cc:to:from:subject:message-id:date :x-gm-message-state:from:to:cc:subject:date:message-id:reply-to; bh=NEIC0ppp04cWvsEmxyxmQ9ixmPb+0eeI9Wt2TDt63+4=; b=EKBhZ1nczcYkGGjNaiGIB6ISWyiYKVY44IRPiEyoMicNrVGGAOUWp6LX9wigQZpRlp N+/pox/XnaBxOBXeQt2srEM3s2jcTYA41ON6E69mrw8fo3lFwtbAkfR/QlU09VwS9pY9 X1uk94RGEoOPJO/4KkhAzS4PHB0KBLA46O9YmMPDjQ07hvcwudLl4qwsR9n5EiVUf29U lJ6tqa8mTR6pAK7k0gmF3kq2MADFJa92dPUd/YHLzAiAWdtpyimiZmcT7GGyl30sP3M4 u6yZ3cdwQtakloEh6uhYkPsVxrSKENtla0Z4tBfTCa3SFx5q61a6CcUSbk7r72v9uR3g 6XzQ== X-Gm-Message-State: AOJu0YymZrgj81JxK9pcKcZNFMD8L5DAh0Wbc3Q8jm2i+vRA3iYjckR4 wTibJyT5Mh5GT4zBasvyOQgw2KHUgEMBDYzCtAxGFoIHJlx6JD/MpXwsfJI1S+YQzeM25UNTZkm TuF3mF+sSQfW5fzuzwmq5TaResR7QhVzfK4sFkL+pu7rR98UN/Z/b/uX+56p0 X-Gm-Gg: ASbGncttgQt3GMwzf+osgU7Gi0mcfbJbOpHrh2YZHCxCb1gfcODuByPFRTvpF4PkTrw 0sN/JuGok8C9opzp4cgeilOoDrR/1+ZJr78mOo4sqK+dQCVHYNYhccijv9o1CgEi3uLkmFp7oNV RB6fjLYjSuvhgUOG0ruZEQzVbtST2e/rCWeaNVkZI+ZAJwFDsp5G460FWaWZHxMf+oi3rynahH2 bvtFcbquOInl1JtK0jQo+ANosM7+ysKMmCADuv9cA3ozohHv+ZIJSSt9Pv5p2AJkxBMfE3BreUB s0B8KriVAE2TiJCJDyJ3gb6XOmm0QHols2eJ6ehSkuf2GkdZsQ== X-Google-Smtp-Source: AGHT+IHPqdWRgjm3HCjHueItPWIlPu3rMrNCwlvpYCsG4y9fCl6ATvTongyK48lD2q4/uaXmjaLeYK79ymOR X-Received: by 2002:a17:90b:4990:b0:338:3b73:39ce with SMTP id 98e67ed59e1d1-33b5138e3a7mr32964399a91.25.1760446468105; Tue, 14 Oct 2025 05:54:28 -0700 (PDT) Received: from postal.iol.unh.edu (postal.iol.unh.edu. [2606:4100:3880:1234::84]) by smtp-relay.gmail.com with ESMTPS id 41be03b00d2f7-b678df59072sm716810a12.14.2025.10.14.05.54.27 (version=TLS1_2 cipher=ECDHE-ECDSA-AES128-GCM-SHA256 bits=128/128); Tue, 14 Oct 2025 05:54:28 -0700 (PDT) X-Relaying-Domain: iol.unh.edu Date: Tue, 14 Oct 2025 05:54:28 -0700 (PDT) Message-ID: <68ee4804.630a0220.35ea0e.33ecSMTPIN_ADDED_MISSING@mx.google.com> Received: from [172.21.0.5] (unknown [172.18.0.240]) by postal.iol.unh.edu (Postfix) with ESMTP id 3BDB6604D420; Tue, 14 Oct 2025 08:54:27 -0400 (EDT) Subject: |SUCCESS| pw157562-157563 [PATCH] [v7,2/2] net/cpfl: added CPFL devI From: dpdklab@iol.unh.edu To: Test Report Cc: dpdk-test-reports@iol.unh.edu, Bruce Richardson In-Reply-To: <20251014104511.459215-3-venkatesh.vemula@intel.com> References: <20251014104511.459215-3-venkatesh.vemula@intel.com> Content-Type: text/plain X-BeenThere: test-report@dpdk.org X-Mailman-Version: 2.1.29 Precedence: list List-Id: automatic DPDK test reports List-Unsubscribe: , List-Archive: List-Post: List-Help: List-Subscribe: , Errors-To: test-report-bounces@dpdk.org Test-Label: iol-compile-amd64-testing Test-Status: SUCCESS http://dpdk.org/patch/157563 _Testing PASS_ Submitter: Venkatesh Vemula Date: Tuesday, October 14 2025 10:45:11 DPDK git baseline: Repo:dpdk-next-net-intel Branch: master CommitID:b26049c00e3c452cb446d688a43c6c7eebbee32e 157562-157563 --> testing pass Upstream job id: Generic-DPDK-Compile-Meson#434168 Test environment and result as below: +-------------------------------+--------------------+-------------------+------------------+ | Environment | dpdk_meson_compile | dpdk_compile_spdk | dpdk_compile_ovs | +===============================+====================+===================+==================+ | Ubuntu 20.04 | PASS | SKIPPED | SKIPPED | +-------------------------------+--------------------+-------------------+------------------+ | FreeBSD 14.2 | PASS | SKIPPED | SKIPPED | +-------------------------------+--------------------+-------------------+------------------+ | CentOS Stream 9 | PASS | PASS | SKIPPED | +-------------------------------+--------------------+-------------------+------------------+ | CentOS Stream 10 | PASS | SKIPPED | SKIPPED | +-------------------------------+--------------------+-------------------+------------------+ | Debian GNU/Linux 12 | PASS | PASS | SKIPPED | +-------------------------------+--------------------+-------------------+------------------+ | Fedora Linux 42 | PASS | PASS | PASS | +-------------------------------+--------------------+-------------------+------------------+ | openSUSE Leap 15.6 | PASS | SKIPPED | SKIPPED | +-------------------------------+--------------------+-------------------+------------------+ | Red Hat Enterprise Linux 8.10 | PASS | SKIPPED | SKIPPED | +-------------------------------+--------------------+-------------------+------------------+ | Red Hat Enterprise Linux 9.5 | PASS | SKIPPED | SKIPPED | +-------------------------------+--------------------+-------------------+------------------+ | Ubuntu 22.04 | PASS | PASS | SKIPPED | +-------------------------------+--------------------+-------------------+------------------+ | Ubuntu 24.04 | PASS | PASS | PASS | +-------------------------------+--------------------+-------------------+------------------+ | Alpine Linux 3.22.0 | PASS | SKIPPED | SKIPPED | +-------------------------------+--------------------+-------------------+------------------+ Ubuntu 20.04 Kernel: 4.19 Compiler: gcc gcc (Ubuntu 9.4.0-1ubuntu1~20.04.2) 9.4.0 FreeBSD 14.2 Kernel: 14.2-RELEASE Compiler: clang 18.1.6 CentOS Stream 9 Kernel: 5.15 Compiler: gcc gcc (GCC) 11.5.0 20240719 (Red Hat 11.5.0-11) CentOS Stream 10 Kernel: 5.15 Compiler: gcc gcc (GCC) 14.2.1 20250110 (Red Hat 14.2.1-8) Debian GNU/Linux 12 Kernel: 5.15 Compiler: gcc gcc (Debian 12.2.0-14+deb12u1) 12.2.0 Fedora Linux 42 Kernel: 5.15 Compiler: clang gcc (GCC) 15.2.1 20250808 (Red Hat 15.2.1-1) openSUSE Leap 15.6 Kernel: 5.15 Compiler: gcc gcc (SUSE Linux) 7.5.0 Red Hat Enterprise Linux 8.10 Kernel: 5.15 Compiler: gcc gcc (GCC) 8.5.0 20210514 (Red Hat 8.5.0-22) Red Hat Enterprise Linux 9.5 Kernel: 5.15 Compiler: gcc gcc (GCC) 11.5.0 20240719 (Red Hat 11.5.0-2) Ubuntu 22.04 Kernel: 5.15 Compiler: gcc gcc (Ubuntu 11.4.0-1ubuntu1~22.04) 11.4.0 Ubuntu 24.04 Kernel: 5.15 Compiler: gcc gcc (Ubuntu 13.3.0-6ubuntu2~24.04) 13.3.0 Alpine Linux 3.22.0 Kernel: 5.15 Compiler: gcc gcc (Alpine 14.2.0) 14.2.0 To view detailed results, visit: https://lab.dpdk.org/results/dashboard/patchsets/34275/ UNH-IOL DPDK Community Lab To manage your email subscriptions, visit: https://lab.dpdk.org/results/dashboard/preferences/subscriptions/