From mboxrd@z Thu Jan 1 00:00:00 1970 Return-Path: Received: from mails.dpdk.org (mails.dpdk.org [217.70.189.124]) by inbox.dpdk.org (Postfix) with ESMTP id 5709148935 for ; Tue, 14 Oct 2025 14:59:50 +0200 (CEST) Received: from mails.dpdk.org (localhost [127.0.0.1]) by mails.dpdk.org (Postfix) with ESMTP id 4D7AB402A8; Tue, 14 Oct 2025 14:59:50 +0200 (CEST) Received: from mail-ot1-f97.google.com (mail-ot1-f97.google.com [209.85.210.97]) by mails.dpdk.org (Postfix) with ESMTP id 3D017402A8 for ; Tue, 14 Oct 2025 14:59:49 +0200 (CEST) Received: by mail-ot1-f97.google.com with SMTP id 46e09a7af769-7b6ac55cf86so3605865a34.1 for ; Tue, 14 Oct 2025 05:59:49 -0700 (PDT) DKIM-Signature: v=1; a=rsa-sha256; c=relaxed/relaxed; d=iol.unh.edu; s=unh-iol; t=1760446788; x=1761051588; darn=dpdk.org; h=references:in-reply-to:cc:to:from:subject:message-id:date:from:to :cc:subject:date:message-id:reply-to; bh=aRvG099/yghq6kuH7VxLpOj0nUDUk+8vV8P7vaWqnko=; b=Uf0yWqtQvfu3Zlh4GcMt3YuwGuJ8rP4d7/Krm00vF/CwUKYM5y90eaHprAPiTldgZG 64oKUw21/BrggyaM96OSNbYnw7cx+ten08OL8p0rAJrjpaf1TfpjAASTvvxko7mFNxkQ jg9Ubx/BCY0rwJIg5TT1pV28OBO90sDv3o6nQ= X-Google-DKIM-Signature: v=1; a=rsa-sha256; c=relaxed/relaxed; d=1e100.net; s=20230601; t=1760446788; x=1761051588; h=references:in-reply-to:cc:to:from:subject:message-id:date :x-gm-message-state:from:to:cc:subject:date:message-id:reply-to; bh=aRvG099/yghq6kuH7VxLpOj0nUDUk+8vV8P7vaWqnko=; b=Sj3YIDyNXzFplvFyt7KuUPZWS+E2ZBQL5qubBErR3iP05LrnSurFZV4eKyW85fdKjz cVuIjX2KJ78ztQzb9rHWeUVOxnG10iZ9wRRlbHSj2ecJsz9on/7PzpDsXCxpP3aNATil jyh0D3nWS+TBYTNUO6rseElqziK2E3Woai2yoFC2zHAzi/hs7CY3eZ9R028W6Ii0CiNT EQTIpMz2cMMf8JZ9nUYZvq3NsZUpJoTpYgQvv395HLfd1s53eN5EGa3tMMXqS54YS0mB 7EUro+EhsinzFWIkvM7/9KyftWBXWgy1qo1YJHcy+KRSBb18kPlI94pZ12GHDpCbXEZy nH2Q== X-Gm-Message-State: AOJu0YxNkZ3jvf7OUhdpkRzgSZevJ4leB9nBJqKhHQ3qj+csozpZDyQC FNveMeMW7cxUO0pG59hs9Hhxm0JE/Gx8lPzqhE+clZuTcl7xBqUo82vEyOZyEbgaJUksML5AcWL 01ywJULXkxC3AnUBRmWc7RmiSV734nEDKbXYPOyJ69fC8RSmnhFOCoYQgfVEQ X-Gm-Gg: ASbGncvTc/LDYcZOq7ZGAJjueqKsgWf/dEO1Esc+n3unVPNy2HezJkEc9pKwx7hpV8C PndF7pEvE9ap8dpJ7TVdsBGYrR3PBINwp2t6H59Gn0IPP89RH2NeSthi3jza94wJwvb8br61DhS mKizc//sIewxJtBjNiEL5RrGKYNtU2gwO4FLh3ZbN2KqMdXmKhfgib4sJxeHevYNQURJZzTVyOk sU1rNnMfwV31s3Pm5bNwS2T2n3ul6M3g43HycmszZPBvzmjZaBTHCoCAEg8eShcxAZQ4meMa0bu JECat8ZLUWClKsMuMCgbXeU4zEMn4bted4K+08Vy/wbip4xeDw== X-Google-Smtp-Source: AGHT+IH6NqIzrEMiqWwwO2+/KgJYvfkC4Bbszp1hOgiqoabrMMEMyeoIHRCKclR9EHKJTrRTM2N+5LAJNeYX X-Received: by 2002:a05:6830:600e:b0:745:a390:8662 with SMTP id 46e09a7af769-7c0df7152f2mr16799930a34.13.1760446788469; Tue, 14 Oct 2025 05:59:48 -0700 (PDT) Received: from postal.iol.unh.edu (postal.iol.unh.edu. [2606:4100:3880:1234::84]) by smtp-relay.gmail.com with ESMTPS id 46e09a7af769-7c0f901e34asm989699a34.2.2025.10.14.05.59.48 (version=TLS1_2 cipher=ECDHE-ECDSA-AES128-GCM-SHA256 bits=128/128); Tue, 14 Oct 2025 05:59:48 -0700 (PDT) X-Relaying-Domain: iol.unh.edu Date: Tue, 14 Oct 2025 05:59:48 -0700 (PDT) Message-ID: <68ee4944.050a0220.18b04a.1a3aSMTPIN_ADDED_MISSING@mx.google.com> Received: from [172.21.0.4] (unknown [172.18.0.240]) by postal.iol.unh.edu (Postfix) with ESMTP id 01E64604D420; Tue, 14 Oct 2025 08:59:48 -0400 (EDT) Subject: |SUCCESS| pw157554-157556 [PATCH] [v4,3/3] bbdev: fix build with Min From: dpdklab@iol.unh.edu To: Test Report Cc: dpdk-test-reports@iol.unh.edu In-Reply-To: <20251014091528.936405-4-thomas@monjalon.net> References: <20251014091528.936405-4-thomas@monjalon.net> Content-Type: text/plain X-BeenThere: test-report@dpdk.org X-Mailman-Version: 2.1.29 Precedence: list List-Id: automatic DPDK test reports List-Unsubscribe: , List-Archive: List-Post: List-Help: List-Subscribe: , Errors-To: test-report-bounces@dpdk.org Test-Label: iol-unit-amd64-testing Test-Status: SUCCESS http://dpdk.org/patch/157556 _Testing PASS_ Submitter: Thomas Monjalon Date: Tuesday, October 14 2025 09:14:01 DPDK git baseline: Repo:dpdk Branch: master CommitID:2b403dd8fb37d0ba13723e44ffc7ee2c2795f838 157554-157556 --> testing pass Upstream job id: Generic-VM-Unit-Test-DPDK#31779 Test environment and result as below: +-------------------------------+----------------+ | Environment | dpdk_unit_test | +===============================+================+ | CentOS Stream 9 | PASS | +-------------------------------+----------------+ | CentOS Stream 10 | PASS | +-------------------------------+----------------+ | Debian GNU/Linux 12 | PASS | +-------------------------------+----------------+ | Fedora Linux 40 | PASS | +-------------------------------+----------------+ | Fedora Linux 41 | PASS | +-------------------------------+----------------+ | Fedora Linux 42 | PASS | +-------------------------------+----------------+ | Ubuntu 20.04 | PASS | +-------------------------------+----------------+ | Ubuntu 22.04 | PASS | +-------------------------------+----------------+ | Red Hat Enterprise Linux 8.10 | PASS | +-------------------------------+----------------+ | Red Hat Enterprise Linux 9.5 | PASS | +-------------------------------+----------------+ | Ubuntu 24.04 | PASS | +-------------------------------+----------------+ | Windows Server 2022 | PASS | +-------------------------------+----------------+ CentOS Stream 9 Kernel: 5.15 Compiler: gcc gcc (GCC) 11.5.0 20240719 (Red Hat 11.5.0-11) CentOS Stream 10 Kernel: 5.15 Compiler: gcc gcc (GCC) 14.2.1 20250110 (Red Hat 14.2.1-8) Debian GNU/Linux 12 Kernel: 5.15 Compiler: gcc gcc (Debian 12.2.0-14+deb12u1) 12.2.0 Fedora Linux 40 Kernel: 5.15 Compiler: gcc gcc (GCC) 14.2.1 20240912 (Red Hat 14.2.1-3) Fedora Linux 41 Kernel: 5.15 Compiler: clang gcc (GCC) 14.3.1 20250523 (Red Hat 14.3.1-1) Fedora Linux 42 Kernel: 5.15 Compiler: clang gcc (GCC) 15.2.1 20250808 (Red Hat 15.2.1-1) Ubuntu 20.04 Kernel: 5.15 Compiler: gcc gcc (Ubuntu 9.4.0-1ubuntu1~20.04.2) 9.4.0 Ubuntu 22.04 Kernel: 5.15 Compiler: gcc gcc (Ubuntu 11.4.0-1ubuntu1~22.04) 11.4.0 Red Hat Enterprise Linux 8.10 Kernel: 5.15 Compiler: gcc gcc (GCC) 8.5.0 20210514 (Red Hat 8.5.0-22) Red Hat Enterprise Linux 9.5 Kernel: 5.15 Compiler: gcc gcc (GCC) 11.5.0 20240719 (Red Hat 11.5.0-2) Ubuntu 24.04 Kernel: 5.15 Compiler: gcc gcc (Ubuntu 13.3.0-6ubuntu2~24.04) 13.3.0 Windows Server 2022 Kernel: 10.0.20348.2031 Compiler: clang 15.0.7, gcc 14.1.0 (MinGW), and MSVC VS 19.39.33521 To view detailed results, visit: https://lab.dpdk.org/results/dashboard/patchsets/34273/ UNH-IOL DPDK Community Lab To manage your email subscriptions, visit: https://lab.dpdk.org/results/dashboard/preferences/subscriptions/