From mboxrd@z Thu Jan 1 00:00:00 1970 Return-Path: Received: from mails.dpdk.org (mails.dpdk.org [217.70.189.124]) by inbox.dpdk.org (Postfix) with ESMTP id A9C7248935 for ; Tue, 14 Oct 2025 15:12:28 +0200 (CEST) Received: from mails.dpdk.org (localhost [127.0.0.1]) by mails.dpdk.org (Postfix) with ESMTP id 9319A402A8; Tue, 14 Oct 2025 15:12:28 +0200 (CEST) Received: from mail-qk1-f226.google.com (mail-qk1-f226.google.com [209.85.222.226]) by mails.dpdk.org (Postfix) with ESMTP id C6BDE402A8 for ; Tue, 14 Oct 2025 15:12:27 +0200 (CEST) Received: by mail-qk1-f226.google.com with SMTP id af79cd13be357-8582a34639aso401117485a.3 for ; Tue, 14 Oct 2025 06:12:27 -0700 (PDT) DKIM-Signature: v=1; a=rsa-sha256; c=relaxed/relaxed; d=iol.unh.edu; s=unh-iol; t=1760447547; x=1761052347; darn=dpdk.org; h=references:in-reply-to:cc:to:from:subject:message-id:date:from:to :cc:subject:date:message-id:reply-to; bh=fKm7vcDILTYHwESYbYv4pgxWdtKUGS4jinpzhiRq1dY=; b=ifoiQ4K9tLjLGJXOSZwRLbxLFSOfym3bZgcMl/K5DLRb6N4oVL0Um1EcKnEMnDDrV3 SrkY4mni6oA33dXsw8MfOO2M7tWcxz4dMP3JcM8pMgE9Cfr5+uUvLqMIyQqNYJoD340h lTI/8fer+zBU9kqurWO1lgNSZudwJDw26wvA0= X-Google-DKIM-Signature: v=1; a=rsa-sha256; c=relaxed/relaxed; d=1e100.net; s=20230601; t=1760447547; x=1761052347; h=references:in-reply-to:cc:to:from:subject:message-id:date :x-gm-message-state:from:to:cc:subject:date:message-id:reply-to; bh=fKm7vcDILTYHwESYbYv4pgxWdtKUGS4jinpzhiRq1dY=; b=MH+L6/0uWu3ez5BkrAL3s45oPoHYwnaz7Q/z2FB4VaZlvZ8H9ZhKP87XitKZmHkCVp gQURMzRDjiDWg7x1DCwG806FRzvwx5SkD2QDhzGc2Eeui61VWZOszaV3iAm9tmaSGxG6 zRaEPmMJOrK4vWzprRrrSbL9Em5A7S4QiHuTG/0Kn1yE3QKrqisNCVdWSeTe0aBOsii+ vkn5kQi3kjzhwooyqA2UpQ/PaDgmg+OWWktK4zj8FFsrAl6KM+eweUyfliHcviMROKjK R8vFhpCsQridjfQE/iSItCaqZRbP5JY+zCZL6fV8ZbpyEZQjkPPa5QYkyUy7P4hqNeze 08Qg== X-Gm-Message-State: AOJu0YwGZYYIQF2uV6t6wSf3Pzia9QGOqIcAVBKPMTQdSsnc/mxKipVQ MiaZJKW0n8pP+aPqzHYDwp3NzNU6WDEvIyXK/vstko+CDfWbRNNC11V07Xo2bpE0zEnJ2mZ7RsC tTTxxkyc+jCY+fjs+c8NCJkhJYUhAl+TauLQ8Gvp6bxFQKLbRke/BQnnsdcOl X-Gm-Gg: ASbGncsGB52VMWFAbHTfnYRX7MOPiPBpTeEW97lFztRcuL7P9LPe9Z8HarkWX/abFk6 GNUl4g6qCJAQe+Lft6DVeUjH0U1E3St7cdyzHjTQG2baSSF/CqQGMWaO7DQN5/SeGWgoNP600nZ hB3jLlflihiaLg4KpqBX6HrBljOL/tONY58kXWn7nmxJGE3pv2JeGXZvTMGb7hLLEfpZh5PalI2 42RDjw5fRZhBKRhEOx/4JYl9lJ/Pf0lTmCbMsvU8UQdmSliVrw/6/ywc5C04WzQLP4p21E6ex58 xxw2CRgNjadpsimoZ/MXXgVxRtXqlAISXuwhhPRY+tWYVlN6rA== X-Google-Smtp-Source: AGHT+IE61EwIIp+s7cIPTJRsskpGzb6UoOIRQ1pl0MsCmQ7/fuWyhRWXqlo4iENqC0b5kMFGvG78vMa7TMy/ X-Received: by 2002:a05:620a:4107:b0:85b:475e:594d with SMTP id af79cd13be357-88356517596mr2736508485a.46.1760447546765; Tue, 14 Oct 2025 06:12:26 -0700 (PDT) Received: from postal.iol.unh.edu (postal.iol.unh.edu. [2606:4100:3880:1234::84]) by smtp-relay.gmail.com with ESMTPS id af79cd13be357-8849f6c261esm112774385a.2.2025.10.14.06.12.26 (version=TLS1_2 cipher=ECDHE-ECDSA-AES128-GCM-SHA256 bits=128/128); Tue, 14 Oct 2025 06:12:26 -0700 (PDT) X-Relaying-Domain: iol.unh.edu Date: Tue, 14 Oct 2025 06:12:26 -0700 (PDT) Message-ID: <68ee4c3a.050a0220.3da32e.9addSMTPIN_ADDED_MISSING@mx.google.com> Received: from [172.21.0.2] (unknown [172.18.0.240]) by postal.iol.unh.edu (Postfix) with ESMTP id 789AD604D420; Tue, 14 Oct 2025 09:12:26 -0400 (EDT) Subject: |SUCCESS| pw157510-157516 [PATCH] [v5,7/7] usertools/mbuf: parse mbu From: dpdklab@iol.unh.edu To: Test Report Cc: dpdk-test-reports@iol.unh.edu In-Reply-To: <20251014070517.922137-8-thomas@monjalon.net> References: <20251014070517.922137-8-thomas@monjalon.net> Content-Type: text/plain X-BeenThere: test-report@dpdk.org X-Mailman-Version: 2.1.29 Precedence: list List-Id: automatic DPDK test reports List-Unsubscribe: , List-Archive: List-Post: List-Help: List-Subscribe: , Errors-To: test-report-bounces@dpdk.org Test-Label: iol-unit-arm64-testing Test-Status: SUCCESS http://dpdk.org/patch/157516 _Testing PASS_ Submitter: Thomas Monjalon Date: Tuesday, October 14 2025 06:58:35 DPDK git baseline: Repo:dpdk Branch: master CommitID:2b403dd8fb37d0ba13723e44ffc7ee2c2795f838 157510-157516 --> testing pass Upstream job id: Generic-Unit-Test-DPDK#381051 Test environment and result as below: +------------------------------+----------------+------------------------------+---------------------------+--------------+ | Environment | dpdk_unit_test | cryptodev_sw_snow3g_autotest | cryptodev_sw_zuc_autotest | lpm_autotest | +==============================+================+==============================+===========================+==============+ | CentOS Stream 10 | PASS | SKIPPED | SKIPPED | SKIPPED | +------------------------------+----------------+------------------------------+---------------------------+--------------+ | Ubuntu 22.04 | PASS | SKIPPED | SKIPPED | SKIPPED | +------------------------------+----------------+------------------------------+---------------------------+--------------+ | Ubuntu 20.04 | PASS | SKIPPED | SKIPPED | PASS | +------------------------------+----------------+------------------------------+---------------------------+--------------+ | Fedora Linux 40 | PASS | SKIPPED | SKIPPED | SKIPPED | +------------------------------+----------------+------------------------------+---------------------------+--------------+ | Fedora Linux 42 | PASS | SKIPPED | SKIPPED | SKIPPED | +------------------------------+----------------+------------------------------+---------------------------+--------------+ | Debian GNU/Linux 12 | PASS | SKIPPED | SKIPPED | SKIPPED | +------------------------------+----------------+------------------------------+---------------------------+--------------+ | Ubuntu 24.04 | PASS | SKIPPED | SKIPPED | SKIPPED | +------------------------------+----------------+------------------------------+---------------------------+--------------+ | Fedora Linux 41 | PASS | SKIPPED | SKIPPED | SKIPPED | +------------------------------+----------------+------------------------------+---------------------------+--------------+ | CentOS Stream 9 | PASS | SKIPPED | SKIPPED | SKIPPED | +------------------------------+----------------+------------------------------+---------------------------+--------------+ | Red Hat Enterprise Linux 9.5 | PASS | SKIPPED | SKIPPED | SKIPPED | +------------------------------+----------------+------------------------------+---------------------------+--------------+ | Debian 12 (arm) | SKIPPED | PASS | PASS | SKIPPED | +------------------------------+----------------+------------------------------+---------------------------+--------------+ CentOS Stream 10 Kernel: 5.4 Compiler: gcc gcc (GCC) 14.2.1 20250110 (Red Hat 14.2.1-8) Ubuntu 22.04 Kernel: 5.4 Compiler: gcc gcc (Ubuntu 11.4.0-1ubuntu1~22.04) 11.4.0 Ubuntu 20.04 Kernel: 5.4 Compiler: gcc gcc (Ubuntu 9.4.0-1ubuntu1~20.04.2) 9.4.0 Fedora Linux 40 Kernel: 5.4 Compiler: clang gcc (GCC) 14.2.1 20240912 (Red Hat 14.2.1-3) Fedora Linux 42 Kernel: 5.4 Compiler: gcc gcc (GCC) 15.2.1 20250808 (Red Hat 15.2.1-1) Debian GNU/Linux 12 Kernel: 5.4 Compiler: gcc gcc (Debian 12.2.0-14+deb12u1) 12.2.0 Ubuntu 24.04 Kernel: 5.4 Compiler: gcc gcc (Ubuntu 13.3.0-6ubuntu2~24.04) 13.3.0 Fedora Linux 41 Kernel: 5.4 Compiler: clang gcc (GCC) 14.3.1 20250523 (Red Hat 14.3.1-1) CentOS Stream 9 Kernel: 5.4 Compiler: gcc gcc (GCC) 11.5.0 20240719 (Red Hat 11.5.0-11) Red Hat Enterprise Linux 9.5 Kernel: 5.4 Compiler: gcc gcc (GCC) 11.5.0 20240719 (Red Hat 11.5.0-2) Debian 12 (arm) Kernel: Depends on container host Compiler: gcc (Debian 12.2.0-14) 12.2.0 To view detailed results, visit: https://lab.dpdk.org/results/dashboard/patchsets/34268/ UNH-IOL DPDK Community Lab To manage your email subscriptions, visit: https://lab.dpdk.org/results/dashboard/preferences/subscriptions/