From mboxrd@z Thu Jan 1 00:00:00 1970 Return-Path: Received: from mails.dpdk.org (mails.dpdk.org [217.70.189.124]) by inbox.dpdk.org (Postfix) with ESMTP id 5D24948935 for ; Tue, 14 Oct 2025 15:18:54 +0200 (CEST) Received: from mails.dpdk.org (localhost [127.0.0.1]) by mails.dpdk.org (Postfix) with ESMTP id 55688402A8; Tue, 14 Oct 2025 15:18:54 +0200 (CEST) Received: from mail-oo1-f99.google.com (mail-oo1-f99.google.com [209.85.161.99]) by mails.dpdk.org (Postfix) with ESMTP id C3FFB402A8 for ; Tue, 14 Oct 2025 15:18:52 +0200 (CEST) Received: by mail-oo1-f99.google.com with SMTP id 006d021491bc7-646e4209599so1522125eaf.1 for ; Tue, 14 Oct 2025 06:18:52 -0700 (PDT) DKIM-Signature: v=1; a=rsa-sha256; c=relaxed/relaxed; d=iol.unh.edu; s=unh-iol; t=1760447932; x=1761052732; darn=dpdk.org; h=references:in-reply-to:cc:to:from:subject:message-id:date:from:to :cc:subject:date:message-id:reply-to; bh=a1+KdncsxNnjQ0vG9i1O0SJ23weXSNYftb5+5m4jhtY=; b=Epop6A1rChkkrFKgcbUIfMVHxDNFyUaNac9vlmhqEyzK4NaWQJGEVCDD+xHi5LHQX8 WHQN1ZJkG2rzgTenVEYP5KmWcryQa83AIClw+UFiLuFquQmgfjyHJY0GA+GLVe5a3KLc bVl7k1ilG+Z689+nCErUZTJ0nOuu4wc1RgTAA= X-Google-DKIM-Signature: v=1; a=rsa-sha256; c=relaxed/relaxed; d=1e100.net; s=20230601; t=1760447932; x=1761052732; h=references:in-reply-to:cc:to:from:subject:message-id:date :x-gm-message-state:from:to:cc:subject:date:message-id:reply-to; bh=a1+KdncsxNnjQ0vG9i1O0SJ23weXSNYftb5+5m4jhtY=; b=o0ri/MJfhBPeyVNQXCJqi0t/cqQAE97Le6XQL0x0PLq8knOhnL9JHIfGQcGkHZLyDg xISBLtCXSz9pLpTpkPhknPV4XVQsOlj5L0BLoVjXzkxZWKjy5YIK3kM8gB5UkOzY0ja5 ZeJT6ag6S46EJqbhmwx30r+oNb7pjuOO7NbDLL3WO224GsF9X+Og85XHUwRnMPjYE4/+ dsaq0CtYozBuXO4B6N690wgWCWuI/+dD4wSUN4K3/fu99zcP6t0oW5umNr508awh/vv4 NxSUQXCoV9WvsNdndoIy29TscqAaVadLeMFsuZeHfiMHiu9rGBURGrhHksK8JP+rEZvw pozA== X-Gm-Message-State: AOJu0YwfQJusuZ48h/bVfPPUiTtVUZ6K9tVBFQnNyChnlkm9i73SZbni sdW0ENuU/xKLWOgU0q5r3o1cxoKPgkJhw+G+FmXrtQTfTsytqNQ+oGTmTq7cnu0P6z5/WgiosT/ el/6Ek2qjN0Ksa89T/t8iRManSui5LHY7XTNS0uabwn8g X-Gm-Gg: ASbGnctgncBhAKWoA62H60lShwguqSyFdz+eIkQyG/IDdBebU5pxJJoTLXvQBRIU5oY pLqBnKHRPfSuZPJRUxSJ1LlYcAfmckilBa2sDeSTCd7N9T9R3q3jYURtyitdcJOBT6oRUJ5b/cD 0eE1b1Db4vACH/zJKxhZVOimVU1PtoS0N187XFHRc0TCYFjES1U8bxy1FJ91V6itSQGPkP3kKX0 oFDo0tJPNoPMz+InOkfuYrNlcJxuelS2ajU8E1kTZUXtq+Kg6RbZtmNctUgbJR2P1tURq4hIFBq w6ZGD7Ux8sVfnwL1bGgWMtKNx2pMSTsegeqlDAxjUuoR0TKWjUGegukaCdQfhYMczbYL2bB4 X-Google-Smtp-Source: AGHT+IE0s62sdqlCYVJjfkT5Q+WTa+QxJZL3hQ6AKDBHRkE0FP2yR1i45m+O+GsttdLnKNyoHQxshm54tx4K X-Received: by 2002:a05:6870:612b:b0:3af:6b4:1230 with SMTP id 586e51a60fabf-3c0f81e9c7cmr11556485fac.24.1760447931727; Tue, 14 Oct 2025 06:18:51 -0700 (PDT) Received: from postal.iol.unh.edu (postal.iol.unh.edu. [132.177.123.84]) by smtp-relay.gmail.com with ESMTPS id 586e51a60fabf-3c8c8b7eda7sm1219940fac.7.2025.10.14.06.18.51 (version=TLS1_2 cipher=ECDHE-ECDSA-AES128-GCM-SHA256 bits=128/128); Tue, 14 Oct 2025 06:18:51 -0700 (PDT) X-Relaying-Domain: iol.unh.edu Date: Tue, 14 Oct 2025 06:18:51 -0700 (PDT) Message-ID: <68ee4dbb.050a0220.ef650.b9e5SMTPIN_ADDED_MISSING@mx.google.com> Received: from [172.21.0.2] (unknown [172.18.0.240]) by postal.iol.unh.edu (Postfix) with ESMTP id 40D0C604D420; Tue, 14 Oct 2025 09:18:51 -0400 (EDT) Subject: |SUCCESS| pw157532-157546 [PATCH] [15/15] net/dpaa2: add Policer sta From: dpdklab@iol.unh.edu To: Test Report Cc: dpdk-test-reports@iol.unh.edu In-Reply-To: <20251014064035.1312896-16-prashant.gupta_3@nxp.com> References: <20251014064035.1312896-16-prashant.gupta_3@nxp.com> Content-Type: text/plain X-BeenThere: test-report@dpdk.org X-Mailman-Version: 2.1.29 Precedence: list List-Id: automatic DPDK test reports List-Unsubscribe: , List-Archive: List-Post: List-Help: List-Subscribe: , Errors-To: test-report-bounces@dpdk.org Test-Label: iol-compile-arm64-testing Test-Status: SUCCESS http://dpdk.org/patch/157546 _Testing PASS_ Submitter: Prashant Gupta Date: Tuesday, October 14 2025 06:40:35 DPDK git baseline: Repo:dpdk Branch: master CommitID:2b403dd8fb37d0ba13723e44ffc7ee2c2795f838 157532-157546 --> testing pass Upstream job id: Generic-DPDK-Compile-Meson#433971 Test environment and result as below: +------------------------------+--------------------+ | Environment | dpdk_meson_compile | +==============================+====================+ | Ubuntu 20.04 | PASS | +------------------------------+--------------------+ | Red Hat Enterprise Linux 9.5 | PASS | +------------------------------+--------------------+ | Fedora Linux 42 | PASS | +------------------------------+--------------------+ | Debian GNU/Linux 12 | PASS | +------------------------------+--------------------+ | Ubuntu 22.04 | PASS | +------------------------------+--------------------+ | Ubuntu 24.04 | PASS | +------------------------------+--------------------+ | CentOS Stream 9 | PASS | +------------------------------+--------------------+ | CentOS Stream 10 | PASS | +------------------------------+--------------------+ Ubuntu 20.04 Kernel: 5.15 Compiler: aarch64-linux-gnu-gcc gcc (Ubuntu 9.4.0-1ubuntu1~20.04.2) 9.4.0 Red Hat Enterprise Linux 9.5 Kernel: 5.4 Compiler: gcc gcc (GCC) 11.5.0 20240719 (Red Hat 11.5.0-2) Fedora Linux 42 Kernel: 5.4 Compiler: gcc gcc (GCC) 15.2.1 20250808 (Red Hat 15.2.1-1) Debian GNU/Linux 12 Kernel: 5.4 Compiler: gcc gcc (Debian 12.2.0-14+deb12u1) 12.2.0 Ubuntu 22.04 Kernel: 5.4 Compiler: gcc gcc (Ubuntu 11.4.0-1ubuntu1~22.04) 11.4.0 Ubuntu 24.04 Kernel: 5.4 Compiler: gcc gcc (Ubuntu 13.3.0-6ubuntu2~24.04) 13.3.0 CentOS Stream 9 Kernel: 5.4 Compiler: gcc gcc (GCC) 11.5.0 20240719 (Red Hat 11.5.0-11) CentOS Stream 10 Kernel: 5.4 Compiler: gcc gcc (GCC) 14.2.1 20250110 (Red Hat 14.2.1-8) To view detailed results, visit: https://lab.dpdk.org/results/dashboard/patchsets/34269/ UNH-IOL DPDK Community Lab To manage your email subscriptions, visit: https://lab.dpdk.org/results/dashboard/preferences/subscriptions/