From: dpdklab@iol.unh.edu
To: Test Report <test-report@dpdk.org>
Cc: dpdk-test-reports@iol.unh.edu,
Stephen Hemminger <stephen@networkplumber.org>
Subject: |SUCCESS| pw157557-157561 [PATCH] [v3,5/5] net/dpaa: fix resource le
Date: Tue, 14 Oct 2025 06:30:39 -0700 (PDT) [thread overview]
Message-ID: <68ee507f.050a0220.2af0b5.98c3SMTPIN_ADDED_MISSING@mx.google.com> (raw)
In-Reply-To: <20251014101716.2885563-6-g.singh@nxp.com>
Test-Label: iol-compile-amd64-testing
Test-Status: SUCCESS
http://dpdk.org/patch/157561
_Testing PASS_
Submitter: Gagandeep Singh <g.singh@nxp.com>
Date: Tuesday, October 14 2025 10:17:16
DPDK git baseline: Repo:dpdk-next-net
Branch: master
CommitID:c04bbd131b2c14b3049bf86d3ef367b34e6fdf1e
157557-157561 --> testing pass
Upstream job id: Windows-Compile-DPDK-VS#7189
Test environment and result as below:
+-------------------------------+--------------------+-------------------+------------------+-------------------+
| Environment | dpdk_meson_compile | dpdk_compile_spdk | dpdk_compile_ovs | dpdk_msvc_compile |
+===============================+====================+===================+==================+===================+
| Debian GNU/Linux 12 | PASS | PASS | SKIPPED | SKIPPED |
+-------------------------------+--------------------+-------------------+------------------+-------------------+
| Ubuntu 20.04 | PASS | SKIPPED | SKIPPED | SKIPPED |
+-------------------------------+--------------------+-------------------+------------------+-------------------+
| Fedora Linux 42 | PASS | PASS | PASS | SKIPPED |
+-------------------------------+--------------------+-------------------+------------------+-------------------+
| Red Hat Enterprise Linux 9.5 | PASS | SKIPPED | SKIPPED | SKIPPED |
+-------------------------------+--------------------+-------------------+------------------+-------------------+
| Red Hat Enterprise Linux 8.10 | PASS | SKIPPED | SKIPPED | SKIPPED |
+-------------------------------+--------------------+-------------------+------------------+-------------------+
| openSUSE Leap 15.6 | PASS | SKIPPED | SKIPPED | SKIPPED |
+-------------------------------+--------------------+-------------------+------------------+-------------------+
| CentOS Stream 10 | PASS | SKIPPED | SKIPPED | SKIPPED |
+-------------------------------+--------------------+-------------------+------------------+-------------------+
| CentOS Stream 9 | PASS | PASS | SKIPPED | SKIPPED |
+-------------------------------+--------------------+-------------------+------------------+-------------------+
| Ubuntu 22.04 | PASS | PASS | SKIPPED | SKIPPED |
+-------------------------------+--------------------+-------------------+------------------+-------------------+
| Ubuntu 24.04 | PASS | PASS | PASS | SKIPPED |
+-------------------------------+--------------------+-------------------+------------------+-------------------+
| FreeBSD 14.2 | PASS | SKIPPED | SKIPPED | SKIPPED |
+-------------------------------+--------------------+-------------------+------------------+-------------------+
| Alpine Linux 3.22.0 | PASS | SKIPPED | SKIPPED | SKIPPED |
+-------------------------------+--------------------+-------------------+------------------+-------------------+
| Windows Server 2022 | SKIPPED | SKIPPED | SKIPPED | PASS |
+-------------------------------+--------------------+-------------------+------------------+-------------------+
Debian GNU/Linux 12
Kernel: 5.15
Compiler: gcc gcc (Debian 12.2.0-14+deb12u1) 12.2.0
Ubuntu 20.04
Kernel: 5.15
Compiler: gcc gcc (Ubuntu 9.4.0-1ubuntu1~20.04.2) 9.4.0
Fedora Linux 42
Kernel: 5.15
Compiler: gcc gcc (GCC) 15.2.1 20250808 (Red Hat 15.2.1-1)
Red Hat Enterprise Linux 9.5
Kernel: 5.15
Compiler: gcc gcc (GCC) 11.5.0 20240719 (Red Hat 11.5.0-2)
Red Hat Enterprise Linux 8.10
Kernel: 5.15
Compiler: gcc gcc (GCC) 8.5.0 20210514 (Red Hat 8.5.0-22)
openSUSE Leap 15.6
Kernel: 5.15
Compiler: gcc gcc (SUSE Linux) 7.5.0
CentOS Stream 10
Kernel: 5.15
Compiler: gcc gcc (GCC) 14.2.1 20250110 (Red Hat 14.2.1-8)
CentOS Stream 9
Kernel: 5.15
Compiler: gcc gcc (GCC) 11.5.0 20240719 (Red Hat 11.5.0-11)
Ubuntu 22.04
Kernel: 5.15
Compiler: gcc gcc (Ubuntu 11.4.0-1ubuntu1~22.04) 11.4.0
Ubuntu 24.04
Kernel: 5.15
Compiler: gcc gcc (Ubuntu 13.3.0-6ubuntu2~24.04) 13.3.0
FreeBSD 14.2
Kernel: 14.2-RELEASE
Compiler: clang 18.1.6
Alpine Linux 3.22.0
Kernel: 5.15
Compiler: gcc gcc (Alpine 14.2.0) 14.2.0
Windows Server 2022
Kernel: 10.0.20348.2031
Compiler: clang 15.0.7, gcc 14.1.0 (MinGW), and MSVC VS 19.39.33521
To view detailed results, visit:
https://lab.dpdk.org/results/dashboard/patchsets/34274/
UNH-IOL DPDK Community Lab
To manage your email subscriptions, visit:
https://lab.dpdk.org/results/dashboard/preferences/subscriptions/
next prev parent reply other threads:[~2025-10-14 13:30 UTC|newest]
Thread overview: 26+ messages / expand[flat|nested] mbox.gz Atom feed top
[not found] <20251014101716.2885563-6-g.singh@nxp.com>
2025-10-14 9:44 ` |SUCCESS| pw157557-157561 [PATCH v3 5/5] net/dpaa: fix resource leak coverity issue qemudev
2025-10-14 9:49 ` qemudev
2025-10-14 10:18 ` |SUCCESS| pw157561 " checkpatch
2025-10-14 10:45 ` |PENDING| pw157557-157561 [PATCH] [v3,5/5] net/dpaa: fix resource le dpdklab
2025-10-14 10:48 ` |SUCCESS| " dpdklab
2025-10-14 10:53 ` dpdklab
2025-10-14 10:56 ` |PENDING| " dpdklab
2025-10-14 10:56 ` |SUCCESS| " dpdklab
2025-10-14 10:58 ` |PENDING| " dpdklab
2025-10-14 11:09 ` |SUCCESS| " dpdklab
2025-10-14 11:19 ` |SUCCESS| pw157561 [PATCH v3 5/5] net/dpaa: fix resource leak coverity issue 0-day Robot
2025-10-14 11:19 ` 0-day Robot
2025-10-14 11:37 ` |SUCCESS| pw157557-157561 [PATCH] [v3,5/5] net/dpaa: fix resource le dpdklab
2025-10-14 11:49 ` dpdklab
2025-10-14 11:50 ` dpdklab
2025-10-14 12:35 ` dpdklab
2025-10-14 12:37 ` dpdklab
2025-10-14 13:30 ` dpdklab [this message]
2025-10-14 13:41 ` dpdklab
2025-10-14 13:54 ` dpdklab
2025-10-14 14:30 ` dpdklab
2025-10-14 14:53 ` dpdklab
2025-10-14 17:01 ` dpdklab
2025-10-14 17:01 ` dpdklab
2025-10-14 17:29 ` dpdklab
2025-10-14 17:38 ` dpdklab
Reply instructions:
You may reply publicly to this message via plain-text email
using any one of the following methods:
* Save the following mbox file, import it into your mail client,
and reply-to-all from there: mbox
Avoid top-posting and favor interleaved quoting:
https://en.wikipedia.org/wiki/Posting_style#Interleaved_style
* Reply using the --to, --cc, and --in-reply-to
switches of git-send-email(1):
git send-email \
--in-reply-to=68ee507f.050a0220.2af0b5.98c3SMTPIN_ADDED_MISSING@mx.google.com \
--to=dpdklab@iol.unh.edu \
--cc=dpdk-test-reports@iol.unh.edu \
--cc=stephen@networkplumber.org \
--cc=test-report@dpdk.org \
/path/to/YOUR_REPLY
https://kernel.org/pub/software/scm/git/docs/git-send-email.html
* If your mail client supports setting the In-Reply-To header
via mailto: links, try the mailto: link
Be sure your reply has a Subject: header at the top and a blank line
before the message body.
This is a public inbox, see mirroring instructions
for how to clone and mirror all data and code used for this inbox;
as well as URLs for NNTP newsgroup(s).