From mboxrd@z Thu Jan 1 00:00:00 1970 Return-Path: Received: from mails.dpdk.org (mails.dpdk.org [217.70.189.124]) by inbox.dpdk.org (Postfix) with ESMTP id 60CEF48935 for ; Tue, 14 Oct 2025 15:30:41 +0200 (CEST) Received: from mails.dpdk.org (localhost [127.0.0.1]) by mails.dpdk.org (Postfix) with ESMTP id 4CA87402A8; Tue, 14 Oct 2025 15:30:41 +0200 (CEST) Received: from mail-qk1-f227.google.com (mail-qk1-f227.google.com [209.85.222.227]) by mails.dpdk.org (Postfix) with ESMTP id 8ABC1402A8 for ; Tue, 14 Oct 2025 15:30:40 +0200 (CEST) Received: by mail-qk1-f227.google.com with SMTP id af79cd13be357-859b2ec0556so767006385a.0 for ; Tue, 14 Oct 2025 06:30:40 -0700 (PDT) DKIM-Signature: v=1; a=rsa-sha256; c=relaxed/relaxed; d=iol.unh.edu; s=unh-iol; t=1760448640; x=1761053440; darn=dpdk.org; h=references:in-reply-to:cc:to:from:subject:message-id:date:from:to :cc:subject:date:message-id:reply-to; bh=auUJpWSrI71OnH5qxqSegsYR52r5InoSY5oNZcSF+Nk=; b=GX3JS/OiT9zKGEwRsFDhMQxOqYYa5eDuTCAXSiodNzom8X/ihMXYZVmd+2RTH0ssSw 3UWxc71FTbWi/Gzclrbx7NCdNtAbphDFMS147HkV7KI5BIgxlfQMGQFIt/5bsKqSwD/d e+qaeu8HAw6iBW2Q/WfGOIAuwBy1C945xDVuA= X-Google-DKIM-Signature: v=1; a=rsa-sha256; c=relaxed/relaxed; d=1e100.net; s=20230601; t=1760448640; x=1761053440; h=references:in-reply-to:cc:to:from:subject:message-id:date :x-gm-message-state:from:to:cc:subject:date:message-id:reply-to; bh=auUJpWSrI71OnH5qxqSegsYR52r5InoSY5oNZcSF+Nk=; b=pT/V/UrEd8v3T8vdLcpMQzM8ueBK+XKhzLfo0bYosr36xOaR7oM6SozxUM0DGRJYn1 HKBklM0LDgM+HzpNzXkI813LqM9Vo0wo89y2ags/VympbEaCDuY6aAQmG8MvQPkTLvD7 KkFsjcQ70ZsWgivq7hjhLr3c+kLmLz+ugeowvTiuJzNyaynryXff1uutDzRgSzzc9zNj rFky2SZ/B6YZgcAIYUuH/9FtdBwfLYYBhl/7M6bsvA1nNbrxAj7ZlAg6O2onUupyQ7tM WhnoFugu2rRJvwrITsl4oMAMKmjoZxj7NkkgmAlRid9rLt0qRPj20D4XxNK5RrGmYzYC NG8Q== X-Gm-Message-State: AOJu0YyuhSbR5eH3EV4HVRqIzrJfDfVPOYjWnD8QRemYabIRiEwo9h90 xB/VXP3DR+JN7FQhlxNfPuuQhYz2XpbddkCAEzhi/m4D5Srm9zDj6nG9OjV71O5+qRGG/gA/DLm qar6APEJmXUNjIl/8fDTDRl8phRUsqDxwmXg3lknsVSwLbYDIn/uUcaXjK35C X-Gm-Gg: ASbGncvbOiRcsibU6AO7seT+DJrXYVhMVkBb+9U6zeZNnIKYLCVCRd4aEPuOmGZqApm uDHNrpDZVj9Nxhe9rhmEr+LHEkAssUJijnS22Xa4E/NmXwxrfAbL93fb6EvW+dUlO2msjqNzFmf m3rrKPRpjNQKqCnyAs6gwcauMs5PGGGGPrV1OnOtSMA65UCBOPF/qBz5u1FAT7k7iBsrvfzjsFL NcbvTO/SgEqS6fkC74FD7UTuFBZklDhjCnIiZESojliLNN/8dTG25/LO5nWgKqyAcYY3c10Ydyn WvKj6J9Oj+LIeRBKQF0SnfDwr1i2zSKk4bxP5r5wbYWN6qGv3w== X-Google-Smtp-Source: AGHT+IFW1c1R/ndoc/zHx+4bYp/t7g+3ciVLNIpQGP4dSQ7vJvRynSEqiZKYzOKz8FvBc86VOC+DpfV7dzWR X-Received: by 2002:a05:620a:1a99:b0:863:9683:b7b with SMTP id af79cd13be357-88352d9a463mr3173468585a.80.1760448639794; Tue, 14 Oct 2025 06:30:39 -0700 (PDT) Received: from postal.iol.unh.edu (postal.iol.unh.edu. [2606:4100:3880:1234::84]) by smtp-relay.gmail.com with ESMTPS id af79cd13be357-884a1ab59ebsm114086385a.7.2025.10.14.06.30.39 (version=TLS1_2 cipher=ECDHE-ECDSA-AES128-GCM-SHA256 bits=128/128); Tue, 14 Oct 2025 06:30:39 -0700 (PDT) X-Relaying-Domain: iol.unh.edu Date: Tue, 14 Oct 2025 06:30:39 -0700 (PDT) Message-ID: <68ee507f.050a0220.2af0b5.98c3SMTPIN_ADDED_MISSING@mx.google.com> Received: from [172.21.0.2] (unknown [172.18.0.240]) by postal.iol.unh.edu (Postfix) with ESMTP id 751FD604D420; Tue, 14 Oct 2025 09:30:39 -0400 (EDT) Subject: |SUCCESS| pw157557-157561 [PATCH] [v3,5/5] net/dpaa: fix resource le From: dpdklab@iol.unh.edu To: Test Report Cc: dpdk-test-reports@iol.unh.edu, Stephen Hemminger In-Reply-To: <20251014101716.2885563-6-g.singh@nxp.com> References: <20251014101716.2885563-6-g.singh@nxp.com> Content-Type: text/plain X-BeenThere: test-report@dpdk.org X-Mailman-Version: 2.1.29 Precedence: list List-Id: automatic DPDK test reports List-Unsubscribe: , List-Archive: List-Post: List-Help: List-Subscribe: , Errors-To: test-report-bounces@dpdk.org Test-Label: iol-compile-amd64-testing Test-Status: SUCCESS http://dpdk.org/patch/157561 _Testing PASS_ Submitter: Gagandeep Singh Date: Tuesday, October 14 2025 10:17:16 DPDK git baseline: Repo:dpdk-next-net Branch: master CommitID:c04bbd131b2c14b3049bf86d3ef367b34e6fdf1e 157557-157561 --> testing pass Upstream job id: Windows-Compile-DPDK-VS#7189 Test environment and result as below: +-------------------------------+--------------------+-------------------+------------------+-------------------+ | Environment | dpdk_meson_compile | dpdk_compile_spdk | dpdk_compile_ovs | dpdk_msvc_compile | +===============================+====================+===================+==================+===================+ | Debian GNU/Linux 12 | PASS | PASS | SKIPPED | SKIPPED | +-------------------------------+--------------------+-------------------+------------------+-------------------+ | Ubuntu 20.04 | PASS | SKIPPED | SKIPPED | SKIPPED | +-------------------------------+--------------------+-------------------+------------------+-------------------+ | Fedora Linux 42 | PASS | PASS | PASS | SKIPPED | +-------------------------------+--------------------+-------------------+------------------+-------------------+ | Red Hat Enterprise Linux 9.5 | PASS | SKIPPED | SKIPPED | SKIPPED | +-------------------------------+--------------------+-------------------+------------------+-------------------+ | Red Hat Enterprise Linux 8.10 | PASS | SKIPPED | SKIPPED | SKIPPED | +-------------------------------+--------------------+-------------------+------------------+-------------------+ | openSUSE Leap 15.6 | PASS | SKIPPED | SKIPPED | SKIPPED | +-------------------------------+--------------------+-------------------+------------------+-------------------+ | CentOS Stream 10 | PASS | SKIPPED | SKIPPED | SKIPPED | +-------------------------------+--------------------+-------------------+------------------+-------------------+ | CentOS Stream 9 | PASS | PASS | SKIPPED | SKIPPED | +-------------------------------+--------------------+-------------------+------------------+-------------------+ | Ubuntu 22.04 | PASS | PASS | SKIPPED | SKIPPED | +-------------------------------+--------------------+-------------------+------------------+-------------------+ | Ubuntu 24.04 | PASS | PASS | PASS | SKIPPED | +-------------------------------+--------------------+-------------------+------------------+-------------------+ | FreeBSD 14.2 | PASS | SKIPPED | SKIPPED | SKIPPED | +-------------------------------+--------------------+-------------------+------------------+-------------------+ | Alpine Linux 3.22.0 | PASS | SKIPPED | SKIPPED | SKIPPED | +-------------------------------+--------------------+-------------------+------------------+-------------------+ | Windows Server 2022 | SKIPPED | SKIPPED | SKIPPED | PASS | +-------------------------------+--------------------+-------------------+------------------+-------------------+ Debian GNU/Linux 12 Kernel: 5.15 Compiler: gcc gcc (Debian 12.2.0-14+deb12u1) 12.2.0 Ubuntu 20.04 Kernel: 5.15 Compiler: gcc gcc (Ubuntu 9.4.0-1ubuntu1~20.04.2) 9.4.0 Fedora Linux 42 Kernel: 5.15 Compiler: gcc gcc (GCC) 15.2.1 20250808 (Red Hat 15.2.1-1) Red Hat Enterprise Linux 9.5 Kernel: 5.15 Compiler: gcc gcc (GCC) 11.5.0 20240719 (Red Hat 11.5.0-2) Red Hat Enterprise Linux 8.10 Kernel: 5.15 Compiler: gcc gcc (GCC) 8.5.0 20210514 (Red Hat 8.5.0-22) openSUSE Leap 15.6 Kernel: 5.15 Compiler: gcc gcc (SUSE Linux) 7.5.0 CentOS Stream 10 Kernel: 5.15 Compiler: gcc gcc (GCC) 14.2.1 20250110 (Red Hat 14.2.1-8) CentOS Stream 9 Kernel: 5.15 Compiler: gcc gcc (GCC) 11.5.0 20240719 (Red Hat 11.5.0-11) Ubuntu 22.04 Kernel: 5.15 Compiler: gcc gcc (Ubuntu 11.4.0-1ubuntu1~22.04) 11.4.0 Ubuntu 24.04 Kernel: 5.15 Compiler: gcc gcc (Ubuntu 13.3.0-6ubuntu2~24.04) 13.3.0 FreeBSD 14.2 Kernel: 14.2-RELEASE Compiler: clang 18.1.6 Alpine Linux 3.22.0 Kernel: 5.15 Compiler: gcc gcc (Alpine 14.2.0) 14.2.0 Windows Server 2022 Kernel: 10.0.20348.2031 Compiler: clang 15.0.7, gcc 14.1.0 (MinGW), and MSVC VS 19.39.33521 To view detailed results, visit: https://lab.dpdk.org/results/dashboard/patchsets/34274/ UNH-IOL DPDK Community Lab To manage your email subscriptions, visit: https://lab.dpdk.org/results/dashboard/preferences/subscriptions/