From mboxrd@z Thu Jan 1 00:00:00 1970 Return-Path: Received: from mails.dpdk.org (mails.dpdk.org [217.70.189.124]) by inbox.dpdk.org (Postfix) with ESMTP id A152F48935 for ; Tue, 14 Oct 2025 15:32:33 +0200 (CEST) Received: from mails.dpdk.org (localhost [127.0.0.1]) by mails.dpdk.org (Postfix) with ESMTP id 8136B402A8; Tue, 14 Oct 2025 15:32:33 +0200 (CEST) Received: from mail-il1-f227.google.com (mail-il1-f227.google.com [209.85.166.227]) by mails.dpdk.org (Postfix) with ESMTP id EB0EF402A8 for ; Tue, 14 Oct 2025 15:32:32 +0200 (CEST) Received: by mail-il1-f227.google.com with SMTP id e9e14a558f8ab-42d857dcf92so20122455ab.1 for ; Tue, 14 Oct 2025 06:32:32 -0700 (PDT) DKIM-Signature: v=1; a=rsa-sha256; c=relaxed/relaxed; d=iol.unh.edu; s=unh-iol; t=1760448752; x=1761053552; darn=dpdk.org; h=references:in-reply-to:cc:to:from:subject:message-id:date:from:to :cc:subject:date:message-id:reply-to; bh=7UO9ve35QZ+rSDRaehF3E6E9xT+NT/CrsNfSRE4l4IM=; b=EY94DBCIglA0A/jhO7J2Qwj3jNr4ndFtGhREmVa0kskVL2QMygG0NBIjL09e+1X5yK kGQLRNT7J6R0UYK7HilrDFkbTgi6cd4p1ov7UiuEfkdsxy5EqK+TcFGrKcfX9Ekp7vlr 2WmFxVsShrk+8DAxiWrujAbOmWUHwNKXZBfRA= X-Google-DKIM-Signature: v=1; a=rsa-sha256; c=relaxed/relaxed; d=1e100.net; s=20230601; t=1760448752; x=1761053552; h=references:in-reply-to:cc:to:from:subject:message-id:date :x-gm-message-state:from:to:cc:subject:date:message-id:reply-to; bh=7UO9ve35QZ+rSDRaehF3E6E9xT+NT/CrsNfSRE4l4IM=; b=CNJBqldy/wQEGwfAnOgUPzV0ZD+p0xapSBvJyelEZEX1ncGVfwlwIyImMg2/WvXT2d gLm+nsKPDcxcR2qswTVRhYyJZSm2eOoqF91meKrftpJguU27X7jTKdgrL8hLAYtVMYma IY6q72wM+dybdeiHUITCNGk8VcUe+KZ2/kh91ljz19FPNgyzAxL4tEwP9EA4cs52c19b wgZq613eCBYN+4ZVtXB3b8eZ3unYXVityLM0l3i6dCfUn1nS88Rc17UInsxY6N5aqbAH 9XWQ6f27LzqJplGY7zMmB6r0AimAs1ZFMIaAWDNZI2AWLyqt9UWN2mD0cAuld6SAo2mq JSJg== X-Gm-Message-State: AOJu0YxI/3nfGlnOp+MfsJJB7qKfC9OA/mr/Ejkkzie7Sh0M4v+rB7t1 JULIIzp9bAw8/MCykk0onfT/Tvtl0gg0MDX4E+1Lm4qLzaDCiN29BH4Zis2XWqdq3CGVH2La1a2 Vkv1+hCDQ98Rnfzyb4e0kopDX9Qd+tyEL6FjjSE3r4P8uDLwfe7YKI3DJADjO X-Gm-Gg: ASbGncucE/Hqibkw0ffdYl6OKVMwUWTFgDCi13OIfj+v27Yl5dds9QMX5xx6acsO5+o qPoVkp+my3RVKi+1nDxJk3o1gk4Z4JRMJbFErKFmEENEHvjpP26ZsxUv2s4Evv7yPPTbKxhJDEu wsnHhnY+Vu2v2QsiH6ITcJjdqc7ZRlJYEJG+JcnRzoKQI7fyr6zBuENcY98C9loGYqCeYprzbDv S7FxvvVH3GWXud2hDWOD5TbZul7at6GtST0GOGgpYrSYMtUIydIdiq3+WY+5mkkfxu6R5rZW/jP ty8jRb/2guxfDOBYchpsMIok0T7SCUROUhZ414Uh7mD6Dnb2+w== X-Google-Smtp-Source: AGHT+IGuK96p/Hq+K15Okzod8OvbfOZK5KDYIRQ+cko5lyNrSnHj7PkDQO6i097CHWMJtgqE3Sgi2t8AF/kQ X-Received: by 2002:a05:6e02:1785:b0:430:a110:ab4 with SMTP id e9e14a558f8ab-430a1102a77mr32115115ab.18.1760448752046; Tue, 14 Oct 2025 06:32:32 -0700 (PDT) Received: from postal.iol.unh.edu (postal.iol.unh.edu. [2606:4100:3880:1234::84]) by smtp-relay.gmail.com with ESMTPS id e9e14a558f8ab-42f90317c81sm10521585ab.21.2025.10.14.06.32.31 (version=TLS1_2 cipher=ECDHE-ECDSA-AES128-GCM-SHA256 bits=128/128); Tue, 14 Oct 2025 06:32:32 -0700 (PDT) X-Relaying-Domain: iol.unh.edu Date: Tue, 14 Oct 2025 06:32:32 -0700 (PDT) Message-ID: <68ee50f0.050a0220.15dfd0.3ee5SMTPIN_ADDED_MISSING@mx.google.com> Received: from [172.21.0.2] (unknown [172.18.0.240]) by postal.iol.unh.edu (Postfix) with ESMTP id 9294F60003EA; Tue, 14 Oct 2025 09:32:31 -0400 (EDT) Subject: |SUCCESS| pw157547 [PATCH] devtools: honor -n flag regardless of std From: dpdklab@iol.unh.edu To: Test Report Cc: dpdk-test-reports@iol.unh.edu In-Reply-To: <20251014074340.2364328-1-alialnu@nvidia.com> References: <20251014074340.2364328-1-alialnu@nvidia.com> Content-Type: text/plain X-BeenThere: test-report@dpdk.org X-Mailman-Version: 2.1.29 Precedence: list List-Id: automatic DPDK test reports List-Unsubscribe: , List-Archive: List-Post: List-Help: List-Subscribe: , Errors-To: test-report-bounces@dpdk.org Test-Label: iol-compile-amd64-testing Test-Status: SUCCESS http://dpdk.org/patch/157547 _Testing PASS_ Submitter: Ali Alnubani Date: Tuesday, October 14 2025 07:43:40 DPDK git baseline: Repo:dpdk Branch: master CommitID:2b403dd8fb37d0ba13723e44ffc7ee2c2795f838 157547 --> testing pass Upstream job id: Windows-Compile-DPDK-Native#31604 Test environment and result as below: +-------------------------------+--------------------+-------------------+------------------+-------------------+-------------------------+----------------------+ | Environment | dpdk_meson_compile | dpdk_compile_spdk | dpdk_compile_ovs | dpdk_msvc_compile | dpdk_llvm_clang_compile | dpdk_mingw64_compile | +===============================+====================+===================+==================+===================+=========================+======================+ | Ubuntu 20.04 | PASS | SKIPPED | SKIPPED | SKIPPED | SKIPPED | SKIPPED | +-------------------------------+--------------------+-------------------+------------------+-------------------+-------------------------+----------------------+ | FreeBSD 14.2 | PASS | SKIPPED | SKIPPED | SKIPPED | SKIPPED | SKIPPED | +-------------------------------+--------------------+-------------------+------------------+-------------------+-------------------------+----------------------+ | CentOS Stream 9 | PASS | PASS | SKIPPED | SKIPPED | SKIPPED | SKIPPED | +-------------------------------+--------------------+-------------------+------------------+-------------------+-------------------------+----------------------+ | CentOS Stream 10 | PASS | SKIPPED | SKIPPED | SKIPPED | SKIPPED | SKIPPED | +-------------------------------+--------------------+-------------------+------------------+-------------------+-------------------------+----------------------+ | Debian GNU/Linux 12 | PASS | PASS | SKIPPED | SKIPPED | SKIPPED | SKIPPED | +-------------------------------+--------------------+-------------------+------------------+-------------------+-------------------------+----------------------+ | Red Hat Enterprise Linux 9.5 | PASS | SKIPPED | SKIPPED | SKIPPED | SKIPPED | SKIPPED | +-------------------------------+--------------------+-------------------+------------------+-------------------+-------------------------+----------------------+ | Fedora Linux 42 | PASS | PASS | PASS | SKIPPED | SKIPPED | SKIPPED | +-------------------------------+--------------------+-------------------+------------------+-------------------+-------------------------+----------------------+ | Red Hat Enterprise Linux 8.10 | PASS | SKIPPED | SKIPPED | SKIPPED | SKIPPED | SKIPPED | +-------------------------------+--------------------+-------------------+------------------+-------------------+-------------------------+----------------------+ | Ubuntu 22.04 | PASS | PASS | SKIPPED | SKIPPED | SKIPPED | SKIPPED | +-------------------------------+--------------------+-------------------+------------------+-------------------+-------------------------+----------------------+ | Ubuntu 24.04 | PASS | PASS | PASS | SKIPPED | SKIPPED | SKIPPED | +-------------------------------+--------------------+-------------------+------------------+-------------------+-------------------------+----------------------+ | Alpine Linux 3.22.0 | PASS | SKIPPED | SKIPPED | SKIPPED | SKIPPED | SKIPPED | +-------------------------------+--------------------+-------------------+------------------+-------------------+-------------------------+----------------------+ | openSUSE Leap 15.6 | PASS | SKIPPED | SKIPPED | SKIPPED | SKIPPED | SKIPPED | +-------------------------------+--------------------+-------------------+------------------+-------------------+-------------------------+----------------------+ | Windows Server 2022 | SKIPPED | SKIPPED | SKIPPED | PASS | PASS | PASS | +-------------------------------+--------------------+-------------------+------------------+-------------------+-------------------------+----------------------+ Ubuntu 20.04 Kernel: 4.19 Compiler: gcc gcc (Ubuntu 9.4.0-1ubuntu1~20.04.2) 9.4.0 FreeBSD 14.2 Kernel: 14.2-RELEASE Compiler: clang 18.1.6 CentOS Stream 9 Kernel: 5.15 Compiler: gcc gcc (GCC) 11.5.0 20240719 (Red Hat 11.5.0-11) CentOS Stream 10 Kernel: 5.15 Compiler: gcc gcc (GCC) 14.2.1 20250110 (Red Hat 14.2.1-8) Debian GNU/Linux 12 Kernel: 5.15 Compiler: gcc gcc (Debian 12.2.0-14+deb12u1) 12.2.0 Red Hat Enterprise Linux 9.5 Kernel: 5.15 Compiler: gcc gcc (GCC) 11.5.0 20240719 (Red Hat 11.5.0-2) Fedora Linux 42 Kernel: 5.15 Compiler: clang gcc (GCC) 15.2.1 20250808 (Red Hat 15.2.1-1) Red Hat Enterprise Linux 8.10 Kernel: 5.15 Compiler: gcc gcc (GCC) 8.5.0 20210514 (Red Hat 8.5.0-22) Ubuntu 22.04 Kernel: 5.15 Compiler: gcc gcc (Ubuntu 11.4.0-1ubuntu1~22.04) 11.4.0 Ubuntu 24.04 Kernel: 5.15 Compiler: gcc gcc (Ubuntu 13.3.0-6ubuntu2~24.04) 13.3.0 Alpine Linux 3.22.0 Kernel: 5.15 Compiler: gcc gcc (Alpine 14.2.0) 14.2.0 openSUSE Leap 15.6 Kernel: 5.15 Compiler: gcc gcc (SUSE Linux) 7.5.0 Windows Server 2022 Kernel: 10.0.20348.2031 Compiler: clang 15.0.7, gcc 14.1.0 (MinGW), and MSVC VS 19.39.33521 To view detailed results, visit: https://lab.dpdk.org/results/dashboard/patchsets/34271/ UNH-IOL DPDK Community Lab To manage your email subscriptions, visit: https://lab.dpdk.org/results/dashboard/preferences/subscriptions/