From mboxrd@z Thu Jan 1 00:00:00 1970 Return-Path: Received: from mails.dpdk.org (mails.dpdk.org [217.70.189.124]) by inbox.dpdk.org (Postfix) with ESMTP id D12F648935 for ; Tue, 14 Oct 2025 15:34:25 +0200 (CEST) Received: from mails.dpdk.org (localhost [127.0.0.1]) by mails.dpdk.org (Postfix) with ESMTP id ADD58402A8; Tue, 14 Oct 2025 15:34:25 +0200 (CEST) Received: from mail-qv1-f98.google.com (mail-qv1-f98.google.com [209.85.219.98]) by mails.dpdk.org (Postfix) with ESMTP id 3FA90402A8 for ; Tue, 14 Oct 2025 15:34:24 +0200 (CEST) Received: by mail-qv1-f98.google.com with SMTP id 6a1803df08f44-791fd6bffbaso83222196d6.3 for ; Tue, 14 Oct 2025 06:34:24 -0700 (PDT) DKIM-Signature: v=1; a=rsa-sha256; c=relaxed/relaxed; d=iol.unh.edu; s=unh-iol; t=1760448863; x=1761053663; darn=dpdk.org; h=references:in-reply-to:cc:to:from:subject:message-id:date:from:to :cc:subject:date:message-id:reply-to; bh=p0KH3yClW4dXgJZV7YnqBf4q4fOhbn6bnVI+eOkh2Io=; b=Gs5FwFxXBw+LG/whBzmrkN3nRzNyPsfmEoNyGdxBDqVSudpnSqmQNhyqpZ6WEj/qGa d28PGZt685IjAZvEYKkC9MssVVNaV+7SyKeM+tKttnDAQ6K2vaoruSp1lzTGvQVRxLD6 8A6dkM94vJWyKW352UD/d3WrUS1TTXWD9jhD4= X-Google-DKIM-Signature: v=1; a=rsa-sha256; c=relaxed/relaxed; d=1e100.net; s=20230601; t=1760448863; x=1761053663; h=references:in-reply-to:cc:to:from:subject:message-id:date :x-gm-message-state:from:to:cc:subject:date:message-id:reply-to; bh=p0KH3yClW4dXgJZV7YnqBf4q4fOhbn6bnVI+eOkh2Io=; b=TNXWvVHFV8bNyuZnfsC8ErbCSztzXCHJSwwo48OMMY741XRap5aU2NQn1Gjy7/VS17 PleeZo6Bi6DMUDw7bXQQutcrKat7wrAjKapWJ3XueRJeJroYm+m9wI2LG/KwFbQ0bHQd dl9chVEP4gJJ1QaGcjkWQOhsV+FK2ASIXCy6pox2Wk4rzzadqBfSBrz2P25hEE1WqBrt /POmNxFI1EuCAop0H/RBs3iA6TMPYPrcddUjUJ3sj4OLfYzxTSOfdyw9wfp6zKJEFOa1 raTYHuRCJzdiLf6p6Pebj/2E5XD1nLJ5y+IU6hWEp1LRoygPytpBhLtRl0YUdClE8tyA g3tw== X-Gm-Message-State: AOJu0Yyh/d3/JiJyYncg9rOGGx5O/aCohv02eJmCw424fD6JqRwxRo/s UgMevKzUmwiCzcqTYBCtM6waytC6E8XwUw7v6Z7UztjHPi3NhLOwQvzWFJOQI9kxtcLpUpDvH2C B5xf9+X7hQjTj/YpoRKfGDMbSG2SL0lm7yWAjflEw0QdM X-Gm-Gg: ASbGnct9RgTs8+oLolgb4PzXshNJQ2xZVkhSVCLeRSoUPk+kyxy9DmV/LXBxtgVMyAA u/vXl5kvSkOXH3pawqVSokzsDFxzQFzcn+HIcVcwU4R9Yh2p7EgXZAyj4SbIar24XY9xZeqoztd 0iBV1V+VJAUok236EiM25l162rEiL8PLuFNeOfMq31yHUCyVz0MpCUdRsTHNdqEvz9WqYefJAax LaZ3mQJtbRzRx3/wd10IP0Mmw8/rnsbWe8UqB1Wuj+yd2wt/CdlasQ4WaDLsZk5JYXeTALC6dOE x9lNsDNbaYlyTiJWl6soQ8qp6Gx7uuN6eqI+yuqOgsdJaexHa430McKektdOV/diP0WB0Txk X-Google-Smtp-Source: AGHT+IFJgcXSTjXwEuE/6VYkArvC8NS4ngYzrXAD2FI6Vy6GCgnOOGrPmy7OR55vcEd4DtbTqHvn6Z18qbEi X-Received: by 2002:ad4:5c6b:0:b0:76f:6972:bb89 with SMTP id 6a1803df08f44-87b20feb968mr330811556d6.9.1760448863439; Tue, 14 Oct 2025 06:34:23 -0700 (PDT) Received: from postal.iol.unh.edu (postal.iol.unh.edu. [132.177.123.84]) by smtp-relay.gmail.com with ESMTPS id 6a1803df08f44-87bc3513e54sm10542726d6.19.2025.10.14.06.34.23 (version=TLS1_2 cipher=ECDHE-ECDSA-AES128-GCM-SHA256 bits=128/128); Tue, 14 Oct 2025 06:34:23 -0700 (PDT) X-Relaying-Domain: iol.unh.edu Date: Tue, 14 Oct 2025 06:34:23 -0700 (PDT) Message-ID: <68ee515f.d40a0220.324e9d.4489SMTPIN_ADDED_MISSING@mx.google.com> Received: from [172.21.0.2] (unknown [172.18.0.240]) by postal.iol.unh.edu (Postfix) with ESMTP id 2A9AA6051830; Tue, 14 Oct 2025 09:34:23 -0400 (EDT) Subject: |SUCCESS| pw157564-157565 [PATCH] [v4,2/2] net/iavf: add reinit comm From: dpdklab@iol.unh.edu To: Test Report Cc: dpdk-test-reports@iol.unh.edu, Bruce Richardson In-Reply-To: <20251014123624.1413473-2-ciara.loftus@intel.com> References: <20251014123624.1413473-2-ciara.loftus@intel.com> Content-Type: text/plain X-BeenThere: test-report@dpdk.org X-Mailman-Version: 2.1.29 Precedence: list List-Id: automatic DPDK test reports List-Unsubscribe: , List-Archive: List-Post: List-Help: List-Subscribe: , Errors-To: test-report-bounces@dpdk.org Test-Label: iol-unit-amd64-testing Test-Status: SUCCESS http://dpdk.org/patch/157565 _Testing PASS_ Submitter: Loftus, Ciara Date: Tuesday, October 14 2025 12:36:24 DPDK git baseline: Repo:dpdk-next-net-intel Branch: master CommitID:1e879dc01992b715b57f9f1a062ed9dee788c316 157564-157565 --> testing pass Upstream job id: Generic-Unit-Test-DPDK#381338 Test environment and result as below: +-------------------------------+----------------+ | Environment | dpdk_unit_test | +===============================+================+ | Fedora Linux 41 | PASS | +-------------------------------+----------------+ | CentOS Stream 10 | PASS | +-------------------------------+----------------+ | Fedora Linux 42 | PASS | +-------------------------------+----------------+ | Fedora Linux 40 | PASS | +-------------------------------+----------------+ | CentOS Stream 9 | PASS | +-------------------------------+----------------+ | Ubuntu 22.04 | PASS | +-------------------------------+----------------+ | Debian GNU/Linux 12 | PASS | +-------------------------------+----------------+ | Red Hat Enterprise Linux 9.5 | PASS | +-------------------------------+----------------+ | Red Hat Enterprise Linux 8.10 | PASS | +-------------------------------+----------------+ | Ubuntu 20.04 | PASS | +-------------------------------+----------------+ | Ubuntu 24.04 | PASS | +-------------------------------+----------------+ Fedora Linux 41 Kernel: 5.15 Compiler: clang gcc (GCC) 14.3.1 20250523 (Red Hat 14.3.1-1) CentOS Stream 10 Kernel: 5.15 Compiler: gcc gcc (GCC) 14.2.1 20250110 (Red Hat 14.2.1-8) Fedora Linux 42 Kernel: 5.15 Compiler: gcc gcc (GCC) 15.2.1 20250808 (Red Hat 15.2.1-1) Fedora Linux 40 Kernel: 5.15 Compiler: clang gcc (GCC) 14.2.1 20240912 (Red Hat 14.2.1-3) CentOS Stream 9 Kernel: 5.15 Compiler: gcc gcc (GCC) 11.5.0 20240719 (Red Hat 11.5.0-11) Ubuntu 22.04 Kernel: 5.15 Compiler: gcc gcc (Ubuntu 11.4.0-1ubuntu1~22.04) 11.4.0 Debian GNU/Linux 12 Kernel: 5.15 Compiler: gcc gcc (Debian 12.2.0-14+deb12u1) 12.2.0 Red Hat Enterprise Linux 9.5 Kernel: 5.15 Compiler: gcc gcc (GCC) 11.5.0 20240719 (Red Hat 11.5.0-2) Red Hat Enterprise Linux 8.10 Kernel: 5.15 Compiler: gcc gcc (GCC) 8.5.0 20210514 (Red Hat 8.5.0-22) Ubuntu 20.04 Kernel: 5.15 Compiler: gcc gcc (Ubuntu 9.4.0-1ubuntu1~20.04.2) 9.4.0 Ubuntu 24.04 Kernel: 5.15 Compiler: gcc gcc (Ubuntu 13.3.0-6ubuntu2~24.04) 13.3.0 To view detailed results, visit: https://lab.dpdk.org/results/dashboard/patchsets/34276/ UNH-IOL DPDK Community Lab To manage your email subscriptions, visit: https://lab.dpdk.org/results/dashboard/preferences/subscriptions/