From mboxrd@z Thu Jan 1 00:00:00 1970 Return-Path: Received: from mails.dpdk.org (mails.dpdk.org [217.70.189.124]) by inbox.dpdk.org (Postfix) with ESMTP id 8802648935 for ; Tue, 14 Oct 2025 15:41:56 +0200 (CEST) Received: from mails.dpdk.org (localhost [127.0.0.1]) by mails.dpdk.org (Postfix) with ESMTP id 7211F402A8; Tue, 14 Oct 2025 15:41:56 +0200 (CEST) Received: from mail-pg1-f228.google.com (mail-pg1-f228.google.com [209.85.215.228]) by mails.dpdk.org (Postfix) with ESMTP id 77DB5402A8 for ; Tue, 14 Oct 2025 15:41:55 +0200 (CEST) Received: by mail-pg1-f228.google.com with SMTP id 41be03b00d2f7-b5579235200so3424882a12.3 for ; Tue, 14 Oct 2025 06:41:55 -0700 (PDT) DKIM-Signature: v=1; a=rsa-sha256; c=relaxed/relaxed; d=iol.unh.edu; s=unh-iol; t=1760449314; x=1761054114; darn=dpdk.org; h=references:in-reply-to:cc:to:from:subject:message-id:date:from:to :cc:subject:date:message-id:reply-to; bh=ONya3R/fYBxoVYsRRvpVYPe9Q8KuMCjiE/b26ye0YYk=; b=YwP1zbhVpZkcndjMJDOHnepADZiAVC0+n2H2LfwAjWDp2/DU82HXvGiOGHgET5Qc1H LbHiXHouSHX7SMP0ukbpaI+SH9thpe6fq4e5mG2VFtJVNF8rvZ1OUsEqORQeu4IYwZN8 GWHP66bWfkeNrR76mW2JZ8CnhfTzacwEJ3gC8= X-Google-DKIM-Signature: v=1; a=rsa-sha256; c=relaxed/relaxed; d=1e100.net; s=20230601; t=1760449314; x=1761054114; h=references:in-reply-to:cc:to:from:subject:message-id:date :x-gm-message-state:from:to:cc:subject:date:message-id:reply-to; bh=ONya3R/fYBxoVYsRRvpVYPe9Q8KuMCjiE/b26ye0YYk=; b=lBES4kF9J7aOTxl1VVEKXDmBNuh+QkqVZiN+71hpm4wqjEv89/sLvGb2m4CvwUwnjg iy5FG9kLesOQF4Jy/S6REv87knV0Kc4MwxzYj+/qb2KYCOf/6R3vD6a8uWh5fGXhJETh eZ7Gt0slOcShb8Jzt5kHrjiKhN+GVcFRquebhwQM2P/QGvn7NzVNR57rG5V9lEqBncMB XjOTFmjJdQC+fKqpAStNiA/k8Qz4gHoT23OSSEeE3/EpYNwxDt6FM8SN699ZyMDjP1EK RgbrSIktV3u2TFzBgCrO6PqqnQYCOiiqo2jQ9FnlzsTTEX6B5BASgTa5CSivzUi11LHi m7zQ== X-Gm-Message-State: AOJu0Yy0jv17DFp/GP8HYvk+/2q3r+27jbH/Q1e9redmMkegEavBrkqA TGoOKPNSytevuIzuRnZsMsjZpO1eONaUYgk3pr//Pu4rzkUZHNY243ueDNHYTX/AQOTjriVJP9O 43gckp60ZDe+OT80alqeEYfqmh+LoP0oKs/Yze6Htb8o4 X-Gm-Gg: ASbGnct7CmaV1MSKBZjLTZr0fUW9D4BfhUFzvotJGCooZ/wpdyqNlAVd9qATLFkBX/t XXYtAzECJqVwyY0Pfkk99mN26PR19qagiGrDIPgtk0VIdH7nYieWelRucdlMxW+vxtyWGJcJZJJ UrnyCM5ZN0YrhOxA07M+nBOg66q3aMGI6JTySUZ3tqwC+y64Kg13NtKd382eAskNaJXM4QMgKSK sxybdh3DmU6V1QUMFsSRx7xX8PsuUEzqW9JtAn9rwxA1CWgKK3rjx4xiThDwBkuaCa2OpUKGU+v N3fQ6VWwGnbp55fQG+0MmIzS651ROjsZbBaenlOf2ZGR1HgFsgs5aYGwQ+Rqc6ocJiTKdsMs X-Google-Smtp-Source: AGHT+IEkRhyxc8GQcNxaD8tKMshmMXCELJhSFBDakczxXurw87wf2jDx8PiVgaONRf6rITn6FcpxbOJ3xFUz X-Received: by 2002:a17:903:2c06:b0:27e:dc53:d239 with SMTP id d9443c01a7336-290272b547bmr317990615ad.35.1760449314555; Tue, 14 Oct 2025 06:41:54 -0700 (PDT) Received: from postal.iol.unh.edu (postal.iol.unh.edu. [132.177.123.84]) by smtp-relay.gmail.com with ESMTPS id d9443c01a7336-29034e23280sm13215785ad.21.2025.10.14.06.41.54 (version=TLS1_2 cipher=ECDHE-ECDSA-AES128-GCM-SHA256 bits=128/128); Tue, 14 Oct 2025 06:41:54 -0700 (PDT) X-Relaying-Domain: iol.unh.edu Date: Tue, 14 Oct 2025 06:41:54 -0700 (PDT) Message-ID: <68ee5322.170a0220.1f9ff3.07ffSMTPIN_ADDED_MISSING@mx.google.com> Received: from [172.21.0.3] (unknown [172.18.0.240]) by postal.iol.unh.edu (Postfix) with ESMTP id CBE6F6051830; Tue, 14 Oct 2025 09:41:53 -0400 (EDT) Subject: |SUCCESS| pw157557-157561 [PATCH] [v3,5/5] net/dpaa: fix resource le From: dpdklab@iol.unh.edu To: Test Report Cc: dpdk-test-reports@iol.unh.edu, Stephen Hemminger In-Reply-To: <20251014101716.2885563-6-g.singh@nxp.com> References: <20251014101716.2885563-6-g.singh@nxp.com> Content-Type: text/plain X-BeenThere: test-report@dpdk.org X-Mailman-Version: 2.1.29 Precedence: list List-Id: automatic DPDK test reports List-Unsubscribe: , List-Archive: List-Post: List-Help: List-Subscribe: , Errors-To: test-report-bounces@dpdk.org Test-Label: iol-unit-amd64-testing Test-Status: SUCCESS http://dpdk.org/patch/157561 _Testing PASS_ Submitter: Gagandeep Singh Date: Tuesday, October 14 2025 10:17:16 DPDK git baseline: Repo:dpdk-next-net Branch: master CommitID:c04bbd131b2c14b3049bf86d3ef367b34e6fdf1e 157557-157561 --> testing pass Upstream job id: Generic-VM-Unit-Test-DPDK#31780 Test environment and result as below: +-------------------------------+----------------+ | Environment | dpdk_unit_test | +===============================+================+ | CentOS Stream 10 | PASS | +-------------------------------+----------------+ | CentOS Stream 9 | PASS | +-------------------------------+----------------+ | Debian GNU/Linux 12 | PASS | +-------------------------------+----------------+ | Fedora Linux 40 | PASS | +-------------------------------+----------------+ | Red Hat Enterprise Linux 8.10 | PASS | +-------------------------------+----------------+ | Fedora Linux 42 | PASS | +-------------------------------+----------------+ | Fedora Linux 41 | PASS | +-------------------------------+----------------+ | Ubuntu 20.04 | PASS | +-------------------------------+----------------+ | Red Hat Enterprise Linux 9.5 | PASS | +-------------------------------+----------------+ | Ubuntu 22.04 | PASS | +-------------------------------+----------------+ | Ubuntu 24.04 | PASS | +-------------------------------+----------------+ | Windows Server 2022 | PASS | +-------------------------------+----------------+ CentOS Stream 10 Kernel: 5.15 Compiler: gcc gcc (GCC) 14.2.1 20250110 (Red Hat 14.2.1-8) CentOS Stream 9 Kernel: 5.15 Compiler: gcc gcc (GCC) 11.5.0 20240719 (Red Hat 11.5.0-11) Debian GNU/Linux 12 Kernel: 5.15 Compiler: gcc gcc (Debian 12.2.0-14+deb12u1) 12.2.0 Fedora Linux 40 Kernel: 5.15 Compiler: clang gcc (GCC) 14.2.1 20240912 (Red Hat 14.2.1-3) Red Hat Enterprise Linux 8.10 Kernel: 5.15 Compiler: gcc gcc (GCC) 8.5.0 20210514 (Red Hat 8.5.0-22) Fedora Linux 42 Kernel: 5.15 Compiler: gcc gcc (GCC) 15.2.1 20250808 (Red Hat 15.2.1-1) Fedora Linux 41 Kernel: 5.15 Compiler: clang gcc (GCC) 14.3.1 20250523 (Red Hat 14.3.1-1) Ubuntu 20.04 Kernel: 5.15 Compiler: gcc gcc (Ubuntu 9.4.0-1ubuntu1~20.04.2) 9.4.0 Red Hat Enterprise Linux 9.5 Kernel: 5.15 Compiler: gcc gcc (GCC) 11.5.0 20240719 (Red Hat 11.5.0-2) Ubuntu 22.04 Kernel: 5.15 Compiler: gcc gcc (Ubuntu 11.4.0-1ubuntu1~22.04) 11.4.0 Ubuntu 24.04 Kernel: 5.15 Compiler: gcc gcc (Ubuntu 13.3.0-6ubuntu2~24.04) 13.3.0 Windows Server 2022 Kernel: 10.0.20348.2031 Compiler: clang 15.0.7, gcc 14.1.0 (MinGW), and MSVC VS 19.39.33521 To view detailed results, visit: https://lab.dpdk.org/results/dashboard/patchsets/34274/ UNH-IOL DPDK Community Lab To manage your email subscriptions, visit: https://lab.dpdk.org/results/dashboard/preferences/subscriptions/