From mboxrd@z Thu Jan 1 00:00:00 1970 Return-Path: Received: from mails.dpdk.org (mails.dpdk.org [217.70.189.124]) by inbox.dpdk.org (Postfix) with ESMTP id 6ADE948935 for ; Tue, 14 Oct 2025 15:49:32 +0200 (CEST) Received: from mails.dpdk.org (localhost [127.0.0.1]) by mails.dpdk.org (Postfix) with ESMTP id 3F234402A8; Tue, 14 Oct 2025 15:49:32 +0200 (CEST) Received: from mail-qv1-f98.google.com (mail-qv1-f98.google.com [209.85.219.98]) by mails.dpdk.org (Postfix) with ESMTP id 5BB4D402A8 for ; Tue, 14 Oct 2025 15:49:31 +0200 (CEST) Received: by mail-qv1-f98.google.com with SMTP id 6a1803df08f44-87be45cba29so36123096d6.2 for ; Tue, 14 Oct 2025 06:49:31 -0700 (PDT) DKIM-Signature: v=1; a=rsa-sha256; c=relaxed/relaxed; d=iol.unh.edu; s=unh-iol; t=1760449770; x=1761054570; darn=dpdk.org; h=references:in-reply-to:cc:to:from:subject:message-id:date:from:to :cc:subject:date:message-id:reply-to; bh=Sxz8SzGVTvX52X7ICZXl+pIrzRmcn6DALXAt8/0NKt8=; b=J/RR5p3KjQuMckt8IlXoG4h7cElb8emt/hQuL5Rd0jjTOz8BusLynm1SVjCXyR1uEW BhlPQJCgZyCwzeTuPbU+19ZYYfmOShFHqGbJ/V6isT2DrDL0puvJxgoabR3K4Qum2U3Z vqsGWV41cKwfw0jsnj36t4P4mmaKjqtTtBxm4= X-Google-DKIM-Signature: v=1; a=rsa-sha256; c=relaxed/relaxed; d=1e100.net; s=20230601; t=1760449770; x=1761054570; h=references:in-reply-to:cc:to:from:subject:message-id:date :x-gm-message-state:from:to:cc:subject:date:message-id:reply-to; bh=Sxz8SzGVTvX52X7ICZXl+pIrzRmcn6DALXAt8/0NKt8=; b=JoKJ7OVsdqEPb8o8m1aA8W21emAjCUU77/HIxuso45ALnC9nVutCif+FRHyd2/NCe7 5v7jgG5nsCIH+Qze45s8IOx5XakaBxYsMCWJ3zdCm9usJW1vnyxBZ9gFo1FD917anWIx XpZbBVY3RfDdbgKh+7QhI4zq+FUPehChJKu3JjxOkSI+5fN7WDf84/kYbfY3jVOaBI1v bxP+ca0kVaGBsZPkU9DTPd4lZoTIPAdia0f6UIMWKMUMeOuJC2eWix02QCLmG/Urn/6t XX4GQZ6c8krvOvXommCze8HcpsBdmP9kMMiXHwZ+lDWHvFySmqCglBsWpBcR4ZIPNXCj 75CA== X-Gm-Message-State: AOJu0YxbpLocyo55XlKthXugkURUuOFaSagqYhaYNzXXzglIEjPsbBCg diAyAnvtKwj4nwVy4oJkzaU+W8GBhtGYo8IExFuvz1HKByt1mmvsKue5bXVXOnH2aSD9L3KXPVn 7nA25BdGjjSznWj/kK2WhMmfuO++g4VI/W+S0YDra8iUF X-Gm-Gg: ASbGnct3eMKA2+bJuIVQqJzOooXLFB26E4S1efeSuw3I/5wkMdinDRbpuPjeKNLVPl5 xEB6k3CqNiCZY3s2gYnu+h3OZqkkiPEiQdfP//e7j/QreVB8Usrzc4iGY89yz3AKFPQ2bUYI7PM iBflSdsvg65H+5ByzRJe8MoZtiuhaLmOGv8nfqhAqI8L8+30kD1SFFquZJ32+Y9VNqDxLByo2as BuB6HpZP9g/hDUGDRfH2p1L6uA6hDH+UYEJ/H7bhCBMpFtoDHGOt6gVKGn4cbazJgAkkp3cd7eZ B9FoTDM7K2R9/GHJTe7qU/0HnJYQraYmJCrxK17GJi1Aa6R0hV8avqkhCY+5bRcXhI4Ycr+e X-Google-Smtp-Source: AGHT+IGua3Mexa6s0ND9g82PdQqqQsviDpIRLbRhDLvq75JPisJ9uXTNZOvPqtLP/i4AI93y8GDvSOt7h62g X-Received: by 2002:a05:6214:398e:b0:87b:c106:ed1a with SMTP id 6a1803df08f44-87bc106f2b8mr282767206d6.25.1760449770557; Tue, 14 Oct 2025 06:49:30 -0700 (PDT) Received: from postal.iol.unh.edu (postal.iol.unh.edu. [132.177.123.84]) by smtp-relay.gmail.com with ESMTPS id 6a1803df08f44-87bc345075csm11076226d6.8.2025.10.14.06.49.30 (version=TLS1_2 cipher=ECDHE-ECDSA-AES128-GCM-SHA256 bits=128/128); Tue, 14 Oct 2025 06:49:30 -0700 (PDT) X-Relaying-Domain: iol.unh.edu Date: Tue, 14 Oct 2025 06:49:30 -0700 (PDT) Message-ID: <68ee54ea.050a0220.b270b.6b9dSMTPIN_ADDED_MISSING@mx.google.com> Received: from [172.21.0.2] (unknown [172.18.0.240]) by postal.iol.unh.edu (Postfix) with ESMTP id 48A536050A61; Tue, 14 Oct 2025 09:49:30 -0400 (EDT) Subject: |SUCCESS| pw157517-157531 [PATCH] [15/15] net/dpaa2: add Policer sta From: dpdklab@iol.unh.edu To: Test Report Cc: dpdk-test-reports@iol.unh.edu In-Reply-To: <20251014060045.1304694-16-prashant.gupta_3@nxp.com> References: <20251014060045.1304694-16-prashant.gupta_3@nxp.com> Content-Type: text/plain X-BeenThere: test-report@dpdk.org X-Mailman-Version: 2.1.29 Precedence: list List-Id: automatic DPDK test reports List-Unsubscribe: , List-Archive: List-Post: List-Help: List-Subscribe: , Errors-To: test-report-bounces@dpdk.org Test-Label: iol-compile-arm64-testing Test-Status: SUCCESS http://dpdk.org/patch/157531 _Testing PASS_ Submitter: Prashant Gupta Date: Tuesday, October 14 2025 06:00:45 DPDK git baseline: Repo:dpdk Branch: master CommitID:2b403dd8fb37d0ba13723e44ffc7ee2c2795f838 157517-157531 --> testing pass Upstream job id: Generic-DPDK-Compile-Meson#433998 Test environment and result as below: +------------------------------+--------------------+ | Environment | dpdk_meson_compile | +==============================+====================+ | Red Hat Enterprise Linux 9.5 | PASS | +------------------------------+--------------------+ | Ubuntu 20.04 | PASS | +------------------------------+--------------------+ | Debian GNU/Linux 12 | PASS | +------------------------------+--------------------+ | Fedora Linux 42 | PASS | +------------------------------+--------------------+ | Ubuntu 22.04 | PASS | +------------------------------+--------------------+ | Ubuntu 24.04 | PASS | +------------------------------+--------------------+ | CentOS Stream 9 | PASS | +------------------------------+--------------------+ | CentOS Stream 10 | PASS | +------------------------------+--------------------+ Red Hat Enterprise Linux 9.5 Kernel: 5.4 Compiler: gcc gcc (GCC) 11.5.0 20240719 (Red Hat 11.5.0-2) Ubuntu 20.04 Kernel: 5.15 Compiler: aarch64-linux-gnu-gcc gcc (Ubuntu 9.4.0-1ubuntu1~20.04.2) 9.4.0 Debian GNU/Linux 12 Kernel: 5.4 Compiler: gcc gcc (Debian 12.2.0-14+deb12u1) 12.2.0 Fedora Linux 42 Kernel: 5.4 Compiler: gcc gcc (GCC) 15.2.1 20250808 (Red Hat 15.2.1-1) Ubuntu 22.04 Kernel: 5.4 Compiler: gcc gcc (Ubuntu 11.4.0-1ubuntu1~22.04) 11.4.0 Ubuntu 24.04 Kernel: 5.4 Compiler: gcc gcc (Ubuntu 13.3.0-6ubuntu2~24.04) 13.3.0 CentOS Stream 9 Kernel: 5.4 Compiler: gcc gcc (GCC) 11.5.0 20240719 (Red Hat 11.5.0-11) CentOS Stream 10 Kernel: 5.4 Compiler: gcc gcc (GCC) 14.2.1 20250110 (Red Hat 14.2.1-8) To view detailed results, visit: https://lab.dpdk.org/results/dashboard/patchsets/34270/ UNH-IOL DPDK Community Lab To manage your email subscriptions, visit: https://lab.dpdk.org/results/dashboard/preferences/subscriptions/