From mboxrd@z Thu Jan 1 00:00:00 1970 Return-Path: Received: from mails.dpdk.org (mails.dpdk.org [217.70.189.124]) by inbox.dpdk.org (Postfix) with ESMTP id 6570A48935 for ; Tue, 14 Oct 2025 15:50:26 +0200 (CEST) Received: from mails.dpdk.org (localhost [127.0.0.1]) by mails.dpdk.org (Postfix) with ESMTP id 5FF1F402A8; Tue, 14 Oct 2025 15:50:26 +0200 (CEST) Received: from mail-qk1-f227.google.com (mail-qk1-f227.google.com [209.85.222.227]) by mails.dpdk.org (Postfix) with ESMTP id F3DA3402A8 for ; Tue, 14 Oct 2025 15:50:24 +0200 (CEST) Received: by mail-qk1-f227.google.com with SMTP id af79cd13be357-87a0801ba1aso888453585a.2 for ; Tue, 14 Oct 2025 06:50:24 -0700 (PDT) DKIM-Signature: v=1; a=rsa-sha256; c=relaxed/relaxed; d=iol.unh.edu; s=unh-iol; t=1760449824; x=1761054624; darn=dpdk.org; h=references:in-reply-to:cc:to:from:subject:message-id:date:from:to :cc:subject:date:message-id:reply-to; bh=GF98OmgIv12/j+21L9WRYxMICc5SsHpFad7aeHpqykI=; b=f2cK/osQ5u7VyH/Ziow3dh/3Ig9GvbKfoq0SzDF0ZJU6B6SQabbrq6NyM7JZbEak+t KOhqYC/oPIiGSap5geQR4Snj9xN3KvKPeXBlE0MbiiyWgocSfTuR1PAtOQild/YYECbu jErmvYcVE2Nx96yoYeP5WXrMu0B5X2t7Ic1CE= X-Google-DKIM-Signature: v=1; a=rsa-sha256; c=relaxed/relaxed; d=1e100.net; s=20230601; t=1760449824; x=1761054624; h=references:in-reply-to:cc:to:from:subject:message-id:date :x-gm-message-state:from:to:cc:subject:date:message-id:reply-to; bh=GF98OmgIv12/j+21L9WRYxMICc5SsHpFad7aeHpqykI=; b=N0wb7Y2egFlOPVkE23GktO7MpSjI0Ad9kYiyhHuDxnh+E2oBQlIL8N5URIAKdkf5F3 9J8UYlVu9oa8h28WUo9wBzWhOgIwLBJhnxKKcho93dOimPppT2q8VcjV+PEdH4qcuQ+u ZlYYGST8KacYHof5jcffbDbML/N0nEEL1cqrjtOWfkHkj8c0lFIfhTB+/fIQMxtjTWCe In5qSKzLhXsZrmmTZJm5YvRx6NF7JiHLcfXMdfH95MlQE7l96bBXq9/QLM0Hyf6Lz3eq 0T4TTz4HhnIU5gRP8Nai3m2jrT8nrhDpFIVdLhcPdK8FjNr01cHurL+aKiHzU488R1Gh mOJQ== X-Gm-Message-State: AOJu0YwYT1Vs2WSoHOQY/oSqLJjYxO4mPt8O3z98iGhWId9FYE+uaSoR EXOBzmPtv6kVE4WQFt62RXoXHwDRe6J/aZN3qpieMDqqjkHTdrR2r5RrpUB+evMuD6qt4NBAW4T I3Z7ePkg9yr/ElBzP1YTlQrFUJ7ECfrvpCMsdr8Wy0vYn X-Gm-Gg: ASbGncvUtf0W97a2AQRdbCEwS3oy1epgn+KlewArNYsBuEalDxrC2v2IMCesBu9iVLY M1sK6y/N/6dvOFCXBGyXaZGHFXMsOG4gwnfya5Z70/iPsu5I9RCyD9sLB8n59Cs5XpiacJ4raUG rueDErPVIgqcuwnWsQTxrC8W1B/TXCi3wAr8EDifMS2bP+sA/sqNJ1c/+g65CIwVbMkBAcX+c4I ua/N1ut5DECloisis/yf57ykyPSZxLSUjQFKqrabem4xce+kReDEJBo1zp0E1xG5+6CTIkmAVfq Y+ZEVzuMoQMt36hMGCzr5M8Y5Ako3zsumOfpJRwExPSBCDzqbNma+bIKjGM6xPTbGqstbvfm X-Google-Smtp-Source: AGHT+IHOKlBjZbNFiUvBzju/2d0ypbWh4cAnlJX7Fp/sL31VL0hrN86vgU+QJnps6QcUFtaq5lcFrUW64CIX X-Received: by 2002:a05:620a:4808:b0:851:cb50:c5d0 with SMTP id af79cd13be357-8834ff8ddc6mr3533479785a.12.1760449824299; Tue, 14 Oct 2025 06:50:24 -0700 (PDT) Received: from postal.iol.unh.edu (postal.iol.unh.edu. [132.177.123.84]) by smtp-relay.gmail.com with ESMTPS id d75a77b69052e-4e706e84983sm5136011cf.2.2025.10.14.06.50.24 (version=TLS1_2 cipher=ECDHE-ECDSA-AES128-GCM-SHA256 bits=128/128); Tue, 14 Oct 2025 06:50:24 -0700 (PDT) X-Relaying-Domain: iol.unh.edu Date: Tue, 14 Oct 2025 06:50:24 -0700 (PDT) Message-ID: <68ee5520.050a0220.2971d3.9bfbSMTPIN_ADDED_MISSING@mx.google.com> Received: from [172.21.0.3] (unknown [172.18.0.240]) by postal.iol.unh.edu (Postfix) with ESMTP id 026606050A61; Tue, 14 Oct 2025 09:50:24 -0400 (EDT) Subject: |SUCCESS| pw157564-157565 [PATCH] [v4,2/2] net/iavf: add reinit comm From: dpdklab@iol.unh.edu To: Test Report Cc: dpdk-test-reports@iol.unh.edu, Bruce Richardson In-Reply-To: <20251014123624.1413473-2-ciara.loftus@intel.com> References: <20251014123624.1413473-2-ciara.loftus@intel.com> Content-Type: text/plain X-BeenThere: test-report@dpdk.org X-Mailman-Version: 2.1.29 Precedence: list List-Id: automatic DPDK test reports List-Unsubscribe: , List-Archive: List-Post: List-Help: List-Subscribe: , Errors-To: test-report-bounces@dpdk.org Test-Label: iol-compile-amd64-testing Test-Status: SUCCESS http://dpdk.org/patch/157565 _Testing PASS_ Submitter: Loftus, Ciara Date: Tuesday, October 14 2025 12:36:24 DPDK git baseline: Repo:dpdk-next-net-intel Branch: master CommitID:1e879dc01992b715b57f9f1a062ed9dee788c316 157564-157565 --> testing pass Upstream job id: Generic-DPDK-Compile-Meson#434172 Test environment and result as below: +-------------------------------+--------------------+-------------------+------------------+ | Environment | dpdk_meson_compile | dpdk_compile_spdk | dpdk_compile_ovs | +===============================+====================+===================+==================+ | CentOS Stream 9 | PASS | PASS | SKIPPED | +-------------------------------+--------------------+-------------------+------------------+ | CentOS Stream 10 | PASS | SKIPPED | SKIPPED | +-------------------------------+--------------------+-------------------+------------------+ | Fedora Linux 42 | PASS | PASS | PASS | +-------------------------------+--------------------+-------------------+------------------+ | Ubuntu 20.04 | PASS | SKIPPED | SKIPPED | +-------------------------------+--------------------+-------------------+------------------+ | openSUSE Leap 15.6 | PASS | SKIPPED | SKIPPED | +-------------------------------+--------------------+-------------------+------------------+ | Ubuntu 22.04 | PASS | PASS | SKIPPED | +-------------------------------+--------------------+-------------------+------------------+ | Debian GNU/Linux 12 | PASS | PASS | SKIPPED | +-------------------------------+--------------------+-------------------+------------------+ | FreeBSD 14.2 | PASS | SKIPPED | SKIPPED | +-------------------------------+--------------------+-------------------+------------------+ | Ubuntu 24.04 | PASS | PASS | PASS | +-------------------------------+--------------------+-------------------+------------------+ | Red Hat Enterprise Linux 8.10 | PASS | SKIPPED | SKIPPED | +-------------------------------+--------------------+-------------------+------------------+ | Red Hat Enterprise Linux 9.5 | PASS | SKIPPED | SKIPPED | +-------------------------------+--------------------+-------------------+------------------+ | Alpine Linux 3.22.0 | PASS | SKIPPED | SKIPPED | +-------------------------------+--------------------+-------------------+------------------+ CentOS Stream 9 Kernel: 5.15 Compiler: gcc gcc (GCC) 11.5.0 20240719 (Red Hat 11.5.0-11) CentOS Stream 10 Kernel: 5.15 Compiler: gcc gcc (GCC) 14.2.1 20250110 (Red Hat 14.2.1-8) Fedora Linux 42 Kernel: 5.15 Compiler: clang gcc (GCC) 15.2.1 20250808 (Red Hat 15.2.1-1) Ubuntu 20.04 Kernel: 4.19 Compiler: gcc gcc (Ubuntu 9.4.0-1ubuntu1~20.04.2) 9.4.0 openSUSE Leap 15.6 Kernel: 5.15 Compiler: gcc gcc (SUSE Linux) 7.5.0 Ubuntu 22.04 Kernel: 5.15 Compiler: gcc gcc (Ubuntu 11.4.0-1ubuntu1~22.04) 11.4.0 Debian GNU/Linux 12 Kernel: 5.15 Compiler: gcc gcc (Debian 12.2.0-14+deb12u1) 12.2.0 FreeBSD 14.2 Kernel: 14.2-RELEASE Compiler: clang 18.1.6 Ubuntu 24.04 Kernel: 5.15 Compiler: gcc gcc (Ubuntu 13.3.0-6ubuntu2~24.04) 13.3.0 Red Hat Enterprise Linux 8.10 Kernel: 5.15 Compiler: gcc gcc (GCC) 8.5.0 20210514 (Red Hat 8.5.0-22) Red Hat Enterprise Linux 9.5 Kernel: 5.15 Compiler: gcc gcc (GCC) 11.5.0 20240719 (Red Hat 11.5.0-2) Alpine Linux 3.22.0 Kernel: 5.15 Compiler: gcc gcc (Alpine 14.2.0) 14.2.0 To view detailed results, visit: https://lab.dpdk.org/results/dashboard/patchsets/34276/ UNH-IOL DPDK Community Lab To manage your email subscriptions, visit: https://lab.dpdk.org/results/dashboard/preferences/subscriptions/