From mboxrd@z Thu Jan 1 00:00:00 1970 Return-Path: Received: from mails.dpdk.org (mails.dpdk.org [217.70.189.124]) by inbox.dpdk.org (Postfix) with ESMTP id C9E0B48935 for ; Tue, 14 Oct 2025 15:54:08 +0200 (CEST) Received: from mails.dpdk.org (localhost [127.0.0.1]) by mails.dpdk.org (Postfix) with ESMTP id C5D67402A8; Tue, 14 Oct 2025 15:54:08 +0200 (CEST) Received: from mail-qk1-f226.google.com (mail-qk1-f226.google.com [209.85.222.226]) by mails.dpdk.org (Postfix) with ESMTP id 5598F402A8 for ; Tue, 14 Oct 2025 15:54:07 +0200 (CEST) Received: by mail-qk1-f226.google.com with SMTP id af79cd13be357-87db3aa478fso574988585a.2 for ; Tue, 14 Oct 2025 06:54:07 -0700 (PDT) DKIM-Signature: v=1; a=rsa-sha256; c=relaxed/relaxed; d=iol.unh.edu; s=unh-iol; t=1760450047; x=1761054847; darn=dpdk.org; h=references:in-reply-to:cc:to:from:subject:message-id:date:from:to :cc:subject:date:message-id:reply-to; bh=IUtqVBOsnRyctGRH0HLG3LCbJMqQdBlbHixPSHWSStE=; b=FxupM2DDZgtC4h5Mj59Mb37fjfP6JkKi78TgETDkhwBZ48/suv2fo1SU2UYUpc/v3W 3j6m6e/nKDJGi6jOm7qhPjBkl2JE8WboAK+XDMnMocOj116hA6CaFSA9yMyEZAFodjTQ JoILnv0NlR6t5qYTll/MIaeHON9llYYztpdmc= X-Google-DKIM-Signature: v=1; a=rsa-sha256; c=relaxed/relaxed; d=1e100.net; s=20230601; t=1760450047; x=1761054847; h=references:in-reply-to:cc:to:from:subject:message-id:date :x-gm-message-state:from:to:cc:subject:date:message-id:reply-to; bh=IUtqVBOsnRyctGRH0HLG3LCbJMqQdBlbHixPSHWSStE=; b=iukyv1ktaizbXKQ4XEj1A58H6+PIpMS3whmygt+2dqhb110LWZallcHW2N0j/h+Fm8 pI3OtZ0f70Vu1mjMO7KVcvGhb4ZTlKV4U8w9gRcNyYBbQL0bChh0Z73LP1ubBwmLmg32 fedSK60bfnuiZJo13CAuXn2eo805NEuyXEAE3zOOU1F30pR/5wJjR7gt1DpO+LhWyGpY bohfhd5yf53805Bqn27vAL7Nd6lF69euea+WkNh1IWQyTzeOLkk2cjpUNG8aiiLddyc+ NkBpTv7MID3DWhhAH/Kge22P9vemUrk2BS5Q0OhYXxwayHbZZ7CqFFwJlHRrYrlUP0Qn j64Q== X-Gm-Message-State: AOJu0YyGZKZC1u9n88RYfhSbydavOtpCoo6A0CFGDLRRYAaBb3QS8Iwt t8inUh10Be5VAgfx/UpKtmvkt3y6cpXQU56nTapv4fRn8ORM4gezKhyyw8+F86/HfvkFVjJgSrA 2nOwJK0CT00z2H5Zbxza+6FFPiHbzgoP1AEpK8ZuF9idgJrri258cpW7LZnZz X-Gm-Gg: ASbGncuGTHGRGMp8RZ6+vvzuTHE1XxIJpIalEbzh8uzf706esQU3qVN5qxUdCLv7jps ZcgNu5N8/mP82VGye8kV2JyVk1pvgCFB7QMIyA77lvVZ2/z9QspE355MKPcZmpOcdunl27CYigf jK9glySZH6I9e8VXaNXdlgOH8ZtveBNnMgl0smEnsyrHDXajzeoH5fF0Q4CtHdVa1+fmflSTcDP Kw40NBfrSsSwlz1DuHFi5hpABwHBsRV5+bCa/Jduyiyi9HYmHBmXHopLPeaRqeGAfYUuoRbVqJa woNgVdu/Yb61SOAbktZ0gM673orIw2+Go5ryne3os1KmP0s4pg== X-Google-Smtp-Source: AGHT+IHUNCxKUicHlkyci1cxYVITWY4XNmD0ws4kC8LnR4CioQGlbPdIL6JrspLrN1RKFhHs1Msc49c4K6I3 X-Received: by 2002:a05:620a:3905:b0:855:cfe0:b6e0 with SMTP id af79cd13be357-883527b6b3amr3084850285a.57.1760450046527; Tue, 14 Oct 2025 06:54:06 -0700 (PDT) Received: from postal.iol.unh.edu (postal.iol.unh.edu. [2606:4100:3880:1234::84]) by smtp-relay.gmail.com with ESMTPS id af79cd13be357-884a1bac78esm108538185a.8.2025.10.14.06.54.06 (version=TLS1_2 cipher=ECDHE-ECDSA-AES128-GCM-SHA256 bits=128/128); Tue, 14 Oct 2025 06:54:06 -0700 (PDT) X-Relaying-Domain: iol.unh.edu Date: Tue, 14 Oct 2025 06:54:06 -0700 (PDT) Message-ID: <68ee55fe.050a0220.37abc4.6033SMTPIN_ADDED_MISSING@mx.google.com> Received: from [172.21.0.5] (unknown [172.18.0.240]) by postal.iol.unh.edu (Postfix) with ESMTP id 3E9B76050A61; Tue, 14 Oct 2025 09:54:06 -0400 (EDT) Subject: |SUCCESS| pw157557-157561 [PATCH] [v3,5/5] net/dpaa: fix resource le From: dpdklab@iol.unh.edu To: Test Report Cc: dpdk-test-reports@iol.unh.edu, Stephen Hemminger In-Reply-To: <20251014101716.2885563-6-g.singh@nxp.com> References: <20251014101716.2885563-6-g.singh@nxp.com> Content-Type: text/plain X-BeenThere: test-report@dpdk.org X-Mailman-Version: 2.1.29 Precedence: list List-Id: automatic DPDK test reports List-Unsubscribe: , List-Archive: List-Post: List-Help: List-Subscribe: , Errors-To: test-report-bounces@dpdk.org Test-Label: iol-unit-amd64-testing Test-Status: SUCCESS http://dpdk.org/patch/157561 _Testing PASS_ Submitter: Gagandeep Singh Date: Tuesday, October 14 2025 10:17:16 DPDK git baseline: Repo:dpdk-next-net Branch: master CommitID:c04bbd131b2c14b3049bf86d3ef367b34e6fdf1e 157557-157561 --> testing pass Upstream job id: Generic-VM-Unit-Test-DPDK#31781 Test environment and result as below: +-------------------------------+----------------+ | Environment | dpdk_unit_test | +===============================+================+ | CentOS Stream 10 | PASS | +-------------------------------+----------------+ | CentOS Stream 9 | PASS | +-------------------------------+----------------+ | Debian GNU/Linux 12 | PASS | +-------------------------------+----------------+ | Fedora Linux 40 | PASS | +-------------------------------+----------------+ | Red Hat Enterprise Linux 8.10 | PASS | +-------------------------------+----------------+ | Fedora Linux 42 | PASS | +-------------------------------+----------------+ | Fedora Linux 41 | PASS | +-------------------------------+----------------+ | Ubuntu 20.04 | PASS | +-------------------------------+----------------+ | Red Hat Enterprise Linux 9.5 | PASS | +-------------------------------+----------------+ | Ubuntu 22.04 | PASS | +-------------------------------+----------------+ | Ubuntu 24.04 | PASS | +-------------------------------+----------------+ | Windows Server 2022 | PASS | +-------------------------------+----------------+ CentOS Stream 10 Kernel: 5.15 Compiler: gcc gcc (GCC) 14.2.1 20250110 (Red Hat 14.2.1-8) CentOS Stream 9 Kernel: 5.15 Compiler: gcc gcc (GCC) 11.5.0 20240719 (Red Hat 11.5.0-11) Debian GNU/Linux 12 Kernel: 5.15 Compiler: gcc gcc (Debian 12.2.0-14+deb12u1) 12.2.0 Fedora Linux 40 Kernel: 5.15 Compiler: clang gcc (GCC) 14.2.1 20240912 (Red Hat 14.2.1-3) Red Hat Enterprise Linux 8.10 Kernel: 5.15 Compiler: gcc gcc (GCC) 8.5.0 20210514 (Red Hat 8.5.0-22) Fedora Linux 42 Kernel: 5.15 Compiler: gcc gcc (GCC) 15.2.1 20250808 (Red Hat 15.2.1-1) Fedora Linux 41 Kernel: 5.15 Compiler: clang gcc (GCC) 14.3.1 20250523 (Red Hat 14.3.1-1) Ubuntu 20.04 Kernel: 5.15 Compiler: gcc gcc (Ubuntu 9.4.0-1ubuntu1~20.04.2) 9.4.0 Red Hat Enterprise Linux 9.5 Kernel: 5.15 Compiler: gcc gcc (GCC) 11.5.0 20240719 (Red Hat 11.5.0-2) Ubuntu 22.04 Kernel: 5.15 Compiler: gcc gcc (Ubuntu 11.4.0-1ubuntu1~22.04) 11.4.0 Ubuntu 24.04 Kernel: 5.15 Compiler: gcc gcc (Ubuntu 13.3.0-6ubuntu2~24.04) 13.3.0 Windows Server 2022 Kernel: 10.0.20348.2031 Compiler: clang 15.0.7, gcc 14.1.0 (MinGW), and MSVC VS 19.39.33521 To view detailed results, visit: https://lab.dpdk.org/results/dashboard/patchsets/34274/ UNH-IOL DPDK Community Lab To manage your email subscriptions, visit: https://lab.dpdk.org/results/dashboard/preferences/subscriptions/