From mboxrd@z Thu Jan 1 00:00:00 1970 Return-Path: Received: from mails.dpdk.org (mails.dpdk.org [217.70.189.124]) by inbox.dpdk.org (Postfix) with ESMTP id D60B748935 for ; Tue, 14 Oct 2025 15:54:18 +0200 (CEST) Received: from mails.dpdk.org (localhost [127.0.0.1]) by mails.dpdk.org (Postfix) with ESMTP id D122B402A8; Tue, 14 Oct 2025 15:54:18 +0200 (CEST) Received: from mail-pg1-f226.google.com (mail-pg1-f226.google.com [209.85.215.226]) by mails.dpdk.org (Postfix) with ESMTP id AA874402A8 for ; Tue, 14 Oct 2025 15:54:17 +0200 (CEST) Received: by mail-pg1-f226.google.com with SMTP id 41be03b00d2f7-b5515eaefceso4649098a12.2 for ; Tue, 14 Oct 2025 06:54:17 -0700 (PDT) DKIM-Signature: v=1; a=rsa-sha256; c=relaxed/relaxed; d=iol.unh.edu; s=unh-iol; t=1760450057; x=1761054857; darn=dpdk.org; h=references:in-reply-to:cc:to:from:subject:message-id:date:from:to :cc:subject:date:message-id:reply-to; bh=FbfeGhlMmykw01mJRl+8gWq1h2AxT18Kr/Pwdq7Rlpw=; b=ieLBELLydXZH8BdWMloQF0TfSuR/Bgn+T7nCyoyDlahczZizoKgvQarHP1AJs6iEOf kOvGIvuSb3HlXaUHoMl0mH+EYEo8Uk5Q3bzPiJyMDAxjnhK0Uwgy4neywUiskGsP+Vgi abTsAjGuQZXReZv+2xQSWtdU42ZwSdLzhy86s= X-Google-DKIM-Signature: v=1; a=rsa-sha256; c=relaxed/relaxed; d=1e100.net; s=20230601; t=1760450057; x=1761054857; h=references:in-reply-to:cc:to:from:subject:message-id:date :x-gm-message-state:from:to:cc:subject:date:message-id:reply-to; bh=FbfeGhlMmykw01mJRl+8gWq1h2AxT18Kr/Pwdq7Rlpw=; b=uLd4dNzeh557N6xIhKTO2a2WGqPGC1yGulwCrYp1Dvayn0XfOmUzBks7ktHBBK3v01 GQQVpb50kYQ1318WTCS9azoqb3r2oYGWrGXM3mVKEiGiV28ihmxylUvgK60jTOSKSK7R sm8fjy8hclHfrKzxGMyQP7al/oot2rapxd3eMH6ac7XKWoPnIX8xsTlHhTYesfztPL9M 9+Op8KFB/NeSpob2T2CIGhb+CGYnNEX2cDgtNO0CLQHgiP/jCBmQ8p8524KZwQRsM9KG dKKo2wOThoEHtUGI0tuZhuvT71PLKR6NgIMcob7rop9cUssT5/ppHN8I6/8ShOx3m+k4 9XRg== X-Gm-Message-State: AOJu0YyCn8zcIcmqOKQVQoT3J98BLmd4ARaahOKoql9/rmJCbnWrXORH sw3Lq+IifsBV9g8n6xkAvdYffokUGnuHS2hof09yCidDqRCCijQa73BJPdJ9r6qKmKKxlPq7MDg I4UMD2Bif7zPScLiUbfns7ZoSgknH60KcOeuC/GBts82t+KOBDrV6IWYeKCaC X-Gm-Gg: ASbGncsfgxgYKJTKpxa0Ms7FARd8epFu0mYl4hWa4QgZnDMyCJqfaKsRXxmrPi8rBPU 8fHqpKf+32fsEVV7C9FcBa7Crb6Ze48mZ0+ta+hljdu4bIu36Jq8xhL45trKiVcVm4UYvEtXzGD 7/uaQnLhTkAv6BpKgo25fIEhbxqIiO+Il/JeztSV1JoipbyVbx9dhUwBW7Cjf5FIQySVkqfjhHn eA5PK9O6qTb0NMBY1BPSlffu1zRYIeZmHfu31xCQrF603WsPhcgSOI/pPDypf/c2Xp/SvavXKO1 3WsndY97wyioaTT8rAoPM9OxRNcUsntZQS/qSsOh/9I7E3Mycg== X-Google-Smtp-Source: AGHT+IFuCLwXPjTMRZ1PCgdD/f6bPF+hdB7xrbBz7fuB+G20qw5Jf0S6kiwEdz1phrEQBY95ZZbNP+in50nN X-Received: by 2002:a17:902:e94e:b0:26f:7db2:3e1e with SMTP id d9443c01a7336-290273ffbe6mr311185835ad.47.1760450056601; Tue, 14 Oct 2025 06:54:16 -0700 (PDT) Received: from postal.iol.unh.edu (postal.iol.unh.edu. [2606:4100:3880:1234::84]) by smtp-relay.gmail.com with ESMTPS id d9443c01a7336-29034f81fb2sm12852485ad.69.2025.10.14.06.54.16 (version=TLS1_2 cipher=ECDHE-ECDSA-AES128-GCM-SHA256 bits=128/128); Tue, 14 Oct 2025 06:54:16 -0700 (PDT) X-Relaying-Domain: iol.unh.edu Date: Tue, 14 Oct 2025 06:54:16 -0700 (PDT) Message-ID: <68ee5608.170a0220.92cb4.edadSMTPIN_ADDED_MISSING@mx.google.com> Received: from [172.21.0.4] (unknown [172.18.0.240]) by postal.iol.unh.edu (Postfix) with ESMTP id DD6616050A61; Tue, 14 Oct 2025 09:54:15 -0400 (EDT) Subject: |SUCCESS| pw157547 [PATCH] devtools: honor -n flag regardless of std From: dpdklab@iol.unh.edu To: Test Report Cc: dpdk-test-reports@iol.unh.edu In-Reply-To: <20251014074340.2364328-1-alialnu@nvidia.com> References: <20251014074340.2364328-1-alialnu@nvidia.com> Content-Type: text/plain X-BeenThere: test-report@dpdk.org X-Mailman-Version: 2.1.29 Precedence: list List-Id: automatic DPDK test reports List-Unsubscribe: , List-Archive: List-Post: List-Help: List-Subscribe: , Errors-To: test-report-bounces@dpdk.org Test-Label: iol-compile-arm64-testing Test-Status: SUCCESS http://dpdk.org/patch/157547 _Testing PASS_ Submitter: Ali Alnubani Date: Tuesday, October 14 2025 07:43:40 DPDK git baseline: Repo:dpdk Branch: master CommitID:2b403dd8fb37d0ba13723e44ffc7ee2c2795f838 157547 --> testing pass Upstream job id: Generic-DPDK-Compile-Meson#434012 Test environment and result as below: +------------------------------+--------------------+ | Environment | dpdk_meson_compile | +==============================+====================+ | Red Hat Enterprise Linux 9.5 | PASS | +------------------------------+--------------------+ | Ubuntu 20.04 | PASS | +------------------------------+--------------------+ | Fedora Linux 42 | PASS | +------------------------------+--------------------+ | Debian GNU/Linux 12 | PASS | +------------------------------+--------------------+ | Ubuntu 22.04 | PASS | +------------------------------+--------------------+ | Ubuntu 24.04 | PASS | +------------------------------+--------------------+ | CentOS Stream 9 | PASS | +------------------------------+--------------------+ | CentOS Stream 10 | PASS | +------------------------------+--------------------+ Red Hat Enterprise Linux 9.5 Kernel: 5.4 Compiler: gcc gcc (GCC) 11.5.0 20240719 (Red Hat 11.5.0-2) Ubuntu 20.04 Kernel: 5.15 Compiler: aarch64-linux-gnu-gcc gcc (Ubuntu 9.4.0-1ubuntu1~20.04.2) 9.4.0 Fedora Linux 42 Kernel: 5.4 Compiler: gcc gcc (GCC) 15.2.1 20250808 (Red Hat 15.2.1-1) Debian GNU/Linux 12 Kernel: 5.4 Compiler: gcc gcc (Debian 12.2.0-14+deb12u1) 12.2.0 Ubuntu 22.04 Kernel: 5.4 Compiler: gcc gcc (Ubuntu 11.4.0-1ubuntu1~22.04) 11.4.0 Ubuntu 24.04 Kernel: 5.4 Compiler: gcc gcc (Ubuntu 13.3.0-6ubuntu2~24.04) 13.3.0 CentOS Stream 9 Kernel: 5.4 Compiler: gcc gcc (GCC) 11.5.0 20240719 (Red Hat 11.5.0-11) CentOS Stream 10 Kernel: 5.4 Compiler: gcc gcc (GCC) 14.2.1 20250110 (Red Hat 14.2.1-8) To view detailed results, visit: https://lab.dpdk.org/results/dashboard/patchsets/34271/ UNH-IOL DPDK Community Lab To manage your email subscriptions, visit: https://lab.dpdk.org/results/dashboard/preferences/subscriptions/