From mboxrd@z Thu Jan 1 00:00:00 1970 Return-Path: Received: from mails.dpdk.org (mails.dpdk.org [217.70.189.124]) by inbox.dpdk.org (Postfix) with ESMTP id A028848936 for ; Tue, 14 Oct 2025 16:28:10 +0200 (CEST) Received: from mails.dpdk.org (localhost [127.0.0.1]) by mails.dpdk.org (Postfix) with ESMTP id 9AE1D402A8; Tue, 14 Oct 2025 16:28:10 +0200 (CEST) Received: from mail-oo1-f100.google.com (mail-oo1-f100.google.com [209.85.161.100]) by mails.dpdk.org (Postfix) with ESMTP id AA25A402A8 for ; Tue, 14 Oct 2025 16:28:09 +0200 (CEST) Received: by mail-oo1-f100.google.com with SMTP id 006d021491bc7-64b8278babfso1440008eaf.1 for ; Tue, 14 Oct 2025 07:28:09 -0700 (PDT) DKIM-Signature: v=1; a=rsa-sha256; c=relaxed/relaxed; d=iol.unh.edu; s=unh-iol; t=1760452089; x=1761056889; darn=dpdk.org; h=references:in-reply-to:cc:to:from:subject:message-id:date:from:to :cc:subject:date:message-id:reply-to; bh=UXII4Gx7HmADm67BRqemS2nAjASuWcfIZTMo6kIntOs=; b=ajfrLn+ovXxkiTKUk0GD76tYpeA7LGUdaQxoBDyjtXcwRwCE7vro4pQZR5dG2WK9wZ EfYv3QqdtyPLq1fUUzLN+ME6ku2TbbwyA78zTYMUCINFWNrNHeK/VsIKeg5XJrnU394H JMwQxe8h3xIYN1WrWD2TEle+Y7Dey/MRYTz/E= X-Google-DKIM-Signature: v=1; a=rsa-sha256; c=relaxed/relaxed; d=1e100.net; s=20230601; t=1760452089; x=1761056889; h=references:in-reply-to:cc:to:from:subject:message-id:date :x-gm-message-state:from:to:cc:subject:date:message-id:reply-to; bh=UXII4Gx7HmADm67BRqemS2nAjASuWcfIZTMo6kIntOs=; b=rFnvLu9JW+A12Uc/6uv8fCEOpGL/fEmYwni+puKJsB4b52QBoGdCdsDMJu6Wbvv77W kqIlXBROOHte9vjCSmlGtU4Zj6M0cgnMbAPZyXNSbrkCEEgeXKonFk814zQ2LyXxAr2g bd/nbNqq8qNv91ET5BqC2Ps1Mkscu1Xb7hdNjAERPXao8pG+CrPCwpiVHYnvapRBJEHk hCpnDrUByinLaYAvihYP/felG36WMQ+X2VNgnYv+nD7eERXtsCaXXkRpKKi8nXMkYf+n 1nFeG0EZkKoIflSx5gNZCwemWO/1RN+8M0A2PQz+ImWN720NB6UtSimnHVyfNLvfzybH VgmA== X-Gm-Message-State: AOJu0YwGQ8isVzm6VqSWDQOFTyTk1bLgs1eM8z32m0u5mzRq8lHGhGyz gjEFUarfLV68dTJjv70QY+9jbk8COzOJ8ZXcxxnVMmqeOnRzVyglM+mL1Rw1/ZPm4gUvXUSjmbP UPX9zZLp0+EURBArGk7QvYZI3NLY5aQWcQnswrOxwwflQ X-Gm-Gg: ASbGncs4LNfHIzxNhK3PBLnlXeGPgLkbDuF4qCy+d17/oML6mSvKQ4PkROloMebrAe7 zTJbnRxMjcWwGuBcONznz/OrTc9JwNUmRj4pWSli2ObckaExraJ6OK75gO8Iw7zma1+hQC7Qeca 0m4X6DIjle7lnxWzkEgkwnC/tr2RyJtoAqCEf+AJADMKH4TcpjP2JxvnanDrCMILSV5pYjBjoQ8 qHTUUe4YZN2Zz9mjk25i1ywRTbXXS0yH+57J5SeLKuYrx3XEqlY1JgbMBur0jLTpwY5l7/YChwa zJxC6XUj8QXcjQhNOvZyQNXTQ2NjpngOOgd8xPn4xa8bo6h79k95KBZJgBlJX6CVtnFallf0 X-Google-Smtp-Source: AGHT+IG6u/MH2K1k5hja8zv7gE45HzVHfhp2oDdwItQ6TH/q5xHRNKYiQYsGl0Bjla6aNqMGi+t29Vz7kfcc X-Received: by 2002:a05:6870:70a7:b0:381:e796:fbdd with SMTP id 586e51a60fabf-3c0f8db730dmr14137886fac.35.1760452088656; Tue, 14 Oct 2025 07:28:08 -0700 (PDT) Received: from postal.iol.unh.edu (postal.iol.unh.edu. [132.177.123.84]) by smtp-relay.gmail.com with ESMTPS id 586e51a60fabf-3c8c8af25b7sm1204988fac.2.2025.10.14.07.28.08 (version=TLS1_2 cipher=ECDHE-ECDSA-AES128-GCM-SHA256 bits=128/128); Tue, 14 Oct 2025 07:28:08 -0700 (PDT) X-Relaying-Domain: iol.unh.edu Date: Tue, 14 Oct 2025 07:28:08 -0700 (PDT) Message-ID: <68ee5df8.050a0220.35948.b11aSMTPIN_ADDED_MISSING@mx.google.com> Received: from [172.21.0.2] (unknown [172.18.0.240]) by postal.iol.unh.edu (Postfix) with ESMTP id 282E8604D420; Tue, 14 Oct 2025 10:28:08 -0400 (EDT) Subject: |SUCCESS| pw157548-157553 [PATCH] [6/6] net/ice: reformat the Rx pat From: dpdklab@iol.unh.edu To: Test Report Cc: dpdk-test-reports@iol.unh.edu, Bruce Richardson In-Reply-To: <20251014084517.1407407-7-ciara.loftus@intel.com> References: <20251014084517.1407407-7-ciara.loftus@intel.com> Content-Type: text/plain X-BeenThere: test-report@dpdk.org X-Mailman-Version: 2.1.29 Precedence: list List-Id: automatic DPDK test reports List-Unsubscribe: , List-Archive: List-Post: List-Help: List-Subscribe: , Errors-To: test-report-bounces@dpdk.org Test-Label: iol-compile-amd64-testing Test-Status: SUCCESS http://dpdk.org/patch/157553 _Testing PASS_ Submitter: Loftus, Ciara Date: Tuesday, October 14 2025 08:45:17 DPDK git baseline: Repo:dpdk-next-net-intel Branch: master CommitID:b26049c00e3c452cb446d688a43c6c7eebbee32e 157548-157553 --> testing pass Upstream job id: Windows-Compile-DPDK-Native#31605 Test environment and result as below: +-------------------------------+--------------------+-------------------+------------------+-------------------+-------------------------+ | Environment | dpdk_meson_compile | dpdk_compile_spdk | dpdk_compile_ovs | dpdk_msvc_compile | dpdk_llvm_clang_compile | +===============================+====================+===================+==================+===================+=========================+ | Ubuntu 20.04 | PASS | SKIPPED | SKIPPED | SKIPPED | SKIPPED | +-------------------------------+--------------------+-------------------+------------------+-------------------+-------------------------+ | FreeBSD 14.2 | PASS | SKIPPED | SKIPPED | SKIPPED | SKIPPED | +-------------------------------+--------------------+-------------------+------------------+-------------------+-------------------------+ | CentOS Stream 9 | PASS | PASS | SKIPPED | SKIPPED | SKIPPED | +-------------------------------+--------------------+-------------------+------------------+-------------------+-------------------------+ | CentOS Stream 10 | PASS | SKIPPED | SKIPPED | SKIPPED | SKIPPED | +-------------------------------+--------------------+-------------------+------------------+-------------------+-------------------------+ | Debian GNU/Linux 12 | PASS | PASS | SKIPPED | SKIPPED | SKIPPED | +-------------------------------+--------------------+-------------------+------------------+-------------------+-------------------------+ | Fedora Linux 42 | PASS | PASS | PASS | SKIPPED | SKIPPED | +-------------------------------+--------------------+-------------------+------------------+-------------------+-------------------------+ | openSUSE Leap 15.6 | PASS | SKIPPED | SKIPPED | SKIPPED | SKIPPED | +-------------------------------+--------------------+-------------------+------------------+-------------------+-------------------------+ | Red Hat Enterprise Linux 8.10 | PASS | SKIPPED | SKIPPED | SKIPPED | SKIPPED | +-------------------------------+--------------------+-------------------+------------------+-------------------+-------------------------+ | Red Hat Enterprise Linux 9.5 | PASS | SKIPPED | SKIPPED | SKIPPED | SKIPPED | +-------------------------------+--------------------+-------------------+------------------+-------------------+-------------------------+ | Ubuntu 22.04 | PASS | PASS | SKIPPED | SKIPPED | SKIPPED | +-------------------------------+--------------------+-------------------+------------------+-------------------+-------------------------+ | Ubuntu 24.04 | PASS | PASS | PASS | SKIPPED | SKIPPED | +-------------------------------+--------------------+-------------------+------------------+-------------------+-------------------------+ | Alpine Linux 3.22.0 | PASS | SKIPPED | SKIPPED | SKIPPED | SKIPPED | +-------------------------------+--------------------+-------------------+------------------+-------------------+-------------------------+ | Windows Server 2022 | SKIPPED | SKIPPED | SKIPPED | PASS | PASS | +-------------------------------+--------------------+-------------------+------------------+-------------------+-------------------------+ Ubuntu 20.04 Kernel: 4.19 Compiler: gcc gcc (Ubuntu 9.4.0-1ubuntu1~20.04.2) 9.4.0 FreeBSD 14.2 Kernel: 14.2-RELEASE Compiler: clang 18.1.6 CentOS Stream 9 Kernel: 5.15 Compiler: gcc gcc (GCC) 11.5.0 20240719 (Red Hat 11.5.0-11) CentOS Stream 10 Kernel: 5.15 Compiler: gcc gcc (GCC) 14.2.1 20250110 (Red Hat 14.2.1-8) Debian GNU/Linux 12 Kernel: 5.15 Compiler: gcc gcc (Debian 12.2.0-14+deb12u1) 12.2.0 Fedora Linux 42 Kernel: 5.15 Compiler: clang gcc (GCC) 15.2.1 20250808 (Red Hat 15.2.1-1) openSUSE Leap 15.6 Kernel: 5.15 Compiler: gcc gcc (SUSE Linux) 7.5.0 Red Hat Enterprise Linux 8.10 Kernel: 5.15 Compiler: gcc gcc (GCC) 8.5.0 20210514 (Red Hat 8.5.0-22) Red Hat Enterprise Linux 9.5 Kernel: 5.15 Compiler: gcc gcc (GCC) 11.5.0 20240719 (Red Hat 11.5.0-2) Ubuntu 22.04 Kernel: 5.15 Compiler: gcc gcc (Ubuntu 11.4.0-1ubuntu1~22.04) 11.4.0 Ubuntu 24.04 Kernel: 5.15 Compiler: gcc gcc (Ubuntu 13.3.0-6ubuntu2~24.04) 13.3.0 Alpine Linux 3.22.0 Kernel: 5.15 Compiler: gcc gcc (Alpine 14.2.0) 14.2.0 Windows Server 2022 Kernel: 10.0.20348.2031 Compiler: clang 15.0.7, gcc 14.1.0 (MinGW), and MSVC VS 19.39.33521 To view detailed results, visit: https://lab.dpdk.org/results/dashboard/patchsets/34272/ UNH-IOL DPDK Community Lab To manage your email subscriptions, visit: https://lab.dpdk.org/results/dashboard/preferences/subscriptions/