From mboxrd@z Thu Jan 1 00:00:00 1970 Return-Path: Received: from mails.dpdk.org (mails.dpdk.org [217.70.189.124]) by inbox.dpdk.org (Postfix) with ESMTP id BC25048936 for ; Tue, 14 Oct 2025 16:29:04 +0200 (CEST) Received: from mails.dpdk.org (localhost [127.0.0.1]) by mails.dpdk.org (Postfix) with ESMTP id B6637402A8; Tue, 14 Oct 2025 16:29:04 +0200 (CEST) Received: from mail-il1-f227.google.com (mail-il1-f227.google.com [209.85.166.227]) by mails.dpdk.org (Postfix) with ESMTP id 71D2D402A8 for ; Tue, 14 Oct 2025 16:29:03 +0200 (CEST) Received: by mail-il1-f227.google.com with SMTP id e9e14a558f8ab-42f8b7cd7e5so21679575ab.0 for ; Tue, 14 Oct 2025 07:29:03 -0700 (PDT) DKIM-Signature: v=1; a=rsa-sha256; c=relaxed/relaxed; d=iol.unh.edu; s=unh-iol; t=1760452143; x=1761056943; darn=dpdk.org; h=references:in-reply-to:cc:to:from:subject:message-id:date:from:to :cc:subject:date:message-id:reply-to; bh=z9XsjGaUO+yXSO4oYSjX+okhJcJBTqQRW2h/rzy+hBA=; b=M5SH4OBaZK1C/a4rt2d/+HX6zICYZVzyf9HovBG1ZcCh8p/ruGizESR0dg441BG4h1 ZyP43TQsoZkFAaGOdnDc7MbjzV6Jj+gJikyyefhKL1+/qHhfYDxeGxxPq6zyJDMXAN8i +mK9AY+/2ryxiXOZ5h3d71maQOFLMt09qV604= X-Google-DKIM-Signature: v=1; a=rsa-sha256; c=relaxed/relaxed; d=1e100.net; s=20230601; t=1760452143; x=1761056943; h=references:in-reply-to:cc:to:from:subject:message-id:date :x-gm-message-state:from:to:cc:subject:date:message-id:reply-to; bh=z9XsjGaUO+yXSO4oYSjX+okhJcJBTqQRW2h/rzy+hBA=; b=DNINkhwLsRv3Q08VAhJ7mix9wmLG8TdoZZFLhtIfs/It7kwaPz9SHqntZmOE79Y0ZE c4QNiaBomajcswFB/6LkjHM7Kp2D4YUnSPVF5a266Eu3pfFAPP5kwA5/CYtIs2ZcRydO yUHoDc2DgiMmbY0QdxawDP28D/CqaMLe+y0I5xLLVmWZmS51PdKRBbEXpViaFXeKbU+Y +WB+teiF9knIUYurCcXejV/gOvDMTcj/KOYbhrmoGZ2JvXoDT04/Rw7UGQS0SBOfxqln +prTJIUwl1YLvWQe0xPsdBmQRvxR8E+6qsHmL4KMMZ9RkAXT4WFr/hBflYU5OIK4pZJt rKTg== X-Gm-Message-State: AOJu0YwKYjUWkDUASJvnEgJ0rabpPl7lKjFPywswo+uTdUvJ10jFG1iu XJjtZCi8gVXrsBOmN3+pyuxACH4jcusyrZqtQ0MFFmlwUYAUrxDdjq+OrTR9+al314ccfph/x8l gkemTLnrCzO+TxRw0AhP4fweIJ+H39tEAKE2C+MxOYOE5 X-Gm-Gg: ASbGncs87rrNXArx13MyYMbi/CKqeW2PRiHE3dsnBzHuL4/ygOHRNNbuScKe8TGUe8h x7RM4Hc/7Eo7Fue7+a1g1X0LuIbZQbBiTCN3AmV9Ws0jV8y41gHvaZ2r1EPOsUA97TlBgQi8/ta pMBUK+B8NP5nBaLTfBS3plG0B9LxJajZvED4sxoHo65um2Ugc62Vm4Y+fOJF6IA5M2GlT7FTft1 ITvIv7SDNx+2+JITN0fS3FrfGgohGimoWnH/ejbv4afFOf3THkgDK4DxDePmYdtmEdGBv4eThMy lHXUgIsK0ld1z8eJTKBO9XQLZ1SzFUVOdnCges+2PRwaLVxjNfeUSRpgQAvazm6RfEjjiIAY X-Google-Smtp-Source: AGHT+IEPiSQnqnmmChcUIT2SrA4yJm8F5YOb2fPXr2dUgfIOD0igEF5Ed7S+Vfj46tSVjgtko4udH+Wcyn/h X-Received: by 2002:a05:6e02:19ca:b0:42a:dd1d:c3e4 with SMTP id e9e14a558f8ab-42f873dd084mr246020545ab.15.1760452142550; Tue, 14 Oct 2025 07:29:02 -0700 (PDT) Received: from postal.iol.unh.edu (postal.iol.unh.edu. [132.177.123.84]) by smtp-relay.gmail.com with ESMTPS id 8926c6da1cb9f-58f726e6ba3sm1090811173.46.2025.10.14.07.29.02 (version=TLS1_2 cipher=ECDHE-ECDSA-AES128-GCM-SHA256 bits=128/128); Tue, 14 Oct 2025 07:29:02 -0700 (PDT) X-Relaying-Domain: iol.unh.edu Date: Tue, 14 Oct 2025 07:29:02 -0700 (PDT) Message-ID: <68ee5e2e.050a0220.df884.6466SMTPIN_ADDED_MISSING@mx.google.com> Received: from [172.21.0.2] (unknown [172.18.0.240]) by postal.iol.unh.edu (Postfix) with ESMTP id 39A14604D420; Tue, 14 Oct 2025 10:29:02 -0400 (EDT) Subject: |SUCCESS| pw157532-157546 [PATCH] [15/15] net/dpaa2: add Policer sta From: dpdklab@iol.unh.edu To: Test Report Cc: dpdk-test-reports@iol.unh.edu In-Reply-To: <20251014064035.1312896-16-prashant.gupta_3@nxp.com> References: <20251014064035.1312896-16-prashant.gupta_3@nxp.com> Content-Type: text/plain X-BeenThere: test-report@dpdk.org X-Mailman-Version: 2.1.29 Precedence: list List-Id: automatic DPDK test reports List-Unsubscribe: , List-Archive: List-Post: List-Help: List-Subscribe: , Errors-To: test-report-bounces@dpdk.org Test-Label: iol-unit-arm64-testing Test-Status: SUCCESS http://dpdk.org/patch/157546 _Testing PASS_ Submitter: Prashant Gupta Date: Tuesday, October 14 2025 06:40:35 DPDK git baseline: Repo:dpdk Branch: master CommitID:2b403dd8fb37d0ba13723e44ffc7ee2c2795f838 157532-157546 --> testing pass Upstream job id: Generic-Unit-Test-DPDK#381083 Test environment and result as below: +------------------------------+----------------+--------------+------------------------------+---------------------------+ | Environment | dpdk_unit_test | lpm_autotest | cryptodev_sw_snow3g_autotest | cryptodev_sw_zuc_autotest | +==============================+================+==============+==============================+===========================+ | CentOS Stream 9 | PASS | SKIPPED | SKIPPED | SKIPPED | +------------------------------+----------------+--------------+------------------------------+---------------------------+ | Fedora Linux 40 | PASS | SKIPPED | SKIPPED | SKIPPED | +------------------------------+----------------+--------------+------------------------------+---------------------------+ | Fedora Linux 42 | PASS | SKIPPED | SKIPPED | SKIPPED | +------------------------------+----------------+--------------+------------------------------+---------------------------+ | CentOS Stream 10 | PASS | SKIPPED | SKIPPED | SKIPPED | +------------------------------+----------------+--------------+------------------------------+---------------------------+ | Red Hat Enterprise Linux 9.5 | PASS | SKIPPED | SKIPPED | SKIPPED | +------------------------------+----------------+--------------+------------------------------+---------------------------+ | Ubuntu 20.04 | PASS | PASS | SKIPPED | SKIPPED | +------------------------------+----------------+--------------+------------------------------+---------------------------+ | Fedora Linux 41 | PASS | SKIPPED | SKIPPED | SKIPPED | +------------------------------+----------------+--------------+------------------------------+---------------------------+ | Debian GNU/Linux 12 | PASS | SKIPPED | SKIPPED | SKIPPED | +------------------------------+----------------+--------------+------------------------------+---------------------------+ | Ubuntu 22.04 | PASS | SKIPPED | SKIPPED | SKIPPED | +------------------------------+----------------+--------------+------------------------------+---------------------------+ | Ubuntu 24.04 | PASS | SKIPPED | SKIPPED | SKIPPED | +------------------------------+----------------+--------------+------------------------------+---------------------------+ | Debian 12 (arm) | SKIPPED | SKIPPED | PASS | PASS | +------------------------------+----------------+--------------+------------------------------+---------------------------+ CentOS Stream 9 Kernel: 5.4 Compiler: gcc gcc (GCC) 11.5.0 20240719 (Red Hat 11.5.0-11) Fedora Linux 40 Kernel: 5.4 Compiler: gcc gcc (GCC) 14.2.1 20240912 (Red Hat 14.2.1-3) Fedora Linux 42 Kernel: 5.4 Compiler: clang gcc (GCC) 15.2.1 20250808 (Red Hat 15.2.1-1) CentOS Stream 10 Kernel: 5.4 Compiler: gcc gcc (GCC) 14.2.1 20250110 (Red Hat 14.2.1-8) Red Hat Enterprise Linux 9.5 Kernel: 5.4 Compiler: gcc gcc (GCC) 11.5.0 20240719 (Red Hat 11.5.0-2) Ubuntu 20.04 Kernel: 5.4 Compiler: gcc gcc (Ubuntu 9.4.0-1ubuntu1~20.04.2) 9.4.0 Fedora Linux 41 Kernel: 5.4 Compiler: gcc gcc (GCC) 14.3.1 20250523 (Red Hat 14.3.1-1) Debian GNU/Linux 12 Kernel: 5.4 Compiler: gcc gcc (Debian 12.2.0-14+deb12u1) 12.2.0 Ubuntu 22.04 Kernel: 5.4 Compiler: gcc gcc (Ubuntu 11.4.0-1ubuntu1~22.04) 11.4.0 Ubuntu 24.04 Kernel: 5.4 Compiler: gcc gcc (Ubuntu 13.3.0-6ubuntu2~24.04) 13.3.0 Debian 12 (arm) Kernel: Depends on container host Compiler: gcc (Debian 12.2.0-14) 12.2.0 To view detailed results, visit: https://lab.dpdk.org/results/dashboard/patchsets/34269/ UNH-IOL DPDK Community Lab To manage your email subscriptions, visit: https://lab.dpdk.org/results/dashboard/preferences/subscriptions/