From mboxrd@z Thu Jan 1 00:00:00 1970 Return-Path: Received: from mails.dpdk.org (mails.dpdk.org [217.70.189.124]) by inbox.dpdk.org (Postfix) with ESMTP id C866348936 for ; Tue, 14 Oct 2025 16:35:01 +0200 (CEST) Received: from mails.dpdk.org (localhost [127.0.0.1]) by mails.dpdk.org (Postfix) with ESMTP id C193F402A8; Tue, 14 Oct 2025 16:35:01 +0200 (CEST) Received: from mail-io1-f97.google.com (mail-io1-f97.google.com [209.85.166.97]) by mails.dpdk.org (Postfix) with ESMTP id E940D40661 for ; Tue, 14 Oct 2025 16:34:59 +0200 (CEST) Received: by mail-io1-f97.google.com with SMTP id ca18e2360f4ac-9298eba27c2so233290339f.3 for ; Tue, 14 Oct 2025 07:34:59 -0700 (PDT) DKIM-Signature: v=1; a=rsa-sha256; c=relaxed/relaxed; d=iol.unh.edu; s=unh-iol; t=1760452499; x=1761057299; darn=dpdk.org; h=references:in-reply-to:cc:to:from:subject:message-id:date:from:to :cc:subject:date:message-id:reply-to; bh=fzRA0YI3N61Gr47l1vPKMQvVubdec8G/HIkcB7L0g5I=; b=PKxsbO24gdlWHk7IulG2h3IdevIpGtVOD11gqGgPwJMOR9f0Y+1Tj7e0FG/nxaVeg4 ETRX5t6L8IrQH2CMa1FZXBhPsv5uYIo2t9gXgNmfBm4ru25KjHNu9VmTntQNO693e8BT 7WF8ef5jYZsBVrU9QMH1VOpP3A6IU4uxs+shQ= X-Google-DKIM-Signature: v=1; a=rsa-sha256; c=relaxed/relaxed; d=1e100.net; s=20230601; t=1760452499; x=1761057299; h=references:in-reply-to:cc:to:from:subject:message-id:date :x-gm-message-state:from:to:cc:subject:date:message-id:reply-to; bh=fzRA0YI3N61Gr47l1vPKMQvVubdec8G/HIkcB7L0g5I=; b=UAxNHIsguR7AmdSX9EQ86rxyWbT+ihEzjWe03NFdfHOSFR8zFbg9d/ZWs942sh2qRd xaoyiFNNU3LkRREVnvN8RYjuByv4u5jUjNxgJXZ1irpLlMGsQFn1k/EyruQsq8uvYuRe qR2UCruOeOR051WaJt/DOwODQb3q8zG7MPUifgk/P8CiAzITxpb9EbDHaOEOw91Jxd8k 78s8XGMWRCIltdMUH3GLaGLUzdp5USN1LqDjwqFoLjD8tQ+e76dO1XYW1lAi9zTU2v1i MQBu+IXhun+NcfUlM5IO99aG7LCwh9UX/gOx/Ndva9viu6760VwVvuggEEDT0miCk64Q +3HQ== X-Gm-Message-State: AOJu0YxqNl1IgPAaiIlIoim0s+NLmCE6iD2yldfxJxD45MBMPjzFNk6h IvNJR5T/rmttZgkohovebpJTh50yCJwm+iHTcMZJfKSF9x+Lb3D7ywPbta5Jj8r6BXmxz+JSpun uUy7BQtjE70et/fsFuXiS2yCr0TO1kU3CYGc1Oxf/E5L6 X-Gm-Gg: ASbGncsP/GxUv8pkfW/Ahii3kkRFv4/oplLw69F3JB9aj2iRHj9lyn7xYxM0In5XXYg g+6n/tjzvI0X0um6BpXK1OEse8leaBMavPdOCazyMzY7tHoQE/k4SNHmodIpwR1MWbE4Bs0/j9E wzSrivnky/x8U339SIRGoKQL8UtT0nr3doUP/xmiPL3BwVcy3G+TVuBp5E352r0IuQqIWHDvWv9 1FfeAz8GJusZUbZjOKqCUFa/rGJGM2WnOF4GFtPr7h0gp1pwK/WNxOwe1IrLwzDMCMIM0NK28QO 4OrlHrM+/JOcbSFs72JqNGUBqz0L2wzFdzFsF1NqRNWv6Rho7cAGStccLIFhNWub6koAHIDC X-Google-Smtp-Source: AGHT+IG1Qpgy6zQgs3FFm32hMNRkX9eDgRWI/NX0WxxZxj5DM4oTrPFRnETF1HA5mRnr3X3tMM0Xzpej32cx X-Received: by 2002:a05:6e02:380e:b0:42d:8b1c:572e with SMTP id e9e14a558f8ab-42f872ca190mr264958785ab.0.1760452499122; Tue, 14 Oct 2025 07:34:59 -0700 (PDT) Received: from postal.iol.unh.edu (postal.iol.unh.edu. [132.177.123.84]) by smtp-relay.gmail.com with ESMTPS id 8926c6da1cb9f-58f71469689sm1043619173.32.2025.10.14.07.34.59 (version=TLS1_2 cipher=ECDHE-ECDSA-AES128-GCM-SHA256 bits=128/128); Tue, 14 Oct 2025 07:34:59 -0700 (PDT) X-Relaying-Domain: iol.unh.edu Date: Tue, 14 Oct 2025 07:34:59 -0700 (PDT) Message-ID: <68ee5f93.050a0220.135af2.30bcSMTPIN_ADDED_MISSING@mx.google.com> Received: from [172.21.0.3] (unknown [172.18.0.240]) by postal.iol.unh.edu (Postfix) with ESMTP id A90666051830; Tue, 14 Oct 2025 10:34:58 -0400 (EDT) Subject: |SUCCESS| pw157548-157553 [PATCH] [6/6] net/ice: reformat the Rx pat From: dpdklab@iol.unh.edu To: Test Report Cc: dpdk-test-reports@iol.unh.edu, Bruce Richardson In-Reply-To: <20251014084517.1407407-7-ciara.loftus@intel.com> References: <20251014084517.1407407-7-ciara.loftus@intel.com> Content-Type: text/plain X-BeenThere: test-report@dpdk.org X-Mailman-Version: 2.1.29 Precedence: list List-Id: automatic DPDK test reports List-Unsubscribe: , List-Archive: List-Post: List-Help: List-Subscribe: , Errors-To: test-report-bounces@dpdk.org Test-Label: iol-compile-arm64-testing Test-Status: SUCCESS http://dpdk.org/patch/157553 _Testing PASS_ Submitter: Loftus, Ciara Date: Tuesday, October 14 2025 08:45:17 DPDK git baseline: Repo:dpdk-next-net-intel Branch: master CommitID:b26049c00e3c452cb446d688a43c6c7eebbee32e 157548-157553 --> testing pass Upstream job id: Generic-DPDK-Compile-Meson#434052 Test environment and result as below: +------------------------------+--------------------+ | Environment | dpdk_meson_compile | +==============================+====================+ | Ubuntu 20.04 | PASS | +------------------------------+--------------------+ | Red Hat Enterprise Linux 9.5 | PASS | +------------------------------+--------------------+ | Debian GNU/Linux 12 | PASS | +------------------------------+--------------------+ | Fedora Linux 42 | PASS | +------------------------------+--------------------+ | Ubuntu 22.04 | PASS | +------------------------------+--------------------+ | Ubuntu 24.04 | PASS | +------------------------------+--------------------+ | CentOS Stream 9 | PASS | +------------------------------+--------------------+ | CentOS Stream 10 | PASS | +------------------------------+--------------------+ Ubuntu 20.04 Kernel: 5.15 Compiler: aarch64-linux-gnu-gcc gcc (Ubuntu 9.4.0-1ubuntu1~20.04.2) 9.4.0 Red Hat Enterprise Linux 9.5 Kernel: 5.4 Compiler: gcc gcc (GCC) 11.5.0 20240719 (Red Hat 11.5.0-2) Debian GNU/Linux 12 Kernel: 5.4 Compiler: gcc gcc (Debian 12.2.0-14+deb12u1) 12.2.0 Fedora Linux 42 Kernel: 5.4 Compiler: gcc gcc (GCC) 15.2.1 20250808 (Red Hat 15.2.1-1) Ubuntu 22.04 Kernel: 5.4 Compiler: gcc gcc (Ubuntu 11.4.0-1ubuntu1~22.04) 11.4.0 Ubuntu 24.04 Kernel: 5.4 Compiler: gcc gcc (Ubuntu 13.3.0-6ubuntu2~24.04) 13.3.0 CentOS Stream 9 Kernel: 5.4 Compiler: gcc gcc (GCC) 11.5.0 20240719 (Red Hat 11.5.0-11) CentOS Stream 10 Kernel: 5.4 Compiler: gcc gcc (GCC) 14.2.1 20250110 (Red Hat 14.2.1-8) To view detailed results, visit: https://lab.dpdk.org/results/dashboard/patchsets/34272/ UNH-IOL DPDK Community Lab To manage your email subscriptions, visit: https://lab.dpdk.org/results/dashboard/preferences/subscriptions/