From mboxrd@z Thu Jan 1 00:00:00 1970 Return-Path: Received: from mails.dpdk.org (mails.dpdk.org [217.70.189.124]) by inbox.dpdk.org (Postfix) with ESMTP id 02F8948936 for ; Tue, 14 Oct 2025 16:35:46 +0200 (CEST) Received: from mails.dpdk.org (localhost [127.0.0.1]) by mails.dpdk.org (Postfix) with ESMTP id F26DA402A8; Tue, 14 Oct 2025 16:35:45 +0200 (CEST) Received: from mail-pl1-f226.google.com (mail-pl1-f226.google.com [209.85.214.226]) by mails.dpdk.org (Postfix) with ESMTP id CC57740648 for ; Tue, 14 Oct 2025 16:35:43 +0200 (CEST) Received: by mail-pl1-f226.google.com with SMTP id d9443c01a7336-27ee41e0798so86894205ad.1 for ; Tue, 14 Oct 2025 07:35:43 -0700 (PDT) DKIM-Signature: v=1; a=rsa-sha256; c=relaxed/relaxed; d=iol.unh.edu; s=unh-iol; t=1760452543; x=1761057343; darn=dpdk.org; h=references:in-reply-to:cc:to:from:subject:message-id:date:from:to :cc:subject:date:message-id:reply-to; bh=jzS5WRYqydGwdQpAlvXLCrTzQdJn4Re+iQ2UCADauW4=; b=SRVSKOeI51ELbw44i+Dd5q/pfEIx9meRq1EHxb+so4LEIe1S5MVnMji+yPe9a+lKl1 AMqBQFMviUA1TDnYwZBSkYHkzI9uLx7Idx9m4MCG0I7SBzEPu4gOtDpxaGve2LzpRics wLRdu8kKe3KesszvvYGLIbVSEijJk/VnbqOAA= X-Google-DKIM-Signature: v=1; a=rsa-sha256; c=relaxed/relaxed; d=1e100.net; s=20230601; t=1760452543; x=1761057343; h=references:in-reply-to:cc:to:from:subject:message-id:date :x-gm-message-state:from:to:cc:subject:date:message-id:reply-to; bh=jzS5WRYqydGwdQpAlvXLCrTzQdJn4Re+iQ2UCADauW4=; b=X6mJ2h6+K0M8uBTJkb5NbnKb+GthdmUDLieXSpywtUGjcIZzayKevM+7NA+kb+wfbU MpmiXfuM5wpJ18W8NOfeB2+W5W+cgat1V68LE/JylfwDWdxlSb4hshIy7Dkuclla7YHC vSfGWkL0Kjb/hbzThe/jkGMB54pRaJgeWuVfiRmY06nthSkNvKPwAS7KgFAJg4qYDhT0 OOlPFETVAWbDfQWsiJg8P+cp/e/9q9AIuCjUkP1jnCzAFt1VVmLq31dBUginkYvwZvXx /y5YAuefjwzuCtrNR6wErskVX0lxAN0ARgbzeIHi55CtX9coH64Q5i8znLRI2hFnAm4G QwLw== X-Gm-Message-State: AOJu0YwwEojUn/vyvVqi2Z5LIb7ZyzPAIrbpjSTzDB+zo81FczEv8CQ+ CPcJ4+hv6X6K3okz6/lxdol9Vg/qHWFbd7UEUVEIWquK7uX09sQvuCOU4x9NgnBpSUYK4u6s1nF Ui1rvlrWwtezCaLDjDk2/jEg7Sl2ah/+sZgPuA5XttN5e X-Gm-Gg: ASbGnctjT3YCzw0RaRPgGpgqXE2371JtdOcUN9L8FS0CYOwr3S71anoJ17Zfd5IOA6D JVoyIWli/JDp4x6dRHo9zVTFV4sA7yJdEZLd/y9otEJXDseZC0Abt8WblloUv2B1oy0WkKlOw2k MT34UAQLfDqcEQvVsYpOM5dge5nXRQ7D6775hoevBV98qeF5gkpVMcpAAzHUPvrNy/wgjK2EET4 6nehSOAevch+7zlBHuvKeFI1so+tphxoZXt74f1nuCnC9oEr7mQslXo6LyGXHSDgr9Ds+SCyqDG g4ESpb/OsjONvq9HpL1l2WbYvQ9QoQZ35RApgTYgiLbU4pjKVArLQxSALL6XakccxwxEZqkV X-Google-Smtp-Source: AGHT+IFxB5DZevcpJTbuTylUfgJ/SgiKsl9laGZ+d9vkXbxrWJQ7N3IBndO5q1IgEv5YBPepbGpgwzq4E1dC X-Received: by 2002:a17:903:3c6c:b0:269:9719:fffd with SMTP id d9443c01a7336-290273567e5mr328088755ad.1.1760452542869; Tue, 14 Oct 2025 07:35:42 -0700 (PDT) Received: from postal.iol.unh.edu (postal.iol.unh.edu. [132.177.123.84]) by smtp-relay.gmail.com with ESMTPS id d9443c01a7336-29034df0d65sm13978665ad.3.2025.10.14.07.35.42 (version=TLS1_2 cipher=ECDHE-ECDSA-AES128-GCM-SHA256 bits=128/128); Tue, 14 Oct 2025 07:35:42 -0700 (PDT) X-Relaying-Domain: iol.unh.edu Date: Tue, 14 Oct 2025 07:35:42 -0700 (PDT) Message-ID: <68ee5fbe.170a0220.2a86c9.6d54SMTPIN_ADDED_MISSING@mx.google.com> Received: from [172.21.0.6] (unknown [172.18.0.240]) by postal.iol.unh.edu (Postfix) with ESMTP id 53EF86051830; Tue, 14 Oct 2025 10:35:42 -0400 (EDT) Subject: |SUCCESS| pw157510-157516 [PATCH] [v5,7/7] usertools/mbuf: parse mbu From: dpdklab@iol.unh.edu To: Test Report Cc: dpdk-test-reports@iol.unh.edu In-Reply-To: <20251014070517.922137-8-thomas@monjalon.net> References: <20251014070517.922137-8-thomas@monjalon.net> Content-Type: text/plain X-BeenThere: test-report@dpdk.org X-Mailman-Version: 2.1.29 Precedence: list List-Id: automatic DPDK test reports List-Unsubscribe: , List-Archive: List-Post: List-Help: List-Subscribe: , Errors-To: test-report-bounces@dpdk.org Test-Label: iol-compile-arm64-testing Test-Status: SUCCESS http://dpdk.org/patch/157516 _Testing PASS_ Submitter: Thomas Monjalon Date: Tuesday, October 14 2025 06:58:35 DPDK git baseline: Repo:dpdk Branch: master CommitID:2b403dd8fb37d0ba13723e44ffc7ee2c2795f838 157510-157516 --> testing pass Upstream job id: Generic-DPDK-Compile-Meson#433948 Test environment and result as below: +------------------------------+--------------------+ | Environment | dpdk_meson_compile | +==============================+====================+ | Red Hat Enterprise Linux 9.5 | PASS | +------------------------------+--------------------+ | CentOS Stream 10 | PASS | +------------------------------+--------------------+ | Fedora Linux 42 | PASS | +------------------------------+--------------------+ | Ubuntu 20.04 | PASS | +------------------------------+--------------------+ | Debian GNU/Linux 12 | PASS | +------------------------------+--------------------+ | CentOS Stream 9 | PASS | +------------------------------+--------------------+ | Ubuntu 24.04 | PASS | +------------------------------+--------------------+ | Ubuntu 22.04 | PASS | +------------------------------+--------------------+ Red Hat Enterprise Linux 9.5 Kernel: 5.4 Compiler: gcc gcc (GCC) 11.5.0 20240719 (Red Hat 11.5.0-2) CentOS Stream 10 Kernel: 5.4 Compiler: gcc gcc (GCC) 14.2.1 20250110 (Red Hat 14.2.1-8) Fedora Linux 42 Kernel: 5.4 Compiler: clang gcc (GCC) 15.2.1 20250808 (Red Hat 15.2.1-1) Ubuntu 20.04 Kernel: 5.4 Compiler: gcc gcc (Ubuntu 9.4.0-1ubuntu1~20.04.2) 9.4.0 Debian GNU/Linux 12 Kernel: 5.4 Compiler: gcc gcc (Debian 12.2.0-14+deb12u1) 12.2.0 CentOS Stream 9 Kernel: 5.4 Compiler: gcc gcc (GCC) 11.5.0 20240719 (Red Hat 11.5.0-11) Ubuntu 24.04 Kernel: 5.4 Compiler: gcc gcc (Ubuntu 13.3.0-6ubuntu2~24.04) 13.3.0 Ubuntu 22.04 Kernel: 5.4 Compiler: gcc gcc (Ubuntu 11.4.0-1ubuntu1~22.04) 11.4.0 To view detailed results, visit: https://lab.dpdk.org/results/dashboard/patchsets/34268/ UNH-IOL DPDK Community Lab To manage your email subscriptions, visit: https://lab.dpdk.org/results/dashboard/preferences/subscriptions/