From mboxrd@z Thu Jan 1 00:00:00 1970 Return-Path: Received: from mails.dpdk.org (mails.dpdk.org [217.70.189.124]) by inbox.dpdk.org (Postfix) with ESMTP id 1656648936 for ; Tue, 14 Oct 2025 16:36:19 +0200 (CEST) Received: from mails.dpdk.org (localhost [127.0.0.1]) by mails.dpdk.org (Postfix) with ESMTP id 10751402A8; Tue, 14 Oct 2025 16:36:19 +0200 (CEST) Received: from mail-ua1-f100.google.com (mail-ua1-f100.google.com [209.85.222.100]) by mails.dpdk.org (Postfix) with ESMTP id 9DF93402A8 for ; Tue, 14 Oct 2025 16:36:17 +0200 (CEST) Received: by mail-ua1-f100.google.com with SMTP id a1e0cc1a2514c-9231a251c01so1347501241.1 for ; Tue, 14 Oct 2025 07:36:17 -0700 (PDT) DKIM-Signature: v=1; a=rsa-sha256; c=relaxed/relaxed; d=iol.unh.edu; s=unh-iol; t=1760452577; x=1761057377; darn=dpdk.org; h=references:in-reply-to:cc:to:from:subject:message-id:date:from:to :cc:subject:date:message-id:reply-to; bh=VZp4tLzOJm+KqEhbFpFFowoCry/4ufa8PkpGOoHikXM=; b=T7GgNS7bWKwe0+N4EHyAGrg+15Vq8HjCFvRVvfPykrjaz5SgTNQ3kXMCQ7BcbVMjYt IES18UPtvsydoqd48JlqdBfKGRmAtflBZkiCA39leQKKggpwrNmgTJQ8+2Gj30ptrMlB bj5Tzi9X3ozO0cMEvB9O981PVoQTjlhy+t52c= X-Google-DKIM-Signature: v=1; a=rsa-sha256; c=relaxed/relaxed; d=1e100.net; s=20230601; t=1760452577; x=1761057377; h=references:in-reply-to:cc:to:from:subject:message-id:date :x-gm-message-state:from:to:cc:subject:date:message-id:reply-to; bh=VZp4tLzOJm+KqEhbFpFFowoCry/4ufa8PkpGOoHikXM=; b=dEXgC6JwT+9npbx83pdK+dR4iTfzjugu5X/GjTcmx6YTgvZVoHAWZe8qBf+qo9WrL5 fU/kxe+yGeLRrEaa3E8mgYxjQZPVh/DLXcEhIHADY7/cwig1R3xGDGjU/4VVficnACQ6 nRKy3NeVPV4LVA2oOEMPM9idnJeaMnVo7dZefeNbe+c4Vp310n8bbbW7lLpUwASHOSxc GZsMtk/yfOs6q8RvTXAfGwsKiE/V6zM2FX9LcNH1QKyuaG8MUufv3W7T9W/X2djHxXrE DypfWadGtDiF2Yn+lviStFmpGH3+RtdFX5tl2+8i1BC534N6eAK/1QpczQVI3SW6ly9B aR0g== X-Gm-Message-State: AOJu0YwwxQQo//mSPaAToIcelU7/Xyi3k0GqGwunK37krnachM0XsE/K q40eo+htha2SgKetfmYRFUmwzN4DTclpA0qgKrs9b1JStjfT9h8uJtGLHh3M6wWvDNKfPd8okyc FVE5ZCAAL2eJTvrPeej7bO/mfr1BLD2UAsiy4Sg3VBnRhWRXLT6ZoD0bSxOQ4 X-Gm-Gg: ASbGncus2eQysV6bWnvDCDD5tUyLyluXt/854Izry+lIP4KIjuRI3Vi0cG8QF+omGFs NsK2n+rGy56Y63V3PxAi06UnpcMG1ERre+4YgM74TUY0MrxPUMLXOx2JwWGcszKtQYlRyZFn4BG z/ARAIBTKvVK1TfEU20fkzCOvzncPDtYAdcNXanWiLrVbi0TbrP8DHK42tB64oSdoi7p0b6Qi8+ ci7DH6k17s0tDg+ZyOKoWnTiSlGRN7F+bZnXcd99jfe/CwMJODUCRar1WiQAEMavsqenxZ09FYQ 0RzVa4ERrn7M5QHTVolKEZgd0/gX8S8IKviq39gtdra87pOrdA== X-Google-Smtp-Source: AGHT+IHtdfcq3qrIyHebG1znpxFb5vITTUM6slSkGZbY2+8/Rjofs0BkJzhOcRi9IZo/gT2Ls7x1OPBb+xC6 X-Received: by 2002:a05:6102:578a:b0:5d5:f6ae:38c6 with SMTP id ada2fe7eead31-5d5f6ae3b80mr6805806137.37.1760452576906; Tue, 14 Oct 2025 07:36:16 -0700 (PDT) Received: from postal.iol.unh.edu (postal.iol.unh.edu. [2606:4100:3880:1234::84]) by smtp-relay.gmail.com with ESMTPS id ada2fe7eead31-5d5fc8a7539sm1689514137.3.2025.10.14.07.36.16 (version=TLS1_2 cipher=ECDHE-ECDSA-AES128-GCM-SHA256 bits=128/128); Tue, 14 Oct 2025 07:36:16 -0700 (PDT) X-Relaying-Domain: iol.unh.edu Date: Tue, 14 Oct 2025 07:36:16 -0700 (PDT) Message-ID: <68ee5fe0.050a0220.11b5b5.37adSMTPIN_ADDED_MISSING@mx.google.com> Received: from [172.21.0.4] (unknown [172.18.0.240]) by postal.iol.unh.edu (Postfix) with ESMTP id 97CA66051830; Tue, 14 Oct 2025 10:36:16 -0400 (EDT) Subject: |SUCCESS| pw157554-157556 [PATCH] [v4,3/3] bbdev: fix build with Min From: dpdklab@iol.unh.edu To: Test Report Cc: dpdk-test-reports@iol.unh.edu In-Reply-To: <20251014091528.936405-4-thomas@monjalon.net> References: <20251014091528.936405-4-thomas@monjalon.net> Content-Type: text/plain X-BeenThere: test-report@dpdk.org X-Mailman-Version: 2.1.29 Precedence: list List-Id: automatic DPDK test reports List-Unsubscribe: , List-Archive: List-Post: List-Help: List-Subscribe: , Errors-To: test-report-bounces@dpdk.org Test-Label: iol-compile-arm64-testing Test-Status: SUCCESS http://dpdk.org/patch/157556 _Testing PASS_ Submitter: Thomas Monjalon Date: Tuesday, October 14 2025 09:14:01 DPDK git baseline: Repo:dpdk Branch: master CommitID:2b403dd8fb37d0ba13723e44ffc7ee2c2795f838 157554-157556 --> testing pass Upstream job id: Generic-DPDK-Compile-Meson#434066 Test environment and result as below: +------------------------------+--------------------+ | Environment | dpdk_meson_compile | +==============================+====================+ | Red Hat Enterprise Linux 9.5 | PASS | +------------------------------+--------------------+ | Ubuntu 20.04 | PASS | +------------------------------+--------------------+ | Debian GNU/Linux 12 | PASS | +------------------------------+--------------------+ | Fedora Linux 42 | PASS | +------------------------------+--------------------+ | Ubuntu 24.04 | PASS | +------------------------------+--------------------+ | Ubuntu 22.04 | PASS | +------------------------------+--------------------+ | CentOS Stream 10 | PASS | +------------------------------+--------------------+ | CentOS Stream 9 | PASS | +------------------------------+--------------------+ Red Hat Enterprise Linux 9.5 Kernel: 5.4 Compiler: gcc gcc (GCC) 11.5.0 20240719 (Red Hat 11.5.0-2) Ubuntu 20.04 Kernel: 5.15 Compiler: aarch64-linux-gnu-gcc gcc (Ubuntu 9.4.0-1ubuntu1~20.04.2) 9.4.0 Debian GNU/Linux 12 Kernel: 5.4 Compiler: gcc gcc (Debian 12.2.0-14+deb12u1) 12.2.0 Fedora Linux 42 Kernel: 5.4 Compiler: gcc gcc (GCC) 15.2.1 20250808 (Red Hat 15.2.1-1) Ubuntu 24.04 Kernel: 5.4 Compiler: gcc gcc (Ubuntu 13.3.0-6ubuntu2~24.04) 13.3.0 Ubuntu 22.04 Kernel: 5.4 Compiler: gcc gcc (Ubuntu 11.4.0-1ubuntu1~22.04) 11.4.0 CentOS Stream 10 Kernel: 5.4 Compiler: gcc gcc (GCC) 14.2.1 20250110 (Red Hat 14.2.1-8) CentOS Stream 9 Kernel: 5.4 Compiler: gcc gcc (GCC) 11.5.0 20240719 (Red Hat 11.5.0-11) To view detailed results, visit: https://lab.dpdk.org/results/dashboard/patchsets/34273/ UNH-IOL DPDK Community Lab To manage your email subscriptions, visit: https://lab.dpdk.org/results/dashboard/preferences/subscriptions/