From mboxrd@z Thu Jan 1 00:00:00 1970 Return-Path: Received: from mails.dpdk.org (mails.dpdk.org [217.70.189.124]) by inbox.dpdk.org (Postfix) with ESMTP id 247EF48936 for ; Tue, 14 Oct 2025 16:36:35 +0200 (CEST) Received: from mails.dpdk.org (localhost [127.0.0.1]) by mails.dpdk.org (Postfix) with ESMTP id 1F4EA402A8; Tue, 14 Oct 2025 16:36:35 +0200 (CEST) Received: from mail-oa1-f99.google.com (mail-oa1-f99.google.com [209.85.160.99]) by mails.dpdk.org (Postfix) with ESMTP id CF44A402A8 for ; Tue, 14 Oct 2025 16:36:33 +0200 (CEST) Received: by mail-oa1-f99.google.com with SMTP id 586e51a60fabf-36f51ac0595so1490916fac.2 for ; Tue, 14 Oct 2025 07:36:33 -0700 (PDT) DKIM-Signature: v=1; a=rsa-sha256; c=relaxed/relaxed; d=iol.unh.edu; s=unh-iol; t=1760452593; x=1761057393; darn=dpdk.org; h=cc:to:from:subject:message-id:date:from:to:cc:subject:date :message-id:reply-to; bh=jTwf8ZYvZA27rnyUSEkNiRk5lFvQPMix3tPgRtUUqNk=; b=HCXkeq0aJvyGXW00cUUEGTJuO2gJvNOtFio31HG4BeH/DULAREJWNqWES7SgEO7v5h eZoR7syfBjwzNI6WLytSmjNPHleif4/wWZRTM1Lmo1TG390ahvbn3fNsveJnlYPH/gGU itFXqB2DPhMQ8tgUZ7R0laaliYPtZFvrUkI78= X-Google-DKIM-Signature: v=1; a=rsa-sha256; c=relaxed/relaxed; d=1e100.net; s=20230601; t=1760452593; x=1761057393; h=cc:to:from:subject:message-id:date:x-gm-message-state:from:to:cc :subject:date:message-id:reply-to; bh=jTwf8ZYvZA27rnyUSEkNiRk5lFvQPMix3tPgRtUUqNk=; b=wg5lCfez/yRQgJtdup3l4FfDw2Z8sCIh27n5E3H2+JwE9hyT+NJVyMqQwYPe2j5Kas 7N1EUx4h7LQRHJr7QAXKuefkPorF8TTR6+hedc1cJiDYkP/AmGPruFGTO7pQ0yzhFWWb D+iOUgmd/8F43VOvYZIFPHbCvGs9tY0kRwxMsL5gdawyyHas18uG7x+MLr19Nvq0dvm3 ZsPV5nakTl2p5ip4NCA/pXUuZETbJREYp1mORG+neeKjv4KBPFbPyYvA3+dveWut/3Uu qr5ZduXKcgIaxHuriN52cXLXrLCbS3s8qN/zUrJaCx5pCfY40jXu/eeXi62chTV1n9nr SyRA== X-Gm-Message-State: AOJu0YzajkG7J6Y/ldvJACwmSolrxkVSzUMKLRQf2ww3FcT6c9WH6nJt oOpYWxAI53k3kDXsrpwslKoGvUYIUgmVr1m62O+pblRc26YqbCeJepC3vYWKhZa/34ZyMxJZaES 75iwHHRLmJWxkVFXPjP7gkmGYqCpc0P3UKDXECefyjExQKomHSyq8ZnzOrnFF X-Gm-Gg: ASbGncsGDftt5Yn+0vuJgea/4vevHADY2lHAMj8LEZaAQ7KkI07397shgeRILzjolJZ h3OgI9EqUeCEDFuI22xUqkewV2MIeYwJ2pbDYu2eLv7Tmq8ro16H8Fc+Wtw07T5SiJLvc1EDDPM MmwWg97UX2guEv3gHLyX2btzaddG2H2LULtGDMIGf1Vf2iBXzrFTz4HmtIAv1jOpvxTqsDLsfzh dlfcDWsomvprPSUBvTgKOQs9HpSVPLsqmqSNqlEpCwUcNu+ZrfmR3Id6k/heHMOnVMTEH5aRWsh M2MUCO5Zb1f0BAL3OMwiDxl2NBvfpFcBzUiYAIwoDlT0fjT/6w== X-Google-Smtp-Source: AGHT+IFM9WOjUHC3gfOYZyg8vjzeMeWj3OkbpIAqX4Z0gO8CUJ3fIMKToFL8tyf9ddwVFJatW36amMoFEo1X X-Received: by 2002:a05:6871:10e:b0:315:6cb5:30cc with SMTP id 586e51a60fabf-3c0f6af1643mr10761033fac.22.1760452592798; Tue, 14 Oct 2025 07:36:32 -0700 (PDT) Received: from postal.iol.unh.edu (postal.iol.unh.edu. [2606:4100:3880:1234::84]) by smtp-relay.gmail.com with ESMTPS id 586e51a60fabf-3c8c86909d1sm1188268fac.0.2025.10.14.07.36.32 (version=TLS1_2 cipher=ECDHE-ECDSA-AES128-GCM-SHA256 bits=128/128); Tue, 14 Oct 2025 07:36:32 -0700 (PDT) X-Relaying-Domain: iol.unh.edu Date: Tue, 14 Oct 2025 07:36:32 -0700 (PDT) Message-ID: <68ee5ff0.050a0220.13c995.a814SMTPIN_ADDED_MISSING@mx.google.com> Received: from [172.21.0.6] (unknown [172.18.0.240]) by postal.iol.unh.edu (Postfix) with ESMTP id 549EA6051830; Tue, 14 Oct 2025 10:36:32 -0400 (EDT) Subject: |SUCCESS| [GIT MASTER] b26049c00e3c452cb446d688a43c6c7eebbee32e From: dpdklab@iol.unh.edu To: Test Report Cc: dpdk-test-reports@iol.unh.edu, Bruce Richardson Content-Type: text/plain X-BeenThere: test-report@dpdk.org X-Mailman-Version: 2.1.29 Precedence: list List-Id: automatic DPDK test reports List-Unsubscribe: , List-Archive: List-Post: List-Help: List-Subscribe: , Errors-To: test-report-bounces@dpdk.org _Testing PASS_ Branch: dpdk-next-net-intel b26049c00e3c452cb446d688a43c6c7eebbee32e --> testing pass Upstream job id: Generic-VM-Unit-Test-DPDK#31782 Test environment and result as below: +-------------------------------+----------------+ | Environment | dpdk_unit_test | +===============================+================+ | CentOS Stream 9 | PASS | +-------------------------------+----------------+ | CentOS Stream 10 | PASS | +-------------------------------+----------------+ | Debian GNU/Linux 12 | PASS | +-------------------------------+----------------+ | Fedora Linux 40 | PASS | +-------------------------------+----------------+ | Fedora Linux 41 | PASS | +-------------------------------+----------------+ | Ubuntu 20.04 | PASS | +-------------------------------+----------------+ | Fedora Linux 42 | PASS | +-------------------------------+----------------+ | Red Hat Enterprise Linux 8.10 | PASS | +-------------------------------+----------------+ | Red Hat Enterprise Linux 9.5 | PASS | +-------------------------------+----------------+ | Ubuntu 22.04 | PASS | +-------------------------------+----------------+ | Ubuntu 24.04 | PASS | +-------------------------------+----------------+ | Windows Server 2022 | PASS | +-------------------------------+----------------+ CentOS Stream 9 Kernel: 5.15 Compiler: gcc gcc (GCC) 11.5.0 20240719 (Red Hat 11.5.0-11) CentOS Stream 10 Kernel: 5.15 Compiler: gcc gcc (GCC) 14.2.1 20250110 (Red Hat 14.2.1-8) Debian GNU/Linux 12 Kernel: 5.15 Compiler: gcc gcc (Debian 12.2.0-14+deb12u1) 12.2.0 Fedora Linux 40 Kernel: 5.15 Compiler: gcc gcc (GCC) 14.2.1 20240912 (Red Hat 14.2.1-3) Fedora Linux 41 Kernel: 5.15 Compiler: gcc gcc (GCC) 14.3.1 20250523 (Red Hat 14.3.1-1) Ubuntu 20.04 Kernel: 5.15 Compiler: gcc gcc (Ubuntu 9.4.0-1ubuntu1~20.04.2) 9.4.0 Fedora Linux 42 Kernel: 5.15 Compiler: clang gcc (GCC) 15.2.1 20250808 (Red Hat 15.2.1-1) Red Hat Enterprise Linux 8.10 Kernel: 5.15 Compiler: gcc gcc (GCC) 8.5.0 20210514 (Red Hat 8.5.0-22) Red Hat Enterprise Linux 9.5 Kernel: 5.15 Compiler: gcc gcc (GCC) 11.5.0 20240719 (Red Hat 11.5.0-2) Ubuntu 22.04 Kernel: 5.15 Compiler: gcc gcc (Ubuntu 11.4.0-1ubuntu1~22.04) 11.4.0 Ubuntu 24.04 Kernel: 5.15 Compiler: gcc gcc (Ubuntu 13.3.0-6ubuntu2~24.04) 13.3.0 Windows Server 2022 Kernel: 10.0.20348.2031 Compiler: clang 15.0.7, gcc 14.1.0 (MinGW), and MSVC VS 19.39.33521 To view detailed results, visit: https://lab.dpdk.org/results/dashboard/tarballs/35203/ UNH-IOL DPDK Community Lab To manage your email subscriptions, visit: https://lab.dpdk.org/results/dashboard/preferences/subscriptions/