From mboxrd@z Thu Jan 1 00:00:00 1970 Return-Path: Received: from mails.dpdk.org (mails.dpdk.org [217.70.189.124]) by inbox.dpdk.org (Postfix) with ESMTP id 66CC548936 for ; Tue, 14 Oct 2025 16:38:15 +0200 (CEST) Received: from mails.dpdk.org (localhost [127.0.0.1]) by mails.dpdk.org (Postfix) with ESMTP id 4D5FA402A8; Tue, 14 Oct 2025 16:38:15 +0200 (CEST) Received: from mail-il1-f228.google.com (mail-il1-f228.google.com [209.85.166.228]) by mails.dpdk.org (Postfix) with ESMTP id B51A6402A8 for ; Tue, 14 Oct 2025 16:38:14 +0200 (CEST) Received: by mail-il1-f228.google.com with SMTP id e9e14a558f8ab-42d8b15548eso26728335ab.2 for ; Tue, 14 Oct 2025 07:38:14 -0700 (PDT) DKIM-Signature: v=1; a=rsa-sha256; c=relaxed/relaxed; d=iol.unh.edu; s=unh-iol; t=1760452694; x=1761057494; darn=dpdk.org; h=references:in-reply-to:cc:to:from:subject:message-id:date:from:to :cc:subject:date:message-id:reply-to; bh=ow8L8SR/9OnPs5JwjGUeGHKk6l7DlOcE/tFU8xUyB9s=; b=Tm0nVbcJiZeMykZfEs4sqpBq1+gzUjGa7hG/1k1yc4KoZVR7FkoyYQ+dWBcvqL2NvH md6yROJsaO2En4Z+v1G8XUMBZ+r7IjdQix6WwHlYsIAqEV2yetMNn33VraUub6BNCk/y VE2VlozAXNDjb6Sq039TpYdz9BUagkv1yyoFU= X-Google-DKIM-Signature: v=1; a=rsa-sha256; c=relaxed/relaxed; d=1e100.net; s=20230601; t=1760452694; x=1761057494; h=references:in-reply-to:cc:to:from:subject:message-id:date :x-gm-message-state:from:to:cc:subject:date:message-id:reply-to; bh=ow8L8SR/9OnPs5JwjGUeGHKk6l7DlOcE/tFU8xUyB9s=; b=avHR71+rHCjiImojUHXaxdMyQAFUqb2jXst7PNkM/OLRst0pdSOi55SCFJoYuXsohG UoekLBCVa2pCiFMpdhnbHMKH6/k0jHYFs3zcLvZ/p6qeX01U4t11TIc9xyZ9Mw0upxum MMZmgCk5RVBsgVOW1gH3WeVy0SIB8Zue+35HhZ1luaAitQdbR8+w1CTEIzvWu/VPvHqn 94esG5nIePo++cRQ6f135JBBGdFm7RVY00M5HFHzTCbdI5clCDkhzBMtT2mu6m62Z0OG hJvVHQwF3cA06+/eLqxBKNGPUQ5u6+7QZf8N4efkeyCTBzxYV6SwwE2rZwr4D/F2l7DA RmYA== X-Gm-Message-State: AOJu0Yyyhwhnj+f4g5GRB6sgtI1REn2DjuJ4aouzrhxLZrQ95YzS41xd y9qhxljmaiiqnfZOpGS/N5zvA28g57S7bY9db32ngaulsK53xokabD/Z+41P8n8mg2OQvgNnfxu CSa1TYozZXbVFmKuvveeD2xmvh+7Lvo7HM1vVIXdwCiBU/5ONgg6mAd2hQ37I X-Gm-Gg: ASbGncvDoh4qg3wJ/EY0jY2EOHE59L1ieLoZsBFvMeNw1DHy7GTaymP3+/VzAaOnQU5 zqw45RXK3CfNxtMuBYQieOsAtv7M+2202Lz7s3me7q4bD05vm7Feans7EsnqUO8INJpnA7INO01 6Zacm5UUQLp+0pALAWNc1nTRy968iQJV597OFJJZyrhqCmBSZi3xKNNf0k0jh7El1CpHYdl0ZKA LwSxcRuPsN3wtM6WsClv7V6tt67hY2TxhnAfZIbXOw4VNvkWReWb62x1V6QKVtL+2bNTknnCrAS bIFQPfA/6D3hbFeUO0LWUIevzZMIM1lxY1PsjMKqSGzyO3gmIQ== X-Google-Smtp-Source: AGHT+IEwxNkeJDp76GxHm/R0eNns5sFrHXrvv1/KLuV+J9wiwFYykMjepkX7uGe2uTlxhhZu2uYUutAJQ21E X-Received: by 2002:a05:6e02:4813:b0:430:a7d5:235f with SMTP id e9e14a558f8ab-430a7d53b4cmr13688135ab.15.1760452693971; Tue, 14 Oct 2025 07:38:13 -0700 (PDT) Received: from postal.iol.unh.edu (postal.iol.unh.edu. [2606:4100:3880:1234::84]) by smtp-relay.gmail.com with ESMTPS id e9e14a558f8ab-42f9031307esm10610605ab.17.2025.10.14.07.38.13 (version=TLS1_2 cipher=ECDHE-ECDSA-AES128-GCM-SHA256 bits=128/128); Tue, 14 Oct 2025 07:38:13 -0700 (PDT) X-Relaying-Domain: iol.unh.edu Date: Tue, 14 Oct 2025 07:38:13 -0700 (PDT) Message-ID: <68ee6055.920a0220.1b7822.57c1SMTPIN_ADDED_MISSING@mx.google.com> Received: from [172.21.0.2] (unknown [172.18.0.240]) by postal.iol.unh.edu (Postfix) with ESMTP id 871006051830; Tue, 14 Oct 2025 10:38:13 -0400 (EDT) Subject: |SUCCESS| pw157566-157572 [PATCH] [v6,7/7] usertools/mbuf: parse mbu From: dpdklab@iol.unh.edu To: Test Report Cc: dpdk-test-reports@iol.unh.edu In-Reply-To: <20251014124046.1032293-8-thomas@monjalon.net> References: <20251014124046.1032293-8-thomas@monjalon.net> Content-Type: text/plain X-BeenThere: test-report@dpdk.org X-Mailman-Version: 2.1.29 Precedence: list List-Id: automatic DPDK test reports List-Unsubscribe: , List-Archive: List-Post: List-Help: List-Subscribe: , Errors-To: test-report-bounces@dpdk.org Test-Label: iol-unit-amd64-testing Test-Status: SUCCESS http://dpdk.org/patch/157572 _Testing PASS_ Submitter: Thomas Monjalon Date: Tuesday, October 14 2025 12:33:40 DPDK git baseline: Repo:dpdk Branch: master CommitID:2b403dd8fb37d0ba13723e44ffc7ee2c2795f838 157566-157572 --> testing pass Upstream job id: Generic-Unit-Test-DPDK#381364 Test environment and result as below: +-------------------------------+----------------+ | Environment | dpdk_unit_test | +===============================+================+ | CentOS Stream 9 | PASS | +-------------------------------+----------------+ | CentOS Stream 10 | PASS | +-------------------------------+----------------+ | Debian GNU/Linux 12 | PASS | +-------------------------------+----------------+ | Fedora Linux 40 | PASS | +-------------------------------+----------------+ | Fedora Linux 41 | PASS | +-------------------------------+----------------+ | Fedora Linux 42 | PASS | +-------------------------------+----------------+ | Red Hat Enterprise Linux 8.10 | PASS | +-------------------------------+----------------+ | Red Hat Enterprise Linux 9.5 | PASS | +-------------------------------+----------------+ | Ubuntu 20.04 | PASS | +-------------------------------+----------------+ | Ubuntu 24.04 | PASS | +-------------------------------+----------------+ | Ubuntu 22.04 | PASS | +-------------------------------+----------------+ CentOS Stream 9 Kernel: 5.15 Compiler: gcc gcc (GCC) 11.5.0 20240719 (Red Hat 11.5.0-11) CentOS Stream 10 Kernel: 5.15 Compiler: gcc gcc (GCC) 14.2.1 20250110 (Red Hat 14.2.1-8) Debian GNU/Linux 12 Kernel: 5.15 Compiler: gcc gcc (Debian 12.2.0-14+deb12u1) 12.2.0 Fedora Linux 40 Kernel: 5.15 Compiler: gcc gcc (GCC) 14.2.1 20240912 (Red Hat 14.2.1-3) Fedora Linux 41 Kernel: 5.15 Compiler: gcc gcc (GCC) 14.3.1 20250523 (Red Hat 14.3.1-1) Fedora Linux 42 Kernel: 5.15 Compiler: gcc gcc (GCC) 15.2.1 20250808 (Red Hat 15.2.1-1) Red Hat Enterprise Linux 8.10 Kernel: 5.15 Compiler: gcc gcc (GCC) 8.5.0 20210514 (Red Hat 8.5.0-22) Red Hat Enterprise Linux 9.5 Kernel: 5.15 Compiler: gcc gcc (GCC) 11.5.0 20240719 (Red Hat 11.5.0-2) Ubuntu 20.04 Kernel: 5.15 Compiler: gcc gcc (Ubuntu 9.4.0-1ubuntu1~20.04.2) 9.4.0 Ubuntu 24.04 Kernel: 5.15 Compiler: gcc gcc (Ubuntu 13.3.0-6ubuntu2~24.04) 13.3.0 Ubuntu 22.04 Kernel: 5.15 Compiler: gcc gcc (Ubuntu 11.4.0-1ubuntu1~22.04) 11.4.0 To view detailed results, visit: https://lab.dpdk.org/results/dashboard/patchsets/34277/ UNH-IOL DPDK Community Lab To manage your email subscriptions, visit: https://lab.dpdk.org/results/dashboard/preferences/subscriptions/