From mboxrd@z Thu Jan 1 00:00:00 1970 Return-Path: Received: from mails.dpdk.org (mails.dpdk.org [217.70.189.124]) by inbox.dpdk.org (Postfix) with ESMTP id B0E7348936 for ; Tue, 14 Oct 2025 16:44:37 +0200 (CEST) Received: from mails.dpdk.org (localhost [127.0.0.1]) by mails.dpdk.org (Postfix) with ESMTP id 65DF5402CE; Tue, 14 Oct 2025 16:44:37 +0200 (CEST) Received: from mail-pf1-f226.google.com (mail-pf1-f226.google.com [209.85.210.226]) by mails.dpdk.org (Postfix) with ESMTP id 463CB402CE for ; Tue, 14 Oct 2025 16:44:36 +0200 (CEST) Received: by mail-pf1-f226.google.com with SMTP id d2e1a72fcca58-789fb76b466so4942398b3a.0 for ; Tue, 14 Oct 2025 07:44:36 -0700 (PDT) DKIM-Signature: v=1; a=rsa-sha256; c=relaxed/relaxed; d=iol.unh.edu; s=unh-iol; t=1760453075; x=1761057875; darn=dpdk.org; h=cc:to:from:subject:message-id:date:from:to:cc:subject:date :message-id:reply-to; bh=4Os6Axluq1oMBOJZrKu1+qOjZYCpO5rXGeAi0LgI+hk=; b=GcrcJB9xcuqykBOz06i+pw5NVRmEmt1/rDwFXgFdYBXJNFBEb4jJC7wTasRUWzsrEg RdlXrAWr+MPuBBBd4IOmA/fyc8zVKPF2d24XOmb9irdaT1yfVYfN8jsr/9/rtWTAq0Za M2unQbnO5iZBN2AAxo6mtnkw/0rcgM4tqtFhk= X-Google-DKIM-Signature: v=1; a=rsa-sha256; c=relaxed/relaxed; d=1e100.net; s=20230601; t=1760453075; x=1761057875; h=cc:to:from:subject:message-id:date:x-gm-message-state:from:to:cc :subject:date:message-id:reply-to; bh=4Os6Axluq1oMBOJZrKu1+qOjZYCpO5rXGeAi0LgI+hk=; b=jfAzQsFDrKqeXzV7vW0EQP4W3RWbJECLozxb+Ra+JZBD9PHwKynPV5TqgkEOqBcxxG o288NyMdo5KDCX3BrS01BoVeQ0qmpLqOK1skIjfhJRjBMio7moZ/Xt/J3QlAZaotUPw3 fkSv+vlRZcCw/KFWhqD5SOz/3uWlH77YCmMe6ginikpmK9SaH/dPHZHy1/aNAbD9lwJz DdpIxb8GGa2oYTW7aT9cdB1Okn9JDDjq4l84XcpZxlVelLwpTQ3sLVkWeFKyo95KlJ4A bcePQRYEKCW8+y4DXgVJOMyFcnIA/MasFk79TQoV7AFnI5wN2Wub5rciD1k83cDRBd83 QH6Q== X-Gm-Message-State: AOJu0YxoIq6lQYCeLNU4JSdTSgeTYCK8o2ssCUzwh6nF5PkQ9B2cd+zQ A8DF978enpJHStWx0gmM83WA2phTAC3634kbkXsjEUWpm/iAywaYirRGz/p6CaBmRUCGmZWrjWh RMwZW5dIz7aEVIQtOS785T6AskIcbobCjgYpyZroyW6hG X-Gm-Gg: ASbGncuaiWBlJY7yi+Kvwhwh7IvELHmyMUrI+2+JkfkihWXozOQI4oZIsHw8zLJct43 VpVUDyRwRD3+pOTcDNnqcYCsGA083t8eDSIaVEWRtfNzv0vu0zthUBWDBy5jzbEf7ylYTStfmJP kEr9/2BZhv3VthgHAA8kVgzeh4cEiQSJ2NnTsHgJl65BkLYkEwbCpGF/565vjpZPA4qhfXjkNMV LGckMRO1Ucw+slVhUjwbqbB77LAQwq4OHX5TZIc7WefuAdW0FYMwe6BqaCNezgosDkdBdjSH3ru XkwlrKtqiTFvW7WzhDKynYdlx1uhcls1n3n5KBXe/C7QyfLxiIcjHg0rE4floLCCv2wn4snX X-Google-Smtp-Source: AGHT+IGdfGW2HPuROjagf7eJQ64+DcOriBjiX63CJe7rO3K+Zw7lHlQYkHPVYpkqAZ7Z6BXH/boevVfq79I2 X-Received: by 2002:a05:6a20:9153:b0:334:3a1d:536 with SMTP id adf61e73a8af0-3343a1d05e1mr5698172637.17.1760453075211; Tue, 14 Oct 2025 07:44:35 -0700 (PDT) Received: from postal.iol.unh.edu (postal.iol.unh.edu. [132.177.123.84]) by smtp-relay.gmail.com with ESMTPS id 98e67ed59e1d1-33b626ea0b6sm1352202a91.7.2025.10.14.07.44.35 (version=TLS1_2 cipher=ECDHE-ECDSA-AES128-GCM-SHA256 bits=128/128); Tue, 14 Oct 2025 07:44:35 -0700 (PDT) X-Relaying-Domain: iol.unh.edu Date: Tue, 14 Oct 2025 07:44:35 -0700 (PDT) Message-ID: <68ee61d3.170a0220.1c8e4b.2b56SMTPIN_ADDED_MISSING@mx.google.com> Received: from [172.21.0.2] (unknown [172.18.0.240]) by postal.iol.unh.edu (Postfix) with ESMTP id 75E9C604D420; Tue, 14 Oct 2025 10:44:34 -0400 (EDT) Subject: |SUCCESS| [GIT MASTER] b26049c00e3c452cb446d688a43c6c7eebbee32e From: dpdklab@iol.unh.edu To: Test Report Cc: dpdk-test-reports@iol.unh.edu, Bruce Richardson Content-Type: text/plain X-BeenThere: test-report@dpdk.org X-Mailman-Version: 2.1.29 Precedence: list List-Id: automatic DPDK test reports List-Unsubscribe: , List-Archive: List-Post: List-Help: List-Subscribe: , Errors-To: test-report-bounces@dpdk.org _Testing PASS_ Branch: dpdk-next-net-intel b26049c00e3c452cb446d688a43c6c7eebbee32e --> testing pass Upstream job id: Generic-VM-Unit-Test-DPDK#31783 Test environment and result as below: +-------------------------------+----------------+ | Environment | dpdk_unit_test | +===============================+================+ | CentOS Stream 9 | PASS | +-------------------------------+----------------+ | CentOS Stream 10 | PASS | +-------------------------------+----------------+ | Debian GNU/Linux 12 | PASS | +-------------------------------+----------------+ | Fedora Linux 40 | PASS | +-------------------------------+----------------+ | Fedora Linux 41 | PASS | +-------------------------------+----------------+ | Ubuntu 20.04 | PASS | +-------------------------------+----------------+ | Fedora Linux 42 | PASS | +-------------------------------+----------------+ | Red Hat Enterprise Linux 8.10 | PASS | +-------------------------------+----------------+ | Red Hat Enterprise Linux 9.5 | PASS | +-------------------------------+----------------+ | Ubuntu 22.04 | PASS | +-------------------------------+----------------+ | Ubuntu 24.04 | PASS | +-------------------------------+----------------+ | Windows Server 2022 | PASS | +-------------------------------+----------------+ CentOS Stream 9 Kernel: 5.15 Compiler: gcc gcc (GCC) 11.5.0 20240719 (Red Hat 11.5.0-11) CentOS Stream 10 Kernel: 5.15 Compiler: gcc gcc (GCC) 14.2.1 20250110 (Red Hat 14.2.1-8) Debian GNU/Linux 12 Kernel: 5.15 Compiler: gcc gcc (Debian 12.2.0-14+deb12u1) 12.2.0 Fedora Linux 40 Kernel: 5.15 Compiler: gcc gcc (GCC) 14.2.1 20240912 (Red Hat 14.2.1-3) Fedora Linux 41 Kernel: 5.15 Compiler: gcc gcc (GCC) 14.3.1 20250523 (Red Hat 14.3.1-1) Ubuntu 20.04 Kernel: 5.15 Compiler: gcc gcc (Ubuntu 9.4.0-1ubuntu1~20.04.2) 9.4.0 Fedora Linux 42 Kernel: 5.15 Compiler: clang gcc (GCC) 15.2.1 20250808 (Red Hat 15.2.1-1) Red Hat Enterprise Linux 8.10 Kernel: 5.15 Compiler: gcc gcc (GCC) 8.5.0 20210514 (Red Hat 8.5.0-22) Red Hat Enterprise Linux 9.5 Kernel: 5.15 Compiler: gcc gcc (GCC) 11.5.0 20240719 (Red Hat 11.5.0-2) Ubuntu 22.04 Kernel: 5.15 Compiler: gcc gcc (Ubuntu 11.4.0-1ubuntu1~22.04) 11.4.0 Ubuntu 24.04 Kernel: 5.15 Compiler: gcc gcc (Ubuntu 13.3.0-6ubuntu2~24.04) 13.3.0 Windows Server 2022 Kernel: 10.0.20348.2031 Compiler: clang 15.0.7, gcc 14.1.0 (MinGW), and MSVC VS 19.39.33521 To view detailed results, visit: https://lab.dpdk.org/results/dashboard/tarballs/35203/ UNH-IOL DPDK Community Lab To manage your email subscriptions, visit: https://lab.dpdk.org/results/dashboard/preferences/subscriptions/