From mboxrd@z Thu Jan 1 00:00:00 1970 Return-Path: Received: from mails.dpdk.org (mails.dpdk.org [217.70.189.124]) by inbox.dpdk.org (Postfix) with ESMTP id AF09D48936 for ; Tue, 14 Oct 2025 16:56:16 +0200 (CEST) Received: from mails.dpdk.org (localhost [127.0.0.1]) by mails.dpdk.org (Postfix) with ESMTP id 939FD402A8; Tue, 14 Oct 2025 16:56:16 +0200 (CEST) Received: from mail-yw1-f228.google.com (mail-yw1-f228.google.com [209.85.128.228]) by mails.dpdk.org (Postfix) with ESMTP id BB9CB402A8 for ; Tue, 14 Oct 2025 16:56:14 +0200 (CEST) Received: by mail-yw1-f228.google.com with SMTP id 00721157ae682-77fac63ba26so53221057b3.3 for ; Tue, 14 Oct 2025 07:56:14 -0700 (PDT) DKIM-Signature: v=1; a=rsa-sha256; c=relaxed/relaxed; d=iol.unh.edu; s=unh-iol; t=1760453774; x=1761058574; darn=dpdk.org; h=references:in-reply-to:cc:to:from:subject:message-id:date:from:to :cc:subject:date:message-id:reply-to; bh=xb9sX37JmabCH3yM5QTP+1oQ+Mls41e6rmbVJzStlyc=; b=Tl3N1ik2LS8Lv/4TvMs+xipCmeo5XXIQEE9gmfOyHGtWQFJxhOQkjwCuLq+YFPzKzf 1Y3+LVzQuDCdE+9VLbzQ5rDh5NdqwORXHc3vct6DJCrFixAPT06vjW68PyzlDv+r0Ab4 T3pDiVHCiGuJabM9hiV3OTPTY3EK+M7M9Y/sc= X-Google-DKIM-Signature: v=1; a=rsa-sha256; c=relaxed/relaxed; d=1e100.net; s=20230601; t=1760453774; x=1761058574; h=references:in-reply-to:cc:to:from:subject:message-id:date :x-gm-message-state:from:to:cc:subject:date:message-id:reply-to; bh=xb9sX37JmabCH3yM5QTP+1oQ+Mls41e6rmbVJzStlyc=; b=lZsM+B+bX6NB1HwdzW0obYxDvDpas6OeJZUHZ4Fu5yLjdygxXJSAuyG/RQe3BL+6Ex W894e3mzTVES4uPjmQ0WvlkgKKyb0k2HjFnftrUSqDGHjs0fYG53AIZCvY2QWHfojdDN /xevu7bQvxu7xEEEofGwVYzTx49i5In+Hgix507VGRiCbe6V+XSxZZKbOTFuq6NOGJ2a Hp5XflROvoKgwR+FfSDmpBGaNOfPOCszbsGogCBOBOmhDrik5uA0ZXQilZmyyIzttYKD JpNEkV/qVeHKLc8WE3PfvyjCcEziqJQa314YQAj1TCpEZ/f7UUcrnxQV6CaIBWEGqh5w J/0g== X-Gm-Message-State: AOJu0YxEOvVr9Rv2dugyfhl86WJTEB4b+i08P915apH87/9KegFP66xk z1gO04ZiWNs3/e9xiHu54dJJD1xkpDBycQ55w87tQAPPMl60gD5k7cPiwQqCNv3w2/UNe+aXbQt FMqEpA89eduSwGTaWRaY2c8bXejVU9wWXy5qoXdbaK+6x X-Gm-Gg: ASbGncu/ueLOOFcwVpWIEuaS/FJKcVxBtQPbisfjRs3zdpuLOLTj4qlpfdpH7SZcG2m cVVYTnvVB0FrG6G8mdv0vLgOQ6HNb8tz6eu1GU/Ou6qnO1Re/7w9Jg5eThNIc1VUtGa+iGs/DGL sbS61r8uirJitSLPR1Sb9NZXpI2huxQ7zGXGgq54tEkRIZKeDpAyL/Pu1GjX9BdvJQIHJh8F4P9 4QbJSROkFu8b83VAkA4jy/O12vektXGArw0Tksy/pXwjaWIDVwFsMgbuYYzouIiUvioZA5CbUa2 Gb1tRJoGVPWLeGh25u48BTdHyCf2Nq9vcBXTZO+dPgfJWvgRyLZyci5Qg9HbBVEBgHbvDuWL X-Google-Smtp-Source: AGHT+IHimMsCL7sr2OhCSbQLTy4Ym0I/FtJ9SJys5xi0ujFe+eNCq9xlW2Lvy1X+xjIT0PH7rc9iwh5xybOD X-Received: by 2002:a05:690c:685:b0:724:be89:9b69 with SMTP id 00721157ae682-780e13f50b0mr284666607b3.3.1760453773968; Tue, 14 Oct 2025 07:56:13 -0700 (PDT) Received: from postal.iol.unh.edu (postal.iol.unh.edu. [132.177.123.84]) by smtp-relay.gmail.com with ESMTPS id 00721157ae682-78107071317sm8135157b3.37.2025.10.14.07.56.13 (version=TLS1_2 cipher=ECDHE-ECDSA-AES128-GCM-SHA256 bits=128/128); Tue, 14 Oct 2025 07:56:13 -0700 (PDT) X-Relaying-Domain: iol.unh.edu Date: Tue, 14 Oct 2025 07:56:13 -0700 (PDT) Message-ID: <68ee648d.050a0220.1a0769.85f2SMTPIN_ADDED_MISSING@mx.google.com> Received: from [172.21.0.2] (unknown [172.18.0.240]) by postal.iol.unh.edu (Postfix) with ESMTP id 96837604D420; Tue, 14 Oct 2025 10:56:13 -0400 (EDT) Subject: |SUCCESS| pw157566-157572 [PATCH] [v6,7/7] usertools/mbuf: parse mbu From: dpdklab@iol.unh.edu To: Test Report Cc: dpdk-test-reports@iol.unh.edu In-Reply-To: <20251014124046.1032293-8-thomas@monjalon.net> References: <20251014124046.1032293-8-thomas@monjalon.net> Content-Type: text/plain X-BeenThere: test-report@dpdk.org X-Mailman-Version: 2.1.29 Precedence: list List-Id: automatic DPDK test reports List-Unsubscribe: , List-Archive: List-Post: List-Help: List-Subscribe: , Errors-To: test-report-bounces@dpdk.org Test-Label: iol-compile-amd64-testing Test-Status: SUCCESS http://dpdk.org/patch/157572 _Testing PASS_ Submitter: Thomas Monjalon Date: Tuesday, October 14 2025 12:33:40 DPDK git baseline: Repo:dpdk Branch: master CommitID:2b403dd8fb37d0ba13723e44ffc7ee2c2795f838 157566-157572 --> testing pass Upstream job id: Generic-DPDK-Compile-Meson#434206 Test environment and result as below: +-------------------------------+--------------------+-------------------+------------------+ | Environment | dpdk_meson_compile | dpdk_compile_spdk | dpdk_compile_ovs | +===============================+====================+===================+==================+ | Ubuntu 20.04 | PASS | SKIPPED | SKIPPED | +-------------------------------+--------------------+-------------------+------------------+ | FreeBSD 14.2 | PASS | SKIPPED | SKIPPED | +-------------------------------+--------------------+-------------------+------------------+ | CentOS Stream 9 | PASS | PASS | SKIPPED | +-------------------------------+--------------------+-------------------+------------------+ | CentOS Stream 10 | PASS | SKIPPED | SKIPPED | +-------------------------------+--------------------+-------------------+------------------+ | Debian GNU/Linux 12 | PASS | PASS | SKIPPED | +-------------------------------+--------------------+-------------------+------------------+ | Fedora Linux 42 | PASS | PASS | PASS | +-------------------------------+--------------------+-------------------+------------------+ | openSUSE Leap 15.6 | PASS | SKIPPED | SKIPPED | +-------------------------------+--------------------+-------------------+------------------+ | Red Hat Enterprise Linux 8.10 | PASS | SKIPPED | SKIPPED | +-------------------------------+--------------------+-------------------+------------------+ | Red Hat Enterprise Linux 9.5 | PASS | SKIPPED | SKIPPED | +-------------------------------+--------------------+-------------------+------------------+ | Ubuntu 22.04 | PASS | PASS | SKIPPED | +-------------------------------+--------------------+-------------------+------------------+ | Ubuntu 24.04 | PASS | PASS | PASS | +-------------------------------+--------------------+-------------------+------------------+ | Alpine Linux 3.22.0 | PASS | SKIPPED | SKIPPED | +-------------------------------+--------------------+-------------------+------------------+ Ubuntu 20.04 Kernel: 4.19 Compiler: gcc gcc (Ubuntu 9.4.0-1ubuntu1~20.04.2) 9.4.0 FreeBSD 14.2 Kernel: 14.2-RELEASE Compiler: clang 18.1.6 CentOS Stream 9 Kernel: 5.15 Compiler: gcc gcc (GCC) 11.5.0 20240719 (Red Hat 11.5.0-11) CentOS Stream 10 Kernel: 5.15 Compiler: gcc gcc (GCC) 14.2.1 20250110 (Red Hat 14.2.1-8) Debian GNU/Linux 12 Kernel: 5.15 Compiler: gcc gcc (Debian 12.2.0-14+deb12u1) 12.2.0 Fedora Linux 42 Kernel: 5.15 Compiler: clang gcc (GCC) 15.2.1 20250808 (Red Hat 15.2.1-1) openSUSE Leap 15.6 Kernel: 5.15 Compiler: gcc gcc (SUSE Linux) 7.5.0 Red Hat Enterprise Linux 8.10 Kernel: 5.15 Compiler: gcc gcc (GCC) 8.5.0 20210514 (Red Hat 8.5.0-22) Red Hat Enterprise Linux 9.5 Kernel: 5.15 Compiler: gcc gcc (GCC) 11.5.0 20240719 (Red Hat 11.5.0-2) Ubuntu 22.04 Kernel: 5.15 Compiler: gcc gcc (Ubuntu 11.4.0-1ubuntu1~22.04) 11.4.0 Ubuntu 24.04 Kernel: 5.15 Compiler: gcc gcc (Ubuntu 13.3.0-6ubuntu2~24.04) 13.3.0 Alpine Linux 3.22.0 Kernel: 5.15 Compiler: gcc gcc (Alpine 14.2.0) 14.2.0 To view detailed results, visit: https://lab.dpdk.org/results/dashboard/patchsets/34277/ UNH-IOL DPDK Community Lab To manage your email subscriptions, visit: https://lab.dpdk.org/results/dashboard/preferences/subscriptions/