From mboxrd@z Thu Jan 1 00:00:00 1970 Return-Path: Received: from mails.dpdk.org (mails.dpdk.org [217.70.189.124]) by inbox.dpdk.org (Postfix) with ESMTP id 1CD3F48936 for ; Tue, 14 Oct 2025 17:15:14 +0200 (CEST) Received: from mails.dpdk.org (localhost [127.0.0.1]) by mails.dpdk.org (Postfix) with ESMTP id 180D240651; Tue, 14 Oct 2025 17:15:14 +0200 (CEST) Received: from mail-yw1-f226.google.com (mail-yw1-f226.google.com [209.85.128.226]) by mails.dpdk.org (Postfix) with ESMTP id 34201402CE for ; Tue, 14 Oct 2025 17:15:13 +0200 (CEST) Received: by mail-yw1-f226.google.com with SMTP id 00721157ae682-71d71bcac45so56897647b3.0 for ; Tue, 14 Oct 2025 08:15:13 -0700 (PDT) DKIM-Signature: v=1; a=rsa-sha256; c=relaxed/relaxed; d=iol.unh.edu; s=unh-iol; t=1760454912; x=1761059712; darn=dpdk.org; h=references:in-reply-to:cc:to:from:subject:message-id:date:from:to :cc:subject:date:message-id:reply-to; bh=u4QMN0gsY5+RJlYfQ7343cnn5OAZhuAfl7qMhnUA6gU=; b=eNNaEVX1BQLdL2s9DkP0hrbz5bFY+VAY2V+YVSfc0O7AAAs6YYN05dZ5BGBgteXl55 IgfTZ4ogMZv799QBHjk6QnMtSMV5YTB5uV7jZsZaZLRJecyr6OJ+7exSHjNVITrUwPkM c1LdsJXFc92dd0vSLto5koABRMthCv35P3cPU= X-Google-DKIM-Signature: v=1; a=rsa-sha256; c=relaxed/relaxed; d=1e100.net; s=20230601; t=1760454912; x=1761059712; h=references:in-reply-to:cc:to:from:subject:message-id:date :x-gm-message-state:from:to:cc:subject:date:message-id:reply-to; bh=u4QMN0gsY5+RJlYfQ7343cnn5OAZhuAfl7qMhnUA6gU=; b=uI+lxGakv9NJd11+h5Lyd0zO4gwQCDHaUoEYutFcj1WDueREIEpqElGw1HtPVn99+U 6DJn+oCe808/LgYeFrJlZ7jJ29g4U1U/fHoH+rifyqUGc+NZTqw8XxLajJFUTHwMtj1R J+4eWD3CD3tn31cODgR1k18Wmit+rcwRy+zWFh206unNoWZnESw/LSdAFlH1ozhrOyyG p9iCQtLQoBNmJ+TIGnYhmkHQLtXT9m3scKxukkosexDRkP/balhQ10te1Njra4HqEvyl zOBz8cXOenOyuw9FWSLLLZBi0VGIVyVb1UcFsiLYG6SRmLxFflCPO5b/WmY2IYIWLGTQ 3FlQ== X-Gm-Message-State: AOJu0YyD/2UqvN5g4DXA2e6ulnMfDkva2lEJq6Hsp57BZv3J7H/Ys0ZH GU1QebHtarBhS83hEAcHQ4aucdqz9oL9ERhMCB0aZhOFwOzt4qjz6OysAODJvnrNJdApmGEwPyQ KBBqGJKQRgLf5C1Q2nM5C4nDXCQfZOyidsxbGors+rw315e1dHgr2scxtxso3 X-Gm-Gg: ASbGncuoiBla5rkK9sWhoSDM200ddJnWmjunvMOWE1aQq9NHwmbp+BJUmgpRZdWxMAh EzhfjBU2MYwlqAZx4uz6XVOABcl3zMnPWk6eVfIotUEn7TdFb7PqBL8CrXFt8JQqyBV9zpO3zzM 9GimnSjNiHi9QNP3T/iJyFCnlC5FAwE3og1LO30D053dJ90+QQ2/Qd/wyFa/nqeLGf4zfIPvNxc 83DCP6sr5e5pqoLfQ2/uqwXkfmprh0y36/jcHgPAn7u3oFupWNTjxB2wHAkJ/RTUJpWM4VPd5uQ qHQCJFnyS3p/N+9zRkoi8lUdRwyMMnHFNSBOLJ0IldHAB4ShkA== X-Google-Smtp-Source: AGHT+IENS8QVQC5Ktcs1uYCnAstqXjOAjpY9i1nxVN8zIgTENrJZjlibZaYwR99sUmKO6a6A9fEAIFeRZQ9H X-Received: by 2002:a05:690e:4295:10b0:63c:f01e:f8a with SMTP id 956f58d0204a3-63cf01e100amr11598802d50.46.1760454912228; Tue, 14 Oct 2025 08:15:12 -0700 (PDT) Received: from postal.iol.unh.edu (postal.iol.unh.edu. [2606:4100:3880:1234::84]) by smtp-relay.gmail.com with ESMTPS id 956f58d0204a3-63cd952eec8sm905392d50.7.2025.10.14.08.15.12 (version=TLS1_2 cipher=ECDHE-ECDSA-AES128-GCM-SHA256 bits=128/128); Tue, 14 Oct 2025 08:15:12 -0700 (PDT) X-Relaying-Domain: iol.unh.edu Date: Tue, 14 Oct 2025 08:15:12 -0700 (PDT) Message-ID: <68ee6900.530a0220.2424bd.cf5bSMTPIN_ADDED_MISSING@mx.google.com> Received: from [172.21.0.2] (unknown [172.18.0.240]) by postal.iol.unh.edu (Postfix) with ESMTP id D1560604D420; Tue, 14 Oct 2025 11:15:11 -0400 (EDT) Subject: |SUCCESS| pw157562-157563 [PATCH] [v7,2/2] net/cpfl: added CPFL devI From: dpdklab@iol.unh.edu To: Test Report Cc: dpdk-test-reports@iol.unh.edu, Bruce Richardson In-Reply-To: <20251014104511.459215-3-venkatesh.vemula@intel.com> References: <20251014104511.459215-3-venkatesh.vemula@intel.com> Content-Type: text/plain X-BeenThere: test-report@dpdk.org X-Mailman-Version: 2.1.29 Precedence: list List-Id: automatic DPDK test reports List-Unsubscribe: , List-Archive: List-Post: List-Help: List-Subscribe: , Errors-To: test-report-bounces@dpdk.org Test-Label: iol-compile-amd64-testing Test-Status: SUCCESS http://dpdk.org/patch/157563 _Testing PASS_ Submitter: Vemula, Venkatesh Date: Tuesday, October 14 2025 10:45:11 DPDK git baseline: Repo:dpdk-next-net-intel Branch: master CommitID:b26049c00e3c452cb446d688a43c6c7eebbee32e 157562-157563 --> testing pass Upstream job id: Windows-Compile-DPDK-VS#7191 Test environment and result as below: +-------------------------------+--------------------+-------------------+------------------+-------------------+ | Environment | dpdk_meson_compile | dpdk_compile_spdk | dpdk_compile_ovs | dpdk_msvc_compile | +===============================+====================+===================+==================+===================+ | Ubuntu 20.04 | PASS | SKIPPED | SKIPPED | SKIPPED | +-------------------------------+--------------------+-------------------+------------------+-------------------+ | FreeBSD 14.2 | PASS | SKIPPED | SKIPPED | SKIPPED | +-------------------------------+--------------------+-------------------+------------------+-------------------+ | CentOS Stream 9 | PASS | PASS | SKIPPED | SKIPPED | +-------------------------------+--------------------+-------------------+------------------+-------------------+ | CentOS Stream 10 | PASS | SKIPPED | SKIPPED | SKIPPED | +-------------------------------+--------------------+-------------------+------------------+-------------------+ | Debian GNU/Linux 12 | PASS | PASS | SKIPPED | SKIPPED | +-------------------------------+--------------------+-------------------+------------------+-------------------+ | Fedora Linux 42 | PASS | PASS | PASS | SKIPPED | +-------------------------------+--------------------+-------------------+------------------+-------------------+ | openSUSE Leap 15.6 | PASS | SKIPPED | SKIPPED | SKIPPED | +-------------------------------+--------------------+-------------------+------------------+-------------------+ | Red Hat Enterprise Linux 8.10 | PASS | SKIPPED | SKIPPED | SKIPPED | +-------------------------------+--------------------+-------------------+------------------+-------------------+ | Red Hat Enterprise Linux 9.5 | PASS | SKIPPED | SKIPPED | SKIPPED | +-------------------------------+--------------------+-------------------+------------------+-------------------+ | Ubuntu 22.04 | PASS | PASS | SKIPPED | SKIPPED | +-------------------------------+--------------------+-------------------+------------------+-------------------+ | Ubuntu 24.04 | PASS | PASS | PASS | SKIPPED | +-------------------------------+--------------------+-------------------+------------------+-------------------+ | Alpine Linux 3.22.0 | PASS | SKIPPED | SKIPPED | SKIPPED | +-------------------------------+--------------------+-------------------+------------------+-------------------+ | Windows Server 2022 | SKIPPED | SKIPPED | SKIPPED | PASS | +-------------------------------+--------------------+-------------------+------------------+-------------------+ Ubuntu 20.04 Kernel: 4.19 Compiler: gcc gcc (Ubuntu 9.4.0-1ubuntu1~20.04.2) 9.4.0 FreeBSD 14.2 Kernel: 14.2-RELEASE Compiler: clang 18.1.6 CentOS Stream 9 Kernel: 5.15 Compiler: gcc gcc (GCC) 11.5.0 20240719 (Red Hat 11.5.0-11) CentOS Stream 10 Kernel: 5.15 Compiler: gcc gcc (GCC) 14.2.1 20250110 (Red Hat 14.2.1-8) Debian GNU/Linux 12 Kernel: 5.15 Compiler: gcc gcc (Debian 12.2.0-14+deb12u1) 12.2.0 Fedora Linux 42 Kernel: 5.15 Compiler: clang gcc (GCC) 15.2.1 20250808 (Red Hat 15.2.1-1) openSUSE Leap 15.6 Kernel: 5.15 Compiler: gcc gcc (SUSE Linux) 7.5.0 Red Hat Enterprise Linux 8.10 Kernel: 5.15 Compiler: gcc gcc (GCC) 8.5.0 20210514 (Red Hat 8.5.0-22) Red Hat Enterprise Linux 9.5 Kernel: 5.15 Compiler: gcc gcc (GCC) 11.5.0 20240719 (Red Hat 11.5.0-2) Ubuntu 22.04 Kernel: 5.15 Compiler: gcc gcc (Ubuntu 11.4.0-1ubuntu1~22.04) 11.4.0 Ubuntu 24.04 Kernel: 5.15 Compiler: gcc gcc (Ubuntu 13.3.0-6ubuntu2~24.04) 13.3.0 Alpine Linux 3.22.0 Kernel: 5.15 Compiler: gcc gcc (Alpine 14.2.0) 14.2.0 Windows Server 2022 Kernel: 10.0.20348.2031 Compiler: clang 15.0.7, gcc 14.1.0 (MinGW), and MSVC VS 19.39.33521 To view detailed results, visit: https://lab.dpdk.org/results/dashboard/patchsets/34275/ UNH-IOL DPDK Community Lab To manage your email subscriptions, visit: https://lab.dpdk.org/results/dashboard/preferences/subscriptions/