From mboxrd@z Thu Jan 1 00:00:00 1970 Return-Path: Received: from mails.dpdk.org (mails.dpdk.org [217.70.189.124]) by inbox.dpdk.org (Postfix) with ESMTP id 9100448936 for ; Tue, 14 Oct 2025 17:19:38 +0200 (CEST) Received: from mails.dpdk.org (localhost [127.0.0.1]) by mails.dpdk.org (Postfix) with ESMTP id 898F5402A8; Tue, 14 Oct 2025 17:19:38 +0200 (CEST) Received: from mail-oa1-f100.google.com (mail-oa1-f100.google.com [209.85.160.100]) by mails.dpdk.org (Postfix) with ESMTP id 39DEB402A8 for ; Tue, 14 Oct 2025 17:19:37 +0200 (CEST) Received: by mail-oa1-f100.google.com with SMTP id 586e51a60fabf-3c8f62cae4bso1577556fac.1 for ; Tue, 14 Oct 2025 08:19:37 -0700 (PDT) DKIM-Signature: v=1; a=rsa-sha256; c=relaxed/relaxed; d=iol.unh.edu; s=unh-iol; t=1760455176; x=1761059976; darn=dpdk.org; h=references:in-reply-to:cc:to:from:subject:message-id:date:from:to :cc:subject:date:message-id:reply-to; bh=omamM3qBRODnO59GUvvRyHN+FBWELKthN3/vSB2FAKY=; b=Msi1oF81yDkolCdeasvvYvpRcg6+18q5OMVGtYjm1QhMQn/PfZcwRIWozMs+KfpVdY PlGI63PrN28iUWwqcYzxAKaQeu2DpNGPH0D2RsjL8MAZ+7bucrbwYSl+d8HFHcNHdMcF RT49yFMihNTyI3qij28aoHINOwZb2m84xqf5Y= X-Google-DKIM-Signature: v=1; a=rsa-sha256; c=relaxed/relaxed; d=1e100.net; s=20230601; t=1760455176; x=1761059976; h=references:in-reply-to:cc:to:from:subject:message-id:date :x-gm-message-state:from:to:cc:subject:date:message-id:reply-to; bh=omamM3qBRODnO59GUvvRyHN+FBWELKthN3/vSB2FAKY=; b=S+OErpY195OjR2GgeBDO56a+Q7f0XN66X3tPck5MB2PWeoBtOdPY/hVgYmU9MNh2hF cYp+vOuhWeBfwCiiKhISWFw0WfovTDIZBjtHV4uQe1IpSbKzqqIKIf3L4srRVXl4TsS4 i39RHxkdBND5F4S/fo1x+DPyYOlz9wPOv8nOp98Uec3E8/w1vLORRlH9YU0RaxzHXZmS N60CD/us7oT6i46X20pi+ptxXvTh7NiZuG+vnI40mFQVqxgkGI03FhxlRVvkdOVMKUkN cS2eYyK02j94ujB73IJhd9+t2EF9dyAH0+eklpmiGy7wWjQT2aFQkEIflENi0vB7fRu5 kqag== X-Gm-Message-State: AOJu0YwpLpE9+Eb3TvrAiWVTBlhGk4Pm9pW6wy7Dtn0ufT9H99XD0nag pMIlBXpmQrS2urCcJ62KQQdmwVSFekKnhjwK34PH5yyTeZdQHRYyTpMJgaitFpaM/7IhKzgd3hu b8npDrhYJ91zFupUX9wE7OVkkSvK2KCxEi5028XHgDadCoPP9P0t/B5ThHe4I X-Gm-Gg: ASbGnctBvqJaOGWJtsiqbGT3BsFc/8av/HiVPPFCFofPYZ8rgJ3qtuI96yRwDiAne6S AvZTlOUu1RoOnPwNdLelDRqxKAmUlt+uicFrAAT05w33BexUoWiklHG4CvHc80nyb9PET6x2HIZ SNcT0fK9iZYCwOZRk21sX98emJh6hKLgwjS8VctkLgWqDG6ownyTc9YKSy+Ue7jDKD+oosIqlUs FfRY1jwjg0YkR+i+CqDoZ+0KahN/7+wVU/f5BXkdu1DrwWy2BhKsJHXSaer6d2ZQVH0P0SClAJp r5jAFuC6QfWeYZZ1u56hvkllrX9wa/2ovsg9m5Jshh20xAI0YA== X-Google-Smtp-Source: AGHT+IEApJdCeMX+B44lfNcepfTIxeHZ64u2pCrz6r+2kPNNWgfiWimrpzchbRBWhVzVeCwnD7knSba8sXLV X-Received: by 2002:a05:6870:7d19:b0:342:51b7:c8c1 with SMTP id 586e51a60fabf-3be6e0285bamr17034682fac.20.1760455176263; Tue, 14 Oct 2025 08:19:36 -0700 (PDT) Received: from postal.iol.unh.edu (postal.iol.unh.edu. [2606:4100:3880:1234::84]) by smtp-relay.gmail.com with ESMTPS id 586e51a60fabf-3c8c8b9a0a7sm1248760fac.10.2025.10.14.08.19.36 (version=TLS1_2 cipher=ECDHE-ECDSA-AES128-GCM-SHA256 bits=128/128); Tue, 14 Oct 2025 08:19:36 -0700 (PDT) X-Relaying-Domain: iol.unh.edu Date: Tue, 14 Oct 2025 08:19:36 -0700 (PDT) Message-ID: <68ee6a08.050a0220.406f9.cec3SMTPIN_ADDED_MISSING@mx.google.com> Received: from [172.21.0.2] (unknown [172.18.0.240]) by postal.iol.unh.edu (Postfix) with ESMTP id BE483604D420; Tue, 14 Oct 2025 11:19:35 -0400 (EDT) Subject: |SUCCESS| pw157548-157553 [PATCH] [6/6] net/ice: reformat the Rx pat From: dpdklab@iol.unh.edu To: Test Report Cc: dpdk-test-reports@iol.unh.edu, Bruce Richardson In-Reply-To: <20251014084517.1407407-7-ciara.loftus@intel.com> References: <20251014084517.1407407-7-ciara.loftus@intel.com> Content-Type: text/plain X-BeenThere: test-report@dpdk.org X-Mailman-Version: 2.1.29 Precedence: list List-Id: automatic DPDK test reports List-Unsubscribe: , List-Archive: List-Post: List-Help: List-Subscribe: , Errors-To: test-report-bounces@dpdk.org Test-Label: iol-compile-amd64-testing Test-Status: SUCCESS http://dpdk.org/patch/157553 _Testing PASS_ Submitter: Loftus, Ciara Date: Tuesday, October 14 2025 08:45:17 DPDK git baseline: Repo:dpdk-next-net-intel Branch: master CommitID:b26049c00e3c452cb446d688a43c6c7eebbee32e 157548-157553 --> testing pass Upstream job id: Windows-Compile-DPDK-Native#31606 Test environment and result as below: +-------------------------------+--------------------+-------------------+------------------+-------------------+-------------------------+----------------------+ | Environment | dpdk_meson_compile | dpdk_compile_spdk | dpdk_compile_ovs | dpdk_msvc_compile | dpdk_llvm_clang_compile | dpdk_mingw64_compile | +===============================+====================+===================+==================+===================+=========================+======================+ | Ubuntu 20.04 | PASS | SKIPPED | SKIPPED | SKIPPED | SKIPPED | SKIPPED | +-------------------------------+--------------------+-------------------+------------------+-------------------+-------------------------+----------------------+ | FreeBSD 14.2 | PASS | SKIPPED | SKIPPED | SKIPPED | SKIPPED | SKIPPED | +-------------------------------+--------------------+-------------------+------------------+-------------------+-------------------------+----------------------+ | CentOS Stream 9 | PASS | PASS | SKIPPED | SKIPPED | SKIPPED | SKIPPED | +-------------------------------+--------------------+-------------------+------------------+-------------------+-------------------------+----------------------+ | CentOS Stream 10 | PASS | SKIPPED | SKIPPED | SKIPPED | SKIPPED | SKIPPED | +-------------------------------+--------------------+-------------------+------------------+-------------------+-------------------------+----------------------+ | Debian GNU/Linux 12 | PASS | PASS | SKIPPED | SKIPPED | SKIPPED | SKIPPED | +-------------------------------+--------------------+-------------------+------------------+-------------------+-------------------------+----------------------+ | Fedora Linux 42 | PASS | PASS | PASS | SKIPPED | SKIPPED | SKIPPED | +-------------------------------+--------------------+-------------------+------------------+-------------------+-------------------------+----------------------+ | openSUSE Leap 15.6 | PASS | SKIPPED | SKIPPED | SKIPPED | SKIPPED | SKIPPED | +-------------------------------+--------------------+-------------------+------------------+-------------------+-------------------------+----------------------+ | Red Hat Enterprise Linux 8.10 | PASS | SKIPPED | SKIPPED | SKIPPED | SKIPPED | SKIPPED | +-------------------------------+--------------------+-------------------+------------------+-------------------+-------------------------+----------------------+ | Red Hat Enterprise Linux 9.5 | PASS | SKIPPED | SKIPPED | SKIPPED | SKIPPED | SKIPPED | +-------------------------------+--------------------+-------------------+------------------+-------------------+-------------------------+----------------------+ | Ubuntu 22.04 | PASS | PASS | SKIPPED | SKIPPED | SKIPPED | SKIPPED | +-------------------------------+--------------------+-------------------+------------------+-------------------+-------------------------+----------------------+ | Ubuntu 24.04 | PASS | PASS | PASS | SKIPPED | SKIPPED | SKIPPED | +-------------------------------+--------------------+-------------------+------------------+-------------------+-------------------------+----------------------+ | Alpine Linux 3.22.0 | PASS | SKIPPED | SKIPPED | SKIPPED | SKIPPED | SKIPPED | +-------------------------------+--------------------+-------------------+------------------+-------------------+-------------------------+----------------------+ | Windows Server 2022 | SKIPPED | SKIPPED | SKIPPED | PASS | PASS | PASS | +-------------------------------+--------------------+-------------------+------------------+-------------------+-------------------------+----------------------+ Ubuntu 20.04 Kernel: 4.19 Compiler: gcc gcc (Ubuntu 9.4.0-1ubuntu1~20.04.2) 9.4.0 FreeBSD 14.2 Kernel: 14.2-RELEASE Compiler: clang 18.1.6 CentOS Stream 9 Kernel: 5.15 Compiler: gcc gcc (GCC) 11.5.0 20240719 (Red Hat 11.5.0-11) CentOS Stream 10 Kernel: 5.15 Compiler: gcc gcc (GCC) 14.2.1 20250110 (Red Hat 14.2.1-8) Debian GNU/Linux 12 Kernel: 5.15 Compiler: gcc gcc (Debian 12.2.0-14+deb12u1) 12.2.0 Fedora Linux 42 Kernel: 5.15 Compiler: clang gcc (GCC) 15.2.1 20250808 (Red Hat 15.2.1-1) openSUSE Leap 15.6 Kernel: 5.15 Compiler: gcc gcc (SUSE Linux) 7.5.0 Red Hat Enterprise Linux 8.10 Kernel: 5.15 Compiler: gcc gcc (GCC) 8.5.0 20210514 (Red Hat 8.5.0-22) Red Hat Enterprise Linux 9.5 Kernel: 5.15 Compiler: gcc gcc (GCC) 11.5.0 20240719 (Red Hat 11.5.0-2) Ubuntu 22.04 Kernel: 5.15 Compiler: gcc gcc (Ubuntu 11.4.0-1ubuntu1~22.04) 11.4.0 Ubuntu 24.04 Kernel: 5.15 Compiler: gcc gcc (Ubuntu 13.3.0-6ubuntu2~24.04) 13.3.0 Alpine Linux 3.22.0 Kernel: 5.15 Compiler: gcc gcc (Alpine 14.2.0) 14.2.0 Windows Server 2022 Kernel: 10.0.20348.2031 Compiler: clang 15.0.7, gcc 14.1.0 (MinGW), and MSVC VS 19.39.33521 To view detailed results, visit: https://lab.dpdk.org/results/dashboard/patchsets/34272/ UNH-IOL DPDK Community Lab To manage your email subscriptions, visit: https://lab.dpdk.org/results/dashboard/preferences/subscriptions/