From mboxrd@z Thu Jan 1 00:00:00 1970 Return-Path: Received: from mails.dpdk.org (mails.dpdk.org [217.70.189.124]) by inbox.dpdk.org (Postfix) with ESMTP id 1AFDF48936 for ; Tue, 14 Oct 2025 17:23:43 +0200 (CEST) Received: from mails.dpdk.org (localhost [127.0.0.1]) by mails.dpdk.org (Postfix) with ESMTP id 16006402A8; Tue, 14 Oct 2025 17:23:43 +0200 (CEST) Received: from mail-pg1-f228.google.com (mail-pg1-f228.google.com [209.85.215.228]) by mails.dpdk.org (Postfix) with ESMTP id F0878402A8 for ; Tue, 14 Oct 2025 17:23:41 +0200 (CEST) Received: by mail-pg1-f228.google.com with SMTP id 41be03b00d2f7-b6329b6e3b0so4412538a12.1 for ; Tue, 14 Oct 2025 08:23:41 -0700 (PDT) DKIM-Signature: v=1; a=rsa-sha256; c=relaxed/relaxed; d=iol.unh.edu; s=unh-iol; t=1760455421; x=1761060221; darn=dpdk.org; h=references:in-reply-to:cc:to:from:subject:message-id:date:from:to :cc:subject:date:message-id:reply-to; bh=HD2NwBKebVsu9rootQrGxSw98bXBqA6dqXk4XAkr3pI=; b=LOmxHNm7K4KtRdGmAPwlzH6wHB4YTlA0XSVzDlUlaku6HkTUkKl/81uXvRNDHaEwiR CVxgtIqG3K66wDlNWL3HK7O0lF+eWFF3SIxK8qNgFIc651l8o+9qZ+odB6diY6FlPo44 xlgyZhevN5C8jI3lfW8aRkmye/xXE2yNgqxv8= X-Google-DKIM-Signature: v=1; a=rsa-sha256; c=relaxed/relaxed; d=1e100.net; s=20230601; t=1760455421; x=1761060221; h=references:in-reply-to:cc:to:from:subject:message-id:date :x-gm-message-state:from:to:cc:subject:date:message-id:reply-to; bh=HD2NwBKebVsu9rootQrGxSw98bXBqA6dqXk4XAkr3pI=; b=we2WueNuL6fdDhOvJMv7yfAd7wpm6M6zC1D0eWpDwFcOSLnTTPrEEgEOuU+rO/rNAq 4dGoKUHn5tjuf+4dhj0KuKNTbLjAV0N1T0hfxiud7mitiFB+zIZ1kAfRNwVETk/KfsYX WLoMRLUQZOxQCIhq/XSPk7JTiRKpvF6yjyv4eqW84WRrl6s3DbeB0kp7I2VtaRvQA7Px JhmPLosfgfxIAQ5bls3MKftwteaFDrMufNcHaP7yRXxRKEfMu7u7gWv0NjgqrOU/OWrT 4hwy7vcKqkmwwxQUBQ2m9ZRbffQWi8t7oIOdzLRTTh73vN4mvBh74p8gSDp5znFERJmt nBHA== X-Gm-Message-State: AOJu0YwkkvcEWeeNN1eM3aI10I0U9gtj0YcYfu6pqoGcxI5Ss/UJTY/A QMWwFQl3N5G2sElM69pZEb8pRmAm2lY7K752p3BSUC/R3CdREKuuKbevjnhPg3+X6CEZnfDgGp+ QpaESshzPkqecaw6bRCESPikc4oo+M95xQgPlZugeG9/B4rTXHmtwJgKyZjt2 X-Gm-Gg: ASbGnctUFC0IUdCHWke8SW2H8h49AQsLfXF3WRu5z/XaM0bx1qZYiRhLW/7HOlU56v5 fO+7s8RYSVw7r3ROUZu3elEo8T1mqdWDHZzKnmYJk/XGVYbH3bvPKp/zga4vcrsfiHwYE9e6+wh oKyvoj2bgmpG9kA858EgiWFF94Kj+nZ/N8VThgzYrbPwNHCGdwakwNUUm4HMIyS4ZuyoKvOJ8xx GVWqfJ4wlplxFo9q+7xtArSt2QJEukgELiY/78VPk+KhwK4AVzCset70BGQcuGJdNBk0r5MUnbu Sz4VbLUoYUf1Dt5Dia4zppMpzFa9a0iKNMkSqR2TOBbsfJeyhw== X-Google-Smtp-Source: AGHT+IErvb0vf8W8zs4/CSlVqbBfdBcmKmB0upxmQF2GjOMr7QI0VfzbG+h5W9q5slPUFRULqYF0eMUUUpsG X-Received: by 2002:a17:902:ce0a:b0:26b:3cb5:a906 with SMTP id d9443c01a7336-28ec9c97565mr363253005ad.16.1760455420976; Tue, 14 Oct 2025 08:23:40 -0700 (PDT) Received: from postal.iol.unh.edu (postal.iol.unh.edu. [2606:4100:3880:1234::84]) by smtp-relay.gmail.com with ESMTPS id d9443c01a7336-29034e4fd9bsm13607215ad.31.2025.10.14.08.23.40 (version=TLS1_2 cipher=ECDHE-ECDSA-AES128-GCM-SHA256 bits=128/128); Tue, 14 Oct 2025 08:23:40 -0700 (PDT) X-Relaying-Domain: iol.unh.edu Date: Tue, 14 Oct 2025 08:23:40 -0700 (PDT) Message-ID: <68ee6afc.170a0220.284550.400cSMTPIN_ADDED_MISSING@mx.google.com> Received: from [172.21.0.2] (unknown [172.18.0.240]) by postal.iol.unh.edu (Postfix) with ESMTP id 7280E604D420; Tue, 14 Oct 2025 11:23:40 -0400 (EDT) Subject: |SUCCESS| pw157517-157531 [PATCH] [15/15] net/dpaa2: add Policer sta From: dpdklab@iol.unh.edu To: Test Report Cc: dpdk-test-reports@iol.unh.edu In-Reply-To: <20251014060045.1304694-16-prashant.gupta_3@nxp.com> References: <20251014060045.1304694-16-prashant.gupta_3@nxp.com> Content-Type: text/plain X-BeenThere: test-report@dpdk.org X-Mailman-Version: 2.1.29 Precedence: list List-Id: automatic DPDK test reports List-Unsubscribe: , List-Archive: List-Post: List-Help: List-Subscribe: , Errors-To: test-report-bounces@dpdk.org Test-Label: iol-unit-arm64-testing Test-Status: SUCCESS http://dpdk.org/patch/157531 _Testing PASS_ Submitter: Prashant Gupta Date: Tuesday, October 14 2025 06:00:45 DPDK git baseline: Repo:dpdk Branch: master CommitID:2b403dd8fb37d0ba13723e44ffc7ee2c2795f838 157517-157531 --> testing pass Upstream job id: Generic-Unit-Test-DPDK#381116 Test environment and result as below: +------------------------------+------------------------------+---------------------------+--------------+----------------+ | Environment | cryptodev_sw_snow3g_autotest | cryptodev_sw_zuc_autotest | lpm_autotest | dpdk_unit_test | +==============================+==============================+===========================+==============+================+ | Debian 12 (arm) | PASS | PASS | SKIPPED | SKIPPED | +------------------------------+------------------------------+---------------------------+--------------+----------------+ | Ubuntu 20.04 | SKIPPED | SKIPPED | PASS | PASS | +------------------------------+------------------------------+---------------------------+--------------+----------------+ | CentOS Stream 9 | SKIPPED | SKIPPED | SKIPPED | PASS | +------------------------------+------------------------------+---------------------------+--------------+----------------+ | Fedora Linux 40 | SKIPPED | SKIPPED | SKIPPED | PASS | +------------------------------+------------------------------+---------------------------+--------------+----------------+ | Debian GNU/Linux 12 | SKIPPED | SKIPPED | SKIPPED | PASS | +------------------------------+------------------------------+---------------------------+--------------+----------------+ | CentOS Stream 10 | SKIPPED | SKIPPED | SKIPPED | PASS | +------------------------------+------------------------------+---------------------------+--------------+----------------+ | Fedora Linux 42 | SKIPPED | SKIPPED | SKIPPED | PASS | +------------------------------+------------------------------+---------------------------+--------------+----------------+ | Fedora Linux 41 | SKIPPED | SKIPPED | SKIPPED | PASS | +------------------------------+------------------------------+---------------------------+--------------+----------------+ | Ubuntu 24.04 | SKIPPED | SKIPPED | SKIPPED | PASS | +------------------------------+------------------------------+---------------------------+--------------+----------------+ | Red Hat Enterprise Linux 9.5 | SKIPPED | SKIPPED | SKIPPED | PASS | +------------------------------+------------------------------+---------------------------+--------------+----------------+ | Ubuntu 22.04 | SKIPPED | SKIPPED | SKIPPED | PASS | +------------------------------+------------------------------+---------------------------+--------------+----------------+ Debian 12 (arm) Kernel: Depends on container host Compiler: gcc (Debian 12.2.0-14) 12.2.0 Ubuntu 20.04 Kernel: 5.4 Compiler: gcc gcc (Ubuntu 9.4.0-1ubuntu1~20.04.2) 9.4.0 CentOS Stream 9 Kernel: 5.4 Compiler: gcc gcc (GCC) 11.5.0 20240719 (Red Hat 11.5.0-11) Fedora Linux 40 Kernel: 5.4 Compiler: gcc gcc (GCC) 14.2.1 20240912 (Red Hat 14.2.1-3) Debian GNU/Linux 12 Kernel: 5.4 Compiler: gcc gcc (Debian 12.2.0-14+deb12u1) 12.2.0 CentOS Stream 10 Kernel: 5.4 Compiler: gcc gcc (GCC) 14.2.1 20250110 (Red Hat 14.2.1-8) Fedora Linux 42 Kernel: 5.4 Compiler: clang gcc (GCC) 15.2.1 20250808 (Red Hat 15.2.1-1) Fedora Linux 41 Kernel: 5.4 Compiler: gcc gcc (GCC) 14.3.1 20250523 (Red Hat 14.3.1-1) Ubuntu 24.04 Kernel: 5.4 Compiler: gcc gcc (Ubuntu 13.3.0-6ubuntu2~24.04) 13.3.0 Red Hat Enterprise Linux 9.5 Kernel: 5.4 Compiler: gcc gcc (GCC) 11.5.0 20240719 (Red Hat 11.5.0-2) Ubuntu 22.04 Kernel: 5.4 Compiler: gcc gcc (Ubuntu 11.4.0-1ubuntu1~22.04) 11.4.0 To view detailed results, visit: https://lab.dpdk.org/results/dashboard/patchsets/34270/ UNH-IOL DPDK Community Lab To manage your email subscriptions, visit: https://lab.dpdk.org/results/dashboard/preferences/subscriptions/