From mboxrd@z Thu Jan 1 00:00:00 1970 Return-Path: Received: from mails.dpdk.org (mails.dpdk.org [217.70.189.124]) by inbox.dpdk.org (Postfix) with ESMTP id 8F2B248936 for ; Tue, 14 Oct 2025 17:27:29 +0200 (CEST) Received: from mails.dpdk.org (localhost [127.0.0.1]) by mails.dpdk.org (Postfix) with ESMTP id 68C3A402A8; Tue, 14 Oct 2025 17:27:29 +0200 (CEST) Received: from mail-pl1-f226.google.com (mail-pl1-f226.google.com [209.85.214.226]) by mails.dpdk.org (Postfix) with ESMTP id 8CDE3402A8 for ; Tue, 14 Oct 2025 17:27:27 +0200 (CEST) Received: by mail-pl1-f226.google.com with SMTP id d9443c01a7336-27d4d6b7ab5so74457785ad.2 for ; Tue, 14 Oct 2025 08:27:27 -0700 (PDT) DKIM-Signature: v=1; a=rsa-sha256; c=relaxed/relaxed; d=iol.unh.edu; s=unh-iol; t=1760455647; x=1761060447; darn=dpdk.org; h=references:in-reply-to:cc:to:from:subject:message-id:date:from:to :cc:subject:date:message-id:reply-to; bh=TXdbajAj+eI71jwafpDIkO1cTFIJym0ZaayMUjgYJYk=; b=UWeJ6GXypCdE+S8qMZXEh775cgOYwzkjxz/5f8+3EDsjEcm/Trcd6xVMJfUXfkCa+m mt1ey6qHxx6kO2EPGETEdZuw6T0l1tLkR+5RRH5KPe2hfo+lJ+rBGe1RarueA9zkUfB4 VoVVPFZ4CiS11mNPHnvQGGF/Nm0kNXb4n18CI= X-Google-DKIM-Signature: v=1; a=rsa-sha256; c=relaxed/relaxed; d=1e100.net; s=20230601; t=1760455647; x=1761060447; h=references:in-reply-to:cc:to:from:subject:message-id:date :x-gm-message-state:from:to:cc:subject:date:message-id:reply-to; bh=TXdbajAj+eI71jwafpDIkO1cTFIJym0ZaayMUjgYJYk=; b=ud+PWjHEIHuOC2PUvdjzSg6sHmdVTQRmLaSq8mphq22KvtMzVZoe4D9FvJ3YNA32a5 Ke9etb6fFQqSeuFnxMnQ4mCtQ9aAwTaWy+VxKoOYm/6/UPcHrj4Nysa5mu6l3VmcFRx6 mFRop2kvOICupHThDaiSozVQSApBChBXJYCWIjazzNWRaY6jnT+chn8tw4QiBQiwg2ai ca4gpaWI/sR/FROKtYkowSqJJxNuNlnesBxrELxhgfJ5oc8EJcfGfGKgCKgaYmuOwmGC AfRsTd5+t90iplAXZFmvHWlDZH5CoPIP1jpKL+6UsgtlT3kMxRlCW2ulnOVsGw9swXPG lJdA== X-Gm-Message-State: AOJu0YzPi6WPjcg/WLdp7vLmY8AUCAOmh6xwuwTYyDDmyQTQiopvn7ug B6MuMRa1BguRf/4KqpvtnSpqOPPfppeQYvyBpHBbOIPWVh8K+vNgqAfwTUPp6CUBs3DzRoHwfq1 Rwc8H0WXBRfti1JLDDDrj4jHBqB5xA2J4u4bzTyjf+tqQ X-Gm-Gg: ASbGncsFpmuLDx2DhXEJKVe3fH7qSS2Fu9mUSM4bHRN2503RaU+Eh0v/J0bu2wr14Hi 1jstFDK6MxG5zftaHKLpPJbyTxQ8dzKiekZIRFsmkr5j7JcDBSnYAaw4mEAQnhltizBCFrnhFIe /tBDimhU8AX87FLWxfT8WhQRfEspONWxTLsbaAgdvGcdxwsl9QBO06Grd0DFuA5I7AIwez/Mzdh Q4MNAATVy8EoT+hiXis4LeR3l0+NsdZYxRCpUVsDj67WHtIO3G6y2fZoFxEEn1M9hS3DcQ95G9T ZRHCd3taIKmsoStQh0MzHXDOKYh3N4s2lreDbH8qSXYlWo1BLT4BdEskF9qq3jGWJRhgBspd X-Google-Smtp-Source: AGHT+IEpgB4uBiy+GI/8hDsP/S30z7+TewyHGTq+tgDZeQXIxRrFdZ8DhENH8MmYVxWt6oapb5mlU5B7Jow7 X-Received: by 2002:a17:903:a90:b0:27e:f201:ec90 with SMTP id d9443c01a7336-29027264d78mr317397875ad.25.1760455646718; Tue, 14 Oct 2025 08:27:26 -0700 (PDT) Received: from postal.iol.unh.edu (postal.iol.unh.edu. [132.177.123.84]) by smtp-relay.gmail.com with ESMTPS id d9443c01a7336-29034f81fcasm13940815ad.70.2025.10.14.08.27.26 (version=TLS1_2 cipher=ECDHE-ECDSA-AES128-GCM-SHA256 bits=128/128); Tue, 14 Oct 2025 08:27:26 -0700 (PDT) X-Relaying-Domain: iol.unh.edu Date: Tue, 14 Oct 2025 08:27:26 -0700 (PDT) Message-ID: <68ee6bde.170a0220.1457c1.673bSMTPIN_ADDED_MISSING@mx.google.com> Received: from [172.21.0.2] (unknown [172.18.0.240]) by postal.iol.unh.edu (Postfix) with ESMTP id D9C5F604D420; Tue, 14 Oct 2025 11:27:25 -0400 (EDT) Subject: |SUCCESS| pw157562-157563 [PATCH] [v7,2/2] net/cpfl: added CPFL devI From: dpdklab@iol.unh.edu To: Test Report Cc: dpdk-test-reports@iol.unh.edu, Bruce Richardson In-Reply-To: <20251014104511.459215-3-venkatesh.vemula@intel.com> References: <20251014104511.459215-3-venkatesh.vemula@intel.com> Content-Type: text/plain X-BeenThere: test-report@dpdk.org X-Mailman-Version: 2.1.29 Precedence: list List-Id: automatic DPDK test reports List-Unsubscribe: , List-Archive: List-Post: List-Help: List-Subscribe: , Errors-To: test-report-bounces@dpdk.org Test-Label: iol-unit-amd64-testing Test-Status: SUCCESS http://dpdk.org/patch/157563 _Testing PASS_ Submitter: Vemula, Venkatesh Date: Tuesday, October 14 2025 10:45:11 DPDK git baseline: Repo:dpdk-next-net-intel Branch: master CommitID:b26049c00e3c452cb446d688a43c6c7eebbee32e 157562-157563 --> testing pass Upstream job id: Generic-VM-Unit-Test-DPDK#31784 Test environment and result as below: +-------------------------------+----------------+ | Environment | dpdk_unit_test | +===============================+================+ | CentOS Stream 9 | PASS | +-------------------------------+----------------+ | CentOS Stream 10 | PASS | +-------------------------------+----------------+ | Fedora Linux 40 | PASS | +-------------------------------+----------------+ | Debian GNU/Linux 12 | PASS | +-------------------------------+----------------+ | Fedora Linux 42 | PASS | +-------------------------------+----------------+ | Fedora Linux 41 | PASS | +-------------------------------+----------------+ | Ubuntu 24.04 | PASS | +-------------------------------+----------------+ | Ubuntu 20.04 | PASS | +-------------------------------+----------------+ | Red Hat Enterprise Linux 8.10 | PASS | +-------------------------------+----------------+ | Red Hat Enterprise Linux 9.5 | PASS | +-------------------------------+----------------+ | Ubuntu 22.04 | PASS | +-------------------------------+----------------+ | Windows Server 2022 | PASS | +-------------------------------+----------------+ CentOS Stream 9 Kernel: 5.15 Compiler: gcc gcc (GCC) 11.5.0 20240719 (Red Hat 11.5.0-11) CentOS Stream 10 Kernel: 5.15 Compiler: gcc gcc (GCC) 14.2.1 20250110 (Red Hat 14.2.1-8) Fedora Linux 40 Kernel: 5.15 Compiler: clang gcc (GCC) 14.2.1 20240912 (Red Hat 14.2.1-3) Debian GNU/Linux 12 Kernel: 5.15 Compiler: gcc gcc (Debian 12.2.0-14+deb12u1) 12.2.0 Fedora Linux 42 Kernel: 5.15 Compiler: gcc gcc (GCC) 15.2.1 20250808 (Red Hat 15.2.1-1) Fedora Linux 41 Kernel: 5.15 Compiler: clang gcc (GCC) 14.3.1 20250523 (Red Hat 14.3.1-1) Ubuntu 24.04 Kernel: 5.15 Compiler: gcc gcc (Ubuntu 13.3.0-6ubuntu2~24.04) 13.3.0 Ubuntu 20.04 Kernel: 5.15 Compiler: gcc gcc (Ubuntu 9.4.0-1ubuntu1~20.04.2) 9.4.0 Red Hat Enterprise Linux 8.10 Kernel: 5.15 Compiler: gcc gcc (GCC) 8.5.0 20210514 (Red Hat 8.5.0-22) Red Hat Enterprise Linux 9.5 Kernel: 5.15 Compiler: gcc gcc (GCC) 11.5.0 20240719 (Red Hat 11.5.0-2) Ubuntu 22.04 Kernel: 5.15 Compiler: gcc gcc (Ubuntu 11.4.0-1ubuntu1~22.04) 11.4.0 Windows Server 2022 Kernel: 10.0.20348.2031 Compiler: clang 15.0.7, gcc 14.1.0 (MinGW), and MSVC VS 19.39.33521 To view detailed results, visit: https://lab.dpdk.org/results/dashboard/patchsets/34275/ UNH-IOL DPDK Community Lab To manage your email subscriptions, visit: https://lab.dpdk.org/results/dashboard/preferences/subscriptions/