From mboxrd@z Thu Jan 1 00:00:00 1970 Return-Path: Received: from mails.dpdk.org (mails.dpdk.org [217.70.189.124]) by inbox.dpdk.org (Postfix) with ESMTP id 6195748936 for ; Tue, 14 Oct 2025 17:58:30 +0200 (CEST) Received: from mails.dpdk.org (localhost [127.0.0.1]) by mails.dpdk.org (Postfix) with ESMTP id 5A17F402A8; Tue, 14 Oct 2025 17:58:30 +0200 (CEST) Received: from mail-yw1-f227.google.com (mail-yw1-f227.google.com [209.85.128.227]) by mails.dpdk.org (Postfix) with ESMTP id E765B402A8 for ; Tue, 14 Oct 2025 17:58:28 +0200 (CEST) Received: by mail-yw1-f227.google.com with SMTP id 00721157ae682-7815092cd0bso7574847b3.2 for ; Tue, 14 Oct 2025 08:58:28 -0700 (PDT) DKIM-Signature: v=1; a=rsa-sha256; c=relaxed/relaxed; d=iol.unh.edu; s=unh-iol; t=1760457508; x=1761062308; darn=dpdk.org; h=references:in-reply-to:cc:to:from:subject:message-id:date:from:to :cc:subject:date:message-id:reply-to; bh=GBcKDW0m/+zTFuwq3vgM1QILSD+DcysEwjQrcy03RXA=; b=FDx/mPxxIEQQ2MqxXz5KnM8qnnj2WnwNqufsW81eVz3R1HGZOQDMaiHubX9/9ZGasE aImjVIochBz9gv+YvhXdkHGnHKW5Qs6BkuXQp61sFAbBNuEMxXOngkOJOHb1/4cgr9Q7 Z0RFJGGq9HGZmWdwoKkK7/5+mvYpJgJKK7Z1k= X-Google-DKIM-Signature: v=1; a=rsa-sha256; c=relaxed/relaxed; d=1e100.net; s=20230601; t=1760457508; x=1761062308; h=references:in-reply-to:cc:to:from:subject:message-id:date :x-gm-message-state:from:to:cc:subject:date:message-id:reply-to; bh=GBcKDW0m/+zTFuwq3vgM1QILSD+DcysEwjQrcy03RXA=; b=kpu6hKsDxT4/tv3iBpENzoOzwRdQXiRlrp9T9PKeVjDeG45VjHZ4TcJqDG4L/8AFlJ Js5NyOI0QvgoEwrAwd1dEWxE5DJR19A+3duV9XD8N5tY0AFP5evxpOQWaZvpiC//cAip vWZ76b3UwGTL5wlpycxZsoTBImW1bzd9psjDLsSIqzIwWBqHkvkli3tikg+OotyEqLuo m9WCjJ8q1RI7OrYP+mEeSxwiDENCuRN7TY2XoEoDX+k9h8jMqLVhRCqmiqrCkj6npp/e JBEejPabEdva2HdhNIfO2K4RnVjuTklrfz73J3JSC5caS/+zEHrvWsT5xPEFgCy1HTdV XPMw== X-Gm-Message-State: AOJu0Yw3oVubQqXitGbbnnA5Ri8KATf/qaLkHSXz19kuVNo+xissAUGa uTbgV2Dokireh/HbNqIZtGG3V54DEBLe2gEaSTiYFyrXp6T4yz9ABIZfbI/3xIxzMUQ44+in68L jNAtPQr5/kMp+Z3Kt0COgmU/ljQ8Y0PDpaYM/tWQJ8OQVCxkYbI6nrBPWyWdp X-Gm-Gg: ASbGnctmpqs06E9FHqNSlz7ncpysDMR0zpXKeIOp83KqE2H+7WnqyD0nXUY21uJ5TL8 oochHPtpqvyTeg2YFp6D11nMyjk+4h2uxYWUkVioJli8GwP1n5LUmYt6gcooXa5nKytQPs3P9yh XbJA5kmE8On9FM+iOLFz6O40zpn/hzK3HlPCnxOk8gIt80xfk3zj8TCfnqGshsZymEWS8C7caUd fuYhOWSRll4+cXi4Dt6NrXoxbm3wQ6fI2C4s/ANA8RmpUxX+E4QM3PKSK+lhPcuD7s+eMeN24oN JNBrrVbCubKeidZzI6uHw/CSCxYTX8Pfzi5QzNjkRa9HB08IQQ== X-Google-Smtp-Source: AGHT+IHkPnCBCjs9IqCwsJFzmjhdp+LTb1w0QU6uwb1w4a0uv8CJQ1QfOz50oIub8XvlXt0Xl1wiWwODci7G X-Received: by 2002:a05:690c:6c89:b0:781:64f:2b1f with SMTP id 00721157ae682-781064f34a6mr273722207b3.65.1760457508089; Tue, 14 Oct 2025 08:58:28 -0700 (PDT) Received: from postal.iol.unh.edu (postal.iol.unh.edu. [2606:4100:3880:1234::84]) by smtp-relay.gmail.com with ESMTPS id 00721157ae682-7810706a9a7sm8105047b3.34.2025.10.14.08.58.28 (version=TLS1_2 cipher=ECDHE-ECDSA-AES128-GCM-SHA256 bits=128/128); Tue, 14 Oct 2025 08:58:28 -0700 (PDT) X-Relaying-Domain: iol.unh.edu Date: Tue, 14 Oct 2025 08:58:28 -0700 (PDT) Message-ID: <68ee7324.050a0220.29a85e.7944SMTPIN_ADDED_MISSING@mx.google.com> Received: from [172.21.0.3] (unknown [172.18.0.240]) by postal.iol.unh.edu (Postfix) with ESMTP id BD69E604D420; Tue, 14 Oct 2025 11:58:27 -0400 (EDT) Subject: |SUCCESS| pw157564-157565 [PATCH] [v4,2/2] net/iavf: add reinit comm From: dpdklab@iol.unh.edu To: Test Report Cc: dpdk-test-reports@iol.unh.edu, Bruce Richardson In-Reply-To: <20251014123624.1413473-2-ciara.loftus@intel.com> References: <20251014123624.1413473-2-ciara.loftus@intel.com> Content-Type: text/plain X-BeenThere: test-report@dpdk.org X-Mailman-Version: 2.1.29 Precedence: list List-Id: automatic DPDK test reports List-Unsubscribe: , List-Archive: List-Post: List-Help: List-Subscribe: , Errors-To: test-report-bounces@dpdk.org Test-Label: iol-compile-amd64-testing Test-Status: SUCCESS http://dpdk.org/patch/157565 _Testing PASS_ Submitter: Loftus, Ciara Date: Tuesday, October 14 2025 12:36:24 DPDK git baseline: Repo:dpdk-next-net-intel Branch: master CommitID:1e879dc01992b715b57f9f1a062ed9dee788c316 157564-157565 --> testing pass Upstream job id: Windows-Compile-DPDK-VS#7192 Test environment and result as below: +-------------------------------+--------------------+-------------------+------------------+-------------------+ | Environment | dpdk_meson_compile | dpdk_compile_spdk | dpdk_compile_ovs | dpdk_msvc_compile | +===============================+====================+===================+==================+===================+ | CentOS Stream 9 | PASS | PASS | SKIPPED | SKIPPED | +-------------------------------+--------------------+-------------------+------------------+-------------------+ | CentOS Stream 10 | PASS | SKIPPED | SKIPPED | SKIPPED | +-------------------------------+--------------------+-------------------+------------------+-------------------+ | Fedora Linux 42 | PASS | PASS | PASS | SKIPPED | +-------------------------------+--------------------+-------------------+------------------+-------------------+ | Ubuntu 20.04 | PASS | SKIPPED | SKIPPED | SKIPPED | +-------------------------------+--------------------+-------------------+------------------+-------------------+ | openSUSE Leap 15.6 | PASS | SKIPPED | SKIPPED | SKIPPED | +-------------------------------+--------------------+-------------------+------------------+-------------------+ | Ubuntu 22.04 | PASS | PASS | SKIPPED | SKIPPED | +-------------------------------+--------------------+-------------------+------------------+-------------------+ | Debian GNU/Linux 12 | PASS | PASS | SKIPPED | SKIPPED | +-------------------------------+--------------------+-------------------+------------------+-------------------+ | FreeBSD 14.2 | PASS | SKIPPED | SKIPPED | SKIPPED | +-------------------------------+--------------------+-------------------+------------------+-------------------+ | Ubuntu 24.04 | PASS | PASS | PASS | SKIPPED | +-------------------------------+--------------------+-------------------+------------------+-------------------+ | Red Hat Enterprise Linux 8.10 | PASS | SKIPPED | SKIPPED | SKIPPED | +-------------------------------+--------------------+-------------------+------------------+-------------------+ | Red Hat Enterprise Linux 9.5 | PASS | SKIPPED | SKIPPED | SKIPPED | +-------------------------------+--------------------+-------------------+------------------+-------------------+ | Alpine Linux 3.22.0 | PASS | SKIPPED | SKIPPED | SKIPPED | +-------------------------------+--------------------+-------------------+------------------+-------------------+ | Windows Server 2022 | SKIPPED | SKIPPED | SKIPPED | PASS | +-------------------------------+--------------------+-------------------+------------------+-------------------+ CentOS Stream 9 Kernel: 5.15 Compiler: gcc gcc (GCC) 11.5.0 20240719 (Red Hat 11.5.0-11) CentOS Stream 10 Kernel: 5.15 Compiler: gcc gcc (GCC) 14.2.1 20250110 (Red Hat 14.2.1-8) Fedora Linux 42 Kernel: 5.15 Compiler: clang gcc (GCC) 15.2.1 20250808 (Red Hat 15.2.1-1) Ubuntu 20.04 Kernel: 4.19 Compiler: gcc gcc (Ubuntu 9.4.0-1ubuntu1~20.04.2) 9.4.0 openSUSE Leap 15.6 Kernel: 5.15 Compiler: gcc gcc (SUSE Linux) 7.5.0 Ubuntu 22.04 Kernel: 5.15 Compiler: gcc gcc (Ubuntu 11.4.0-1ubuntu1~22.04) 11.4.0 Debian GNU/Linux 12 Kernel: 5.15 Compiler: gcc gcc (Debian 12.2.0-14+deb12u1) 12.2.0 FreeBSD 14.2 Kernel: 14.2-RELEASE Compiler: clang 18.1.6 Ubuntu 24.04 Kernel: 5.15 Compiler: gcc gcc (Ubuntu 13.3.0-6ubuntu2~24.04) 13.3.0 Red Hat Enterprise Linux 8.10 Kernel: 5.15 Compiler: gcc gcc (GCC) 8.5.0 20210514 (Red Hat 8.5.0-22) Red Hat Enterprise Linux 9.5 Kernel: 5.15 Compiler: gcc gcc (GCC) 11.5.0 20240719 (Red Hat 11.5.0-2) Alpine Linux 3.22.0 Kernel: 5.15 Compiler: gcc gcc (Alpine 14.2.0) 14.2.0 Windows Server 2022 Kernel: 10.0.20348.2031 Compiler: clang 15.0.7, gcc 14.1.0 (MinGW), and MSVC VS 19.39.33521 To view detailed results, visit: https://lab.dpdk.org/results/dashboard/patchsets/34276/ UNH-IOL DPDK Community Lab To manage your email subscriptions, visit: https://lab.dpdk.org/results/dashboard/preferences/subscriptions/