From mboxrd@z Thu Jan 1 00:00:00 1970 Return-Path: Received: from mails.dpdk.org (mails.dpdk.org [217.70.189.124]) by inbox.dpdk.org (Postfix) with ESMTP id C143E48937 for ; Tue, 14 Oct 2025 18:01:36 +0200 (CEST) Received: from mails.dpdk.org (localhost [127.0.0.1]) by mails.dpdk.org (Postfix) with ESMTP id ACB27402A8; Tue, 14 Oct 2025 18:01:36 +0200 (CEST) Received: from mail-il1-f225.google.com (mail-il1-f225.google.com [209.85.166.225]) by mails.dpdk.org (Postfix) with ESMTP id 39D60402A8 for ; Tue, 14 Oct 2025 18:01:35 +0200 (CEST) Received: by mail-il1-f225.google.com with SMTP id e9e14a558f8ab-42d8b15548eso27237585ab.2 for ; Tue, 14 Oct 2025 09:01:35 -0700 (PDT) DKIM-Signature: v=1; a=rsa-sha256; c=relaxed/relaxed; d=iol.unh.edu; s=unh-iol; t=1760457694; x=1761062494; darn=dpdk.org; h=references:in-reply-to:cc:to:from:subject:message-id:date:from:to :cc:subject:date:message-id:reply-to; bh=AgaGMjTYHN3urUJleMqKzCUBKdk+72sIG01MGotBF8E=; b=WxXxDvzeUwhUn/ETVWusEph1hxHXzj9VYF8qBW+CvQfG3vzCmKLqAEQhGty+TXo6SZ RxL9obh313o7X4K2Q2goyUPK+2UttcV9GQNXXbNue45cWP2jq4sGIEypGULL20cIFepd YRo5yoPgbACrsXkROa6CntI1WdazW4ZtHMtTw= X-Google-DKIM-Signature: v=1; a=rsa-sha256; c=relaxed/relaxed; d=1e100.net; s=20230601; t=1760457694; x=1761062494; h=references:in-reply-to:cc:to:from:subject:message-id:date :x-gm-message-state:from:to:cc:subject:date:message-id:reply-to; bh=AgaGMjTYHN3urUJleMqKzCUBKdk+72sIG01MGotBF8E=; b=OLu9AsLWi1CsQ4OelYKpLUKShtB3kE56ikLRoZbYv0RPMFRfXbuH1XGGlwJNA7fXC0 +m/XXh7uQhSDGpTSAINI9ABDvIAUT4JXcqTtcUVNfMxWFUjQ9XY4EiTbh9Fw2ITrNFNN Y4KR4N4+qYBARmBPfFZofAymeoVZIouHtjOe/SlUZZuBvr9lyoNrVInNTG6YiAQygCDK UVc/9vJi+fvjkDS81ZzhNsnXhMKSJ3iy5MpvCBc1DkoZhtcdCl5DUiWmffMiaYdcFD9R Dt9nR0eOdf6QcMjeSdwqbCWR5w2gPFny8qT5wGOLKewh80Jqf4vnujIHbPwFHK7I0hSi mVaA== X-Gm-Message-State: AOJu0YxpUNalL6CH79YUasMkj9qt9kobKzIouFrR5XQMvjqBRTkPP818 bpEiJWXP+Ak6QLcgknVlyZw03Zu3YcByoImS9bmQzaalSuKmTEtEkkeLO0SRQk2LlxHCBm0mqhC AtWWF0abNm9RJGtKnTh/pOLpILo+KcSBIZloCa+QzrqFp X-Gm-Gg: ASbGncsVE1WjYPmjcI/FWKnDI9S2n3v5rSWWabv/U2gK/lrjBDvJP0LxV9AF/Jtpfmr EwxY6KaZxLfn3n1gGMvY+wxdX8pGmM1FhRx5sHs/BEPdeZu9fA4h/HOJcWusx1vnqMBFQwPuIm0 XCT/CUqjMOFR99BULmXX35akfZaepn9Lv67WYr0a1UkwGNnk6yMAXjeak3fsmogyRcH5y5o73v+ 6LP4MrUq9WeWPl6sRdMSWGpxmzQmTMuiJ3cPzIHSv5SJAY1mVoj+wOissY8HM+CsIRnFu0vtUGM xgGpMwrutsRbtKRjaYNiHqqF5RU3G005q7Tofd9L2lp8MJM4g+Pnb2NlhSLdveMws3mDxEsv X-Google-Smtp-Source: AGHT+IGWU/7XAnP63cQ8ZDcNlh2zphAMXhJ5OxZmvaHaDxkgV464pFMn/BvRlx2hpBrAmSltnZrjYPbDzNL0 X-Received: by 2002:a05:6e02:3e8b:b0:430:a38c:b767 with SMTP id e9e14a558f8ab-430a38cd164mr28021185ab.18.1760457694249; Tue, 14 Oct 2025 09:01:34 -0700 (PDT) Received: from postal.iol.unh.edu (postal.iol.unh.edu. [132.177.123.84]) by smtp-relay.gmail.com with ESMTPS id e9e14a558f8ab-42f9024401asm10499685ab.7.2025.10.14.09.01.34 (version=TLS1_2 cipher=ECDHE-ECDSA-AES128-GCM-SHA256 bits=128/128); Tue, 14 Oct 2025 09:01:34 -0700 (PDT) X-Relaying-Domain: iol.unh.edu Date: Tue, 14 Oct 2025 09:01:34 -0700 (PDT) Message-ID: <68ee73de.050a0220.bfeda.4620SMTPIN_ADDED_MISSING@mx.google.com> Received: from [172.21.0.3] (unknown [172.18.0.240]) by postal.iol.unh.edu (Postfix) with ESMTP id E0F84604D420; Tue, 14 Oct 2025 12:01:33 -0400 (EDT) Subject: |SUCCESS| pw157554-157556 [PATCH] [v4,3/3] bbdev: fix build with Min From: dpdklab@iol.unh.edu To: Test Report Cc: dpdk-test-reports@iol.unh.edu In-Reply-To: <20251014091528.936405-4-thomas@monjalon.net> References: <20251014091528.936405-4-thomas@monjalon.net> Content-Type: text/plain X-BeenThere: test-report@dpdk.org X-Mailman-Version: 2.1.29 Precedence: list List-Id: automatic DPDK test reports List-Unsubscribe: , List-Archive: List-Post: List-Help: List-Subscribe: , Errors-To: test-report-bounces@dpdk.org Test-Label: iol-compile-amd64-testing Test-Status: SUCCESS http://dpdk.org/patch/157556 _Testing PASS_ Submitter: Thomas Monjalon Date: Tuesday, October 14 2025 09:14:01 DPDK git baseline: Repo:dpdk Branch: master CommitID:2b403dd8fb37d0ba13723e44ffc7ee2c2795f838 157554-157556 --> testing pass Upstream job id: Windows-Compile-DPDK-Native#31607 Test environment and result as below: +-------------------------------+--------------------+-------------------+------------------+-------------------+-------------------------+ | Environment | dpdk_meson_compile | dpdk_compile_spdk | dpdk_compile_ovs | dpdk_msvc_compile | dpdk_llvm_clang_compile | +===============================+====================+===================+==================+===================+=========================+ | CentOS Stream 9 | PASS | PASS | SKIPPED | SKIPPED | SKIPPED | +-------------------------------+--------------------+-------------------+------------------+-------------------+-------------------------+ | CentOS Stream 10 | PASS | SKIPPED | SKIPPED | SKIPPED | SKIPPED | +-------------------------------+--------------------+-------------------+------------------+-------------------+-------------------------+ | Debian GNU/Linux 12 | PASS | PASS | SKIPPED | SKIPPED | SKIPPED | +-------------------------------+--------------------+-------------------+------------------+-------------------+-------------------------+ | Fedora Linux 42 | PASS | PASS | PASS | SKIPPED | SKIPPED | +-------------------------------+--------------------+-------------------+------------------+-------------------+-------------------------+ | openSUSE Leap 15.6 | PASS | SKIPPED | SKIPPED | SKIPPED | SKIPPED | +-------------------------------+--------------------+-------------------+------------------+-------------------+-------------------------+ | Red Hat Enterprise Linux 8.10 | PASS | SKIPPED | SKIPPED | SKIPPED | SKIPPED | +-------------------------------+--------------------+-------------------+------------------+-------------------+-------------------------+ | Red Hat Enterprise Linux 9.5 | PASS | SKIPPED | SKIPPED | SKIPPED | SKIPPED | +-------------------------------+--------------------+-------------------+------------------+-------------------+-------------------------+ | Ubuntu 20.04 | PASS | SKIPPED | SKIPPED | SKIPPED | SKIPPED | +-------------------------------+--------------------+-------------------+------------------+-------------------+-------------------------+ | Ubuntu 22.04 | PASS | PASS | SKIPPED | SKIPPED | SKIPPED | +-------------------------------+--------------------+-------------------+------------------+-------------------+-------------------------+ | Ubuntu 24.04 | PASS | PASS | PASS | SKIPPED | SKIPPED | +-------------------------------+--------------------+-------------------+------------------+-------------------+-------------------------+ | Alpine Linux 3.22.0 | PASS | SKIPPED | SKIPPED | SKIPPED | SKIPPED | +-------------------------------+--------------------+-------------------+------------------+-------------------+-------------------------+ | FreeBSD 14.2 | PASS | SKIPPED | SKIPPED | SKIPPED | SKIPPED | +-------------------------------+--------------------+-------------------+------------------+-------------------+-------------------------+ | Windows Server 2022 | SKIPPED | SKIPPED | SKIPPED | PASS | PASS | +-------------------------------+--------------------+-------------------+------------------+-------------------+-------------------------+ CentOS Stream 9 Kernel: 5.15 Compiler: gcc gcc (GCC) 11.5.0 20240719 (Red Hat 11.5.0-11) CentOS Stream 10 Kernel: 5.15 Compiler: gcc gcc (GCC) 14.2.1 20250110 (Red Hat 14.2.1-8) Debian GNU/Linux 12 Kernel: 5.15 Compiler: gcc gcc (Debian 12.2.0-14+deb12u1) 12.2.0 Fedora Linux 42 Kernel: 5.15 Compiler: clang gcc (GCC) 15.2.1 20250808 (Red Hat 15.2.1-1) openSUSE Leap 15.6 Kernel: 5.15 Compiler: gcc gcc (SUSE Linux) 7.5.0 Red Hat Enterprise Linux 8.10 Kernel: 5.15 Compiler: gcc gcc (GCC) 8.5.0 20210514 (Red Hat 8.5.0-22) Red Hat Enterprise Linux 9.5 Kernel: 5.15 Compiler: gcc gcc (GCC) 11.5.0 20240719 (Red Hat 11.5.0-2) Ubuntu 20.04 Kernel: 5.15 Compiler: gcc gcc (Ubuntu 9.4.0-1ubuntu1~20.04.2) 9.4.0 Ubuntu 22.04 Kernel: 5.15 Compiler: gcc gcc (Ubuntu 11.4.0-1ubuntu1~22.04) 11.4.0 Ubuntu 24.04 Kernel: 5.15 Compiler: gcc gcc (Ubuntu 13.3.0-6ubuntu2~24.04) 13.3.0 Alpine Linux 3.22.0 Kernel: 5.15 Compiler: gcc gcc (Alpine 14.2.0) 14.2.0 FreeBSD 14.2 Kernel: 14.2-RELEASE Compiler: clang 18.1.6 Windows Server 2022 Kernel: 10.0.20348.2031 Compiler: clang 15.0.7, gcc 14.1.0 (MinGW), and MSVC VS 19.39.33521 To view detailed results, visit: https://lab.dpdk.org/results/dashboard/patchsets/34273/ UNH-IOL DPDK Community Lab To manage your email subscriptions, visit: https://lab.dpdk.org/results/dashboard/preferences/subscriptions/