From mboxrd@z Thu Jan 1 00:00:00 1970 Return-Path: Received: from mails.dpdk.org (mails.dpdk.org [217.70.189.124]) by inbox.dpdk.org (Postfix) with ESMTP id 6F66048937 for ; Tue, 14 Oct 2025 18:09:57 +0200 (CEST) Received: from mails.dpdk.org (localhost [127.0.0.1]) by mails.dpdk.org (Postfix) with ESMTP id 5FC0F402A8; Tue, 14 Oct 2025 18:09:57 +0200 (CEST) Received: from mail-pj1-f97.google.com (mail-pj1-f97.google.com [209.85.216.97]) by mails.dpdk.org (Postfix) with ESMTP id 5A0C9402A8 for ; Tue, 14 Oct 2025 18:09:56 +0200 (CEST) Received: by mail-pj1-f97.google.com with SMTP id 98e67ed59e1d1-330a4d4359bso4574443a91.2 for ; Tue, 14 Oct 2025 09:09:56 -0700 (PDT) DKIM-Signature: v=1; a=rsa-sha256; c=relaxed/relaxed; d=iol.unh.edu; s=unh-iol; t=1760458195; x=1761062995; darn=dpdk.org; h=references:in-reply-to:cc:to:from:subject:message-id:date:from:to :cc:subject:date:message-id:reply-to; bh=rPRP2R3HRggvrouZamTmVbIl8HTbcUe+Kmei28rkjac=; b=aE8KWa/cjKFvMd6NS+fxPxNVDgwicapeyF7R53dn+dZDAIXkC8wayLwYsSGTWGGpG/ Df8XhUhOtFnH/tmb4cKMN1HNq77tkDAiMeu8Mf/unWlPesZ98bocvBgzHTYEMSLBmk6M Zk4xTRwpwoJNBmJDwiEUrhnoCAtGBKi9GwR8Q= X-Google-DKIM-Signature: v=1; a=rsa-sha256; c=relaxed/relaxed; d=1e100.net; s=20230601; t=1760458195; x=1761062995; h=references:in-reply-to:cc:to:from:subject:message-id:date :x-gm-message-state:from:to:cc:subject:date:message-id:reply-to; bh=rPRP2R3HRggvrouZamTmVbIl8HTbcUe+Kmei28rkjac=; b=rf99qaxOawhOvEsBiRtzKtvbLeG6xRPaUtNfPGTFT04NNyQXIqM8xKan2ydc1cFw0I a2G1p4aTwr7SHAg/nC04uk1sb1sojHdMORSBq8DMcEByjOVy/sDeBwhwyKcKQsqH6FVc Yb2PkFCsIJB5xbonm0aWtvsxlTeiahHfzSl8+IqjKJ4YYMaaBGndk49xE0MeCcECutWN dcKRMFGgV0stusQ8Rt4UMOI2Assf1EQnjsyEYxAE4XzZNUHkQwnRtG07LibKhaSnecSP I+23/mOazRV5ZF3e6rU1akX5W8D/OyxTW3slaj+XPZ45DCAwXsbUwZHPTmxg7ELI9ybv jt+w== X-Gm-Message-State: AOJu0YwVfZ0ZhK/+FGyHfvJSHqyUlIsklEc3N8oDKYCs99iUAHP0PIT0 6yEkXeUTMGE7PRZx1buC00zxvJxv7kQCosyKrKAJpkXo1cUYDN3rlZN9qV3KhCboWxQl+rdABKu lhXHyAfYXL7nJpL/9tkd3N+EzV3MGF6qeSCT9i6UQqQ5u9Qb5HulaasZcdtBX X-Gm-Gg: ASbGnctTBvXFvFwVvv9PJgxainhASji7YkMbPw/yZqP/8Z8MDwqiPr8MJKfe9PGs9rA WMEG3t/Sg4yVgJPZQL92XnQCLZRhI0TOREj6S+poxCnUXsETa94j7d1czEU3tfS0f2H/1L3yO2P o/0uOekB0qyyFAkinP/Hizev0yf3DQCdC3ivJnntSclepG4d7Ld8qHGc2+lISjup5kD52T3ASoZ 9QwBbiapjy72luz8hgT+QzMby8EEmJz2bO/7ZsG1EYrRgs/GvFSg5Av4JGpil2dxAMKb1D5+3o4 OzZJqRUYra3jPB9aHNkoJDFBKld+8eKYR4HwvQ/3+QMs7zFH4g== X-Google-Smtp-Source: AGHT+IEsjnr3+NpMkC8nOKnmyF7lL46Gml4QjonTiNlYOzw4M0FophJuwqEisBgp5O1ETplEOwWmb+qchSlP X-Received: by 2002:a17:90b:3a91:b0:32e:2059:ee5a with SMTP id 98e67ed59e1d1-33b5114d52fmr37313325a91.8.1760458195249; Tue, 14 Oct 2025 09:09:55 -0700 (PDT) Received: from postal.iol.unh.edu (postal.iol.unh.edu. [2606:4100:3880:1234::84]) by smtp-relay.gmail.com with ESMTPS id 98e67ed59e1d1-33b61a9a095sm1222248a91.5.2025.10.14.09.09.55 (version=TLS1_2 cipher=ECDHE-ECDSA-AES128-GCM-SHA256 bits=128/128); Tue, 14 Oct 2025 09:09:55 -0700 (PDT) X-Relaying-Domain: iol.unh.edu Date: Tue, 14 Oct 2025 09:09:55 -0700 (PDT) Message-ID: <68ee75d3.170a0220.13a8cd.cd38SMTPIN_ADDED_MISSING@mx.google.com> Received: from [172.21.0.2] (unknown [172.18.0.240]) by postal.iol.unh.edu (Postfix) with ESMTP id 836C8604D420; Tue, 14 Oct 2025 12:09:54 -0400 (EDT) Subject: |SUCCESS| pw157564-157565 [PATCH] [v4,2/2] net/iavf: add reinit comm From: dpdklab@iol.unh.edu To: Test Report Cc: dpdk-test-reports@iol.unh.edu, Bruce Richardson In-Reply-To: <20251014123624.1413473-2-ciara.loftus@intel.com> References: <20251014123624.1413473-2-ciara.loftus@intel.com> Content-Type: text/plain X-BeenThere: test-report@dpdk.org X-Mailman-Version: 2.1.29 Precedence: list List-Id: automatic DPDK test reports List-Unsubscribe: , List-Archive: List-Post: List-Help: List-Subscribe: , Errors-To: test-report-bounces@dpdk.org Test-Label: iol-unit-amd64-testing Test-Status: SUCCESS http://dpdk.org/patch/157565 _Testing PASS_ Submitter: Loftus, Ciara Date: Tuesday, October 14 2025 12:36:24 DPDK git baseline: Repo:dpdk-next-net-intel Branch: master CommitID:1e879dc01992b715b57f9f1a062ed9dee788c316 157564-157565 --> testing pass Upstream job id: Generic-VM-Unit-Test-DPDK#31786 Test environment and result as below: +-------------------------------+----------------+ | Environment | dpdk_unit_test | +===============================+================+ | Fedora Linux 41 | PASS | +-------------------------------+----------------+ | CentOS Stream 10 | PASS | +-------------------------------+----------------+ | Fedora Linux 42 | PASS | +-------------------------------+----------------+ | Fedora Linux 40 | PASS | +-------------------------------+----------------+ | CentOS Stream 9 | PASS | +-------------------------------+----------------+ | Ubuntu 22.04 | PASS | +-------------------------------+----------------+ | Debian GNU/Linux 12 | PASS | +-------------------------------+----------------+ | Red Hat Enterprise Linux 9.5 | PASS | +-------------------------------+----------------+ | Red Hat Enterprise Linux 8.10 | PASS | +-------------------------------+----------------+ | Ubuntu 20.04 | PASS | +-------------------------------+----------------+ | Ubuntu 24.04 | PASS | +-------------------------------+----------------+ | Windows Server 2022 | PASS | +-------------------------------+----------------+ Fedora Linux 41 Kernel: 5.15 Compiler: clang gcc (GCC) 14.3.1 20250523 (Red Hat 14.3.1-1) CentOS Stream 10 Kernel: 5.15 Compiler: gcc gcc (GCC) 14.2.1 20250110 (Red Hat 14.2.1-8) Fedora Linux 42 Kernel: 5.15 Compiler: gcc gcc (GCC) 15.2.1 20250808 (Red Hat 15.2.1-1) Fedora Linux 40 Kernel: 5.15 Compiler: clang gcc (GCC) 14.2.1 20240912 (Red Hat 14.2.1-3) CentOS Stream 9 Kernel: 5.15 Compiler: gcc gcc (GCC) 11.5.0 20240719 (Red Hat 11.5.0-11) Ubuntu 22.04 Kernel: 5.15 Compiler: gcc gcc (Ubuntu 11.4.0-1ubuntu1~22.04) 11.4.0 Debian GNU/Linux 12 Kernel: 5.15 Compiler: gcc gcc (Debian 12.2.0-14+deb12u1) 12.2.0 Red Hat Enterprise Linux 9.5 Kernel: 5.15 Compiler: gcc gcc (GCC) 11.5.0 20240719 (Red Hat 11.5.0-2) Red Hat Enterprise Linux 8.10 Kernel: 5.15 Compiler: gcc gcc (GCC) 8.5.0 20210514 (Red Hat 8.5.0-22) Ubuntu 20.04 Kernel: 5.15 Compiler: gcc gcc (Ubuntu 9.4.0-1ubuntu1~20.04.2) 9.4.0 Ubuntu 24.04 Kernel: 5.15 Compiler: gcc gcc (Ubuntu 13.3.0-6ubuntu2~24.04) 13.3.0 Windows Server 2022 Kernel: 10.0.20348.2031 Compiler: clang 15.0.7, gcc 14.1.0 (MinGW), and MSVC VS 19.39.33521 To view detailed results, visit: https://lab.dpdk.org/results/dashboard/patchsets/34276/ UNH-IOL DPDK Community Lab To manage your email subscriptions, visit: https://lab.dpdk.org/results/dashboard/preferences/subscriptions/