From mboxrd@z Thu Jan 1 00:00:00 1970 Return-Path: Received: from mails.dpdk.org (mails.dpdk.org [217.70.189.124]) by inbox.dpdk.org (Postfix) with ESMTP id 41AFB48937 for ; Tue, 14 Oct 2025 18:16:49 +0200 (CEST) Received: from mails.dpdk.org (localhost [127.0.0.1]) by mails.dpdk.org (Postfix) with ESMTP id 3CFFE402A8; Tue, 14 Oct 2025 18:16:49 +0200 (CEST) Received: from mail-ua1-f97.google.com (mail-ua1-f97.google.com [209.85.222.97]) by mails.dpdk.org (Postfix) with ESMTP id 66407402A8 for ; Tue, 14 Oct 2025 18:16:48 +0200 (CEST) Received: by mail-ua1-f97.google.com with SMTP id a1e0cc1a2514c-8e32821b5bcso1499456241.0 for ; Tue, 14 Oct 2025 09:16:48 -0700 (PDT) DKIM-Signature: v=1; a=rsa-sha256; c=relaxed/relaxed; d=iol.unh.edu; s=unh-iol; t=1760458608; x=1761063408; darn=dpdk.org; h=references:in-reply-to:cc:to:from:subject:message-id:date:from:to :cc:subject:date:message-id:reply-to; bh=E8wWjqyeuCnsGtn2U1ytv+P7UhrGrqM3MyA3C0E3378=; b=J2qT+u/BLJZsx+sTwVcHTGWDCFG0XKIlPlMhcNMGZ3bb+79nvbFpRolwxs3gA3hVId bOV8MA7myg+shde23zdol2r12uYxnzT2SkR5l3ngzIjde3LXO2XvM2mFqBTkKCucI9p9 CGRYdDBYw7daUMc4kklBQxqdQSQmd6BY4ZnWE= X-Google-DKIM-Signature: v=1; a=rsa-sha256; c=relaxed/relaxed; d=1e100.net; s=20230601; t=1760458608; x=1761063408; h=references:in-reply-to:cc:to:from:subject:message-id:date :x-gm-message-state:from:to:cc:subject:date:message-id:reply-to; bh=E8wWjqyeuCnsGtn2U1ytv+P7UhrGrqM3MyA3C0E3378=; b=mfHFVC3mtPN/t9r5GHiXCBu6m9Ekjwrerocu7GLmipGwkWXn4K1A64s4ZOo9bSvyoH NzcfS2Omlej7/kmPJlmet144FG4bEPz8gQc4G+rqSO3Ir0KXpW0RuR8O9bKRSI5aQCiK PX39M/QyW8j6qEXQETUFYlRquEq3WmbOiDNYi6fZePPaVyk1DNV2OBjhZwxNj79f517m FNDY7yzYSA5cXtONG0TlZKZ126qQoD3qyypVj9QIsbcU/IRsAsfM38nTtNLFZeaAUOD0 2SxE8LZjavIpggXJsTHtZsLwX6Zh90ufOf4VuYRjw8Vec8/U2fkC4gqh7JB22Yiq9Pyl 7Klg== X-Gm-Message-State: AOJu0Yw3T6Z86Efoq8mwadi+2xc0upaWbkbQGU99Y4ohVxQpDuVJLDSZ wyS2fE1xl5xPulZmQcN0EgCUjmgwXTc5NUjnskDojIC7RO+rkjmB9k8aJajr42ptOXGqkxjbtxH nb5HD2tPsF5O8H5Vl3ZwaaMcgDU5cOz3DccFDeArhA3pi X-Gm-Gg: ASbGncucq4lpiiZRShRrqKsO67jNNOI9ptjbv/agohNVQTAAcEagHvvnKg8S9sSgKBw Ggwaz28B3yhgK07OZbPpGOQjQ/LJg89KOG9xUt/1sepg5mVBurdCtUNUi4uRiIHfwOL5zj+86h2 /y6acTFuRkZzaWNvmR6degr/ky4e8bA0BGsjEgTAfP3RBrRJROmi1CJPyszDCnmMgcUtEFiyQEc RuxmeDfFTyBqccnAgHLs2L9X5A89Jk1fl29YPgLV/MQkweNEXITkhoeyZ2RurKdsCR78BEZSV65 a0W4ny01zx83jHrK7inNHSJwJwNjB/JsYdso2qICz1WhOjIcZpUwNXaoxPIbuoMg65Orr+pd X-Google-Smtp-Source: AGHT+IFGOjeTNAVPFYEqWwdAojSDF1BppWIpgAPcsD6+OM35abuvRU24/yvMHDrN6eaf7y1zct7UrP0ceRax X-Received: by 2002:a05:6102:8012:b0:5d6:731:fbc0 with SMTP id ada2fe7eead31-5d60731fbd1mr5788728137.36.1760458607580; Tue, 14 Oct 2025 09:16:47 -0700 (PDT) Received: from postal.iol.unh.edu (postal.iol.unh.edu. [132.177.123.84]) by smtp-relay.gmail.com with ESMTPS id 6a1803df08f44-87c012b0d96sm135126d6.38.2025.10.14.09.16.46 (version=TLS1_2 cipher=ECDHE-ECDSA-AES128-GCM-SHA256 bits=128/128); Tue, 14 Oct 2025 09:16:47 -0700 (PDT) X-Relaying-Domain: iol.unh.edu Date: Tue, 14 Oct 2025 09:16:47 -0700 (PDT) Message-ID: <68ee776f.d40a0220.b057.0ad1SMTPIN_ADDED_MISSING@mx.google.com> Received: from [172.21.0.2] (unknown [172.18.0.240]) by postal.iol.unh.edu (Postfix) with ESMTP id C039F604D420; Tue, 14 Oct 2025 12:16:46 -0400 (EDT) Subject: |SUCCESS| pw157564-157565 [PATCH] [v4,2/2] net/iavf: add reinit comm From: dpdklab@iol.unh.edu To: Test Report Cc: dpdk-test-reports@iol.unh.edu, Bruce Richardson In-Reply-To: <20251014123624.1413473-2-ciara.loftus@intel.com> References: <20251014123624.1413473-2-ciara.loftus@intel.com> Content-Type: text/plain X-BeenThere: test-report@dpdk.org X-Mailman-Version: 2.1.29 Precedence: list List-Id: automatic DPDK test reports List-Unsubscribe: , List-Archive: List-Post: List-Help: List-Subscribe: , Errors-To: test-report-bounces@dpdk.org Test-Label: iol-unit-amd64-testing Test-Status: SUCCESS http://dpdk.org/patch/157565 _Testing PASS_ Submitter: Loftus, Ciara Date: Tuesday, October 14 2025 12:36:24 DPDK git baseline: Repo:dpdk-next-net-intel Branch: master CommitID:1e879dc01992b715b57f9f1a062ed9dee788c316 157564-157565 --> testing pass Upstream job id: Generic-VM-Unit-Test-DPDK#31787 Test environment and result as below: +-------------------------------+----------------+ | Environment | dpdk_unit_test | +===============================+================+ | Fedora Linux 41 | PASS | +-------------------------------+----------------+ | CentOS Stream 10 | PASS | +-------------------------------+----------------+ | Fedora Linux 42 | PASS | +-------------------------------+----------------+ | Fedora Linux 40 | PASS | +-------------------------------+----------------+ | CentOS Stream 9 | PASS | +-------------------------------+----------------+ | Ubuntu 22.04 | PASS | +-------------------------------+----------------+ | Debian GNU/Linux 12 | PASS | +-------------------------------+----------------+ | Red Hat Enterprise Linux 9.5 | PASS | +-------------------------------+----------------+ | Red Hat Enterprise Linux 8.10 | PASS | +-------------------------------+----------------+ | Ubuntu 20.04 | PASS | +-------------------------------+----------------+ | Ubuntu 24.04 | PASS | +-------------------------------+----------------+ | Windows Server 2022 | PASS | +-------------------------------+----------------+ Fedora Linux 41 Kernel: 5.15 Compiler: clang gcc (GCC) 14.3.1 20250523 (Red Hat 14.3.1-1) CentOS Stream 10 Kernel: 5.15 Compiler: gcc gcc (GCC) 14.2.1 20250110 (Red Hat 14.2.1-8) Fedora Linux 42 Kernel: 5.15 Compiler: gcc gcc (GCC) 15.2.1 20250808 (Red Hat 15.2.1-1) Fedora Linux 40 Kernel: 5.15 Compiler: clang gcc (GCC) 14.2.1 20240912 (Red Hat 14.2.1-3) CentOS Stream 9 Kernel: 5.15 Compiler: gcc gcc (GCC) 11.5.0 20240719 (Red Hat 11.5.0-11) Ubuntu 22.04 Kernel: 5.15 Compiler: gcc gcc (Ubuntu 11.4.0-1ubuntu1~22.04) 11.4.0 Debian GNU/Linux 12 Kernel: 5.15 Compiler: gcc gcc (Debian 12.2.0-14+deb12u1) 12.2.0 Red Hat Enterprise Linux 9.5 Kernel: 5.15 Compiler: gcc gcc (GCC) 11.5.0 20240719 (Red Hat 11.5.0-2) Red Hat Enterprise Linux 8.10 Kernel: 5.15 Compiler: gcc gcc (GCC) 8.5.0 20210514 (Red Hat 8.5.0-22) Ubuntu 20.04 Kernel: 5.15 Compiler: gcc gcc (Ubuntu 9.4.0-1ubuntu1~20.04.2) 9.4.0 Ubuntu 24.04 Kernel: 5.15 Compiler: gcc gcc (Ubuntu 13.3.0-6ubuntu2~24.04) 13.3.0 Windows Server 2022 Kernel: 10.0.20348.2031 Compiler: clang 15.0.7, gcc 14.1.0 (MinGW), and MSVC VS 19.39.33521 To view detailed results, visit: https://lab.dpdk.org/results/dashboard/patchsets/34276/ UNH-IOL DPDK Community Lab To manage your email subscriptions, visit: https://lab.dpdk.org/results/dashboard/preferences/subscriptions/