From mboxrd@z Thu Jan 1 00:00:00 1970 Return-Path: Received: from mails.dpdk.org (mails.dpdk.org [217.70.189.124]) by inbox.dpdk.org (Postfix) with ESMTP id C666048937 for ; Tue, 14 Oct 2025 18:42:01 +0200 (CEST) Received: from mails.dpdk.org (localhost [127.0.0.1]) by mails.dpdk.org (Postfix) with ESMTP id C27C9402A8; Tue, 14 Oct 2025 18:42:01 +0200 (CEST) Received: from mail-pl1-f227.google.com (mail-pl1-f227.google.com [209.85.214.227]) by mails.dpdk.org (Postfix) with ESMTP id BACC3402A8 for ; Tue, 14 Oct 2025 18:41:59 +0200 (CEST) Received: by mail-pl1-f227.google.com with SMTP id d9443c01a7336-27ee41e074dso64325685ad.1 for ; Tue, 14 Oct 2025 09:41:59 -0700 (PDT) DKIM-Signature: v=1; a=rsa-sha256; c=relaxed/relaxed; d=iol.unh.edu; s=unh-iol; t=1760460119; x=1761064919; darn=dpdk.org; h=references:in-reply-to:cc:to:from:subject:message-id:date:from:to :cc:subject:date:message-id:reply-to; bh=AGnUPeNnLfDO4ExuNppTK5mSAbEnGUH3ioUNlrde/5Q=; b=bcq+gnkg8dfvqdCKp4hZ5G6KpnjMtTIZNJPg6j0CFIpBsmyJpDcLVXe3K/fiqcKCEN XTKmeyjq5exSy/9V2wtW2RTsizdMGzn7wdl8KzRlG775F9ty0+b5xuLzMxJzwkZvXRFU Mzu8bGui5NjA3irRG/782lHc27EBsYw+eEOtM= X-Google-DKIM-Signature: v=1; a=rsa-sha256; c=relaxed/relaxed; d=1e100.net; s=20230601; t=1760460119; x=1761064919; h=references:in-reply-to:cc:to:from:subject:message-id:date :x-gm-message-state:from:to:cc:subject:date:message-id:reply-to; bh=AGnUPeNnLfDO4ExuNppTK5mSAbEnGUH3ioUNlrde/5Q=; b=JB+FBu9VxkzsjlW96hJJ+hcgX6p/gMiU2JSlV/HgexFeo1XB/Yut9YqDqJGYvpUkAu Ld8xhL9wP22yKNMwTedSY5MWNbniiRNm9FKGwzmGOyyC3OEeqCB2k5cvc4U8W+nw7lq2 HLgYeLI0mseiiDQVfsptmAxxOAuSfEgYrhkMG4v0mAcw3CfSs5gOp4iEdjovI2EdLE5I dyCwLoAPj6UbzMGHJznFZfWv2StyIYuG2GH8o2USNxbB0aYtQMPLHWf7VkQMzYm9LlSf foTsPCax9y51hfJvhXcFCWLShUMw2k1kVcTcj1GUoLV01uuJY+S9fg7Hr+TbXTPcErfi a9aA== X-Gm-Message-State: AOJu0YxlLTDW0oh9E26Sgs8B3Dvh5pVEZj0buMP8jJi39Q4imRsC+hKO L2bz3rn2FvvKIzki6w5tkCDh2Wx8q00N9ZNmYSqkqcYzq9QAgkF420ry3QplEWYR8HGqtjhl/x/ LKZQuFejYuee1+2Wj9DEib7q9/7LM6pJAW0QzfahgbkOd X-Gm-Gg: ASbGnctFxdlHyvEqCbtOtNU2unP0dgFGCGGCkYLd/ZKJrogi8c3oBW7jUJ4xE/K3IZE Vh/+kImBTuPwlv4Pw2q4TzPUDBxraNfLBnKlhCaU4vD6jVJt3HmdcS7Rzm2D3HoNogr2gJoxyn3 Cdc8EnT5jQXECvGnUFRdAXJXHJsoAu7trrNBSvIVgLgd89Wz7jxcDjlq1WlJg5DC7KNoVrnAju2 9J/OwWifD4uzAT6XZnVmhfRq76EOXrByNZTNCZsWSNezQYgohJr6X/nglZSQFipmR3MTDU4VTnx GwW/1l4wpCUre3UG7bMtx3CSL38LxPekVFvFSlrdmlxMlrDgYO6OQgn4mskbGnVxf7WlUihO X-Google-Smtp-Source: AGHT+IGHmfJH4xliX77swW99GXO+Gddp8DEKWJsz7DiAezFTAUxYgNq/7d7MGXE5vqZOwBBrg46GmiGeJsEq X-Received: by 2002:a17:902:f64d:b0:27d:6777:2833 with SMTP id d9443c01a7336-290272e1cb3mr316043475ad.47.1760460118700; Tue, 14 Oct 2025 09:41:58 -0700 (PDT) Received: from postal.iol.unh.edu (postal.iol.unh.edu. [132.177.123.84]) by smtp-relay.gmail.com with ESMTPS id d9443c01a7336-29034e02b83sm12960615ad.10.2025.10.14.09.41.58 (version=TLS1_2 cipher=ECDHE-ECDSA-AES128-GCM-SHA256 bits=128/128); Tue, 14 Oct 2025 09:41:58 -0700 (PDT) X-Relaying-Domain: iol.unh.edu Date: Tue, 14 Oct 2025 09:41:58 -0700 (PDT) Message-ID: <68ee7d56.170a0220.19130e.ff3aSMTPIN_ADDED_MISSING@mx.google.com> Received: from [172.21.0.2] (unknown [172.18.0.240]) by postal.iol.unh.edu (Postfix) with ESMTP id ED9CA604D420; Tue, 14 Oct 2025 12:41:57 -0400 (EDT) Subject: |SUCCESS| pw157554-157556 [PATCH] [v4,3/3] bbdev: fix build with Min From: dpdklab@iol.unh.edu To: Test Report Cc: dpdk-test-reports@iol.unh.edu In-Reply-To: <20251014091528.936405-4-thomas@monjalon.net> References: <20251014091528.936405-4-thomas@monjalon.net> Content-Type: text/plain X-BeenThere: test-report@dpdk.org X-Mailman-Version: 2.1.29 Precedence: list List-Id: automatic DPDK test reports List-Unsubscribe: , List-Archive: List-Post: List-Help: List-Subscribe: , Errors-To: test-report-bounces@dpdk.org Test-Label: iol-compile-amd64-testing Test-Status: SUCCESS http://dpdk.org/patch/157556 _Testing PASS_ Submitter: Thomas Monjalon Date: Tuesday, October 14 2025 09:14:01 DPDK git baseline: Repo:dpdk Branch: master CommitID:2b403dd8fb37d0ba13723e44ffc7ee2c2795f838 157554-157556 --> testing pass Upstream job id: Windows-Compile-DPDK-Native#31608 Test environment and result as below: +-------------------------------+--------------------+-------------------+------------------+-------------------+-------------------------+----------------------+ | Environment | dpdk_meson_compile | dpdk_compile_spdk | dpdk_compile_ovs | dpdk_msvc_compile | dpdk_llvm_clang_compile | dpdk_mingw64_compile | +===============================+====================+===================+==================+===================+=========================+======================+ | CentOS Stream 9 | PASS | PASS | SKIPPED | SKIPPED | SKIPPED | SKIPPED | +-------------------------------+--------------------+-------------------+------------------+-------------------+-------------------------+----------------------+ | CentOS Stream 10 | PASS | SKIPPED | SKIPPED | SKIPPED | SKIPPED | SKIPPED | +-------------------------------+--------------------+-------------------+------------------+-------------------+-------------------------+----------------------+ | Debian GNU/Linux 12 | PASS | PASS | SKIPPED | SKIPPED | SKIPPED | SKIPPED | +-------------------------------+--------------------+-------------------+------------------+-------------------+-------------------------+----------------------+ | Fedora Linux 42 | PASS | PASS | PASS | SKIPPED | SKIPPED | SKIPPED | +-------------------------------+--------------------+-------------------+------------------+-------------------+-------------------------+----------------------+ | openSUSE Leap 15.6 | PASS | SKIPPED | SKIPPED | SKIPPED | SKIPPED | SKIPPED | +-------------------------------+--------------------+-------------------+------------------+-------------------+-------------------------+----------------------+ | Red Hat Enterprise Linux 8.10 | PASS | SKIPPED | SKIPPED | SKIPPED | SKIPPED | SKIPPED | +-------------------------------+--------------------+-------------------+------------------+-------------------+-------------------------+----------------------+ | Red Hat Enterprise Linux 9.5 | PASS | SKIPPED | SKIPPED | SKIPPED | SKIPPED | SKIPPED | +-------------------------------+--------------------+-------------------+------------------+-------------------+-------------------------+----------------------+ | Ubuntu 20.04 | PASS | SKIPPED | SKIPPED | SKIPPED | SKIPPED | SKIPPED | +-------------------------------+--------------------+-------------------+------------------+-------------------+-------------------------+----------------------+ | Ubuntu 22.04 | PASS | PASS | SKIPPED | SKIPPED | SKIPPED | SKIPPED | +-------------------------------+--------------------+-------------------+------------------+-------------------+-------------------------+----------------------+ | Ubuntu 24.04 | PASS | PASS | PASS | SKIPPED | SKIPPED | SKIPPED | +-------------------------------+--------------------+-------------------+------------------+-------------------+-------------------------+----------------------+ | Alpine Linux 3.22.0 | PASS | SKIPPED | SKIPPED | SKIPPED | SKIPPED | SKIPPED | +-------------------------------+--------------------+-------------------+------------------+-------------------+-------------------------+----------------------+ | FreeBSD 14.2 | PASS | SKIPPED | SKIPPED | SKIPPED | SKIPPED | SKIPPED | +-------------------------------+--------------------+-------------------+------------------+-------------------+-------------------------+----------------------+ | Windows Server 2022 | SKIPPED | SKIPPED | SKIPPED | PASS | PASS | PASS | +-------------------------------+--------------------+-------------------+------------------+-------------------+-------------------------+----------------------+ CentOS Stream 9 Kernel: 5.15 Compiler: gcc gcc (GCC) 11.5.0 20240719 (Red Hat 11.5.0-11) CentOS Stream 10 Kernel: 5.15 Compiler: gcc gcc (GCC) 14.2.1 20250110 (Red Hat 14.2.1-8) Debian GNU/Linux 12 Kernel: 5.15 Compiler: gcc gcc (Debian 12.2.0-14+deb12u1) 12.2.0 Fedora Linux 42 Kernel: 5.15 Compiler: clang gcc (GCC) 15.2.1 20250808 (Red Hat 15.2.1-1) openSUSE Leap 15.6 Kernel: 5.15 Compiler: gcc gcc (SUSE Linux) 7.5.0 Red Hat Enterprise Linux 8.10 Kernel: 5.15 Compiler: gcc gcc (GCC) 8.5.0 20210514 (Red Hat 8.5.0-22) Red Hat Enterprise Linux 9.5 Kernel: 5.15 Compiler: gcc gcc (GCC) 11.5.0 20240719 (Red Hat 11.5.0-2) Ubuntu 20.04 Kernel: 5.15 Compiler: gcc gcc (Ubuntu 9.4.0-1ubuntu1~20.04.2) 9.4.0 Ubuntu 22.04 Kernel: 5.15 Compiler: gcc gcc (Ubuntu 11.4.0-1ubuntu1~22.04) 11.4.0 Ubuntu 24.04 Kernel: 5.15 Compiler: gcc gcc (Ubuntu 13.3.0-6ubuntu2~24.04) 13.3.0 Alpine Linux 3.22.0 Kernel: 5.15 Compiler: gcc gcc (Alpine 14.2.0) 14.2.0 FreeBSD 14.2 Kernel: 14.2-RELEASE Compiler: clang 18.1.6 Windows Server 2022 Kernel: 10.0.20348.2031 Compiler: clang 15.0.7, gcc 14.1.0 (MinGW), and MSVC VS 19.39.33521 To view detailed results, visit: https://lab.dpdk.org/results/dashboard/patchsets/34273/ UNH-IOL DPDK Community Lab To manage your email subscriptions, visit: https://lab.dpdk.org/results/dashboard/preferences/subscriptions/