From mboxrd@z Thu Jan 1 00:00:00 1970 Return-Path: Received: from mails.dpdk.org (mails.dpdk.org [217.70.189.124]) by inbox.dpdk.org (Postfix) with ESMTP id DF53448937 for ; Tue, 14 Oct 2025 18:42:53 +0200 (CEST) Received: from mails.dpdk.org (localhost [127.0.0.1]) by mails.dpdk.org (Postfix) with ESMTP id DA007402A8; Tue, 14 Oct 2025 18:42:53 +0200 (CEST) Received: from mail-io1-f98.google.com (mail-io1-f98.google.com [209.85.166.98]) by mails.dpdk.org (Postfix) with ESMTP id 950E2402A8 for ; Tue, 14 Oct 2025 18:42:52 +0200 (CEST) Received: by mail-io1-f98.google.com with SMTP id ca18e2360f4ac-911afafcc20so222246539f.3 for ; Tue, 14 Oct 2025 09:42:52 -0700 (PDT) DKIM-Signature: v=1; a=rsa-sha256; c=relaxed/relaxed; d=iol.unh.edu; s=unh-iol; t=1760460172; x=1761064972; darn=dpdk.org; h=references:in-reply-to:cc:to:from:subject:message-id:date:from:to :cc:subject:date:message-id:reply-to; bh=zJdcE7du/gqZOPR+83UEpfyri4QKf+KyPxtYBXgeyec=; b=OhxiVwOGyDBAHDI0VXAxza4sP9N8b/1mH3VVBfhtfQxD5ixKpCjRc/uLnWH4nHyCCT fLbS3SuvbDuylay9dt/wfOGib3hgdMLvILeC2B1tZNYKnoL9arnM39BmGjUHsP8lWc7t 3L5HW89ev3r/pVyPZwqOvqFt/YUGSbH1e0tyc= X-Google-DKIM-Signature: v=1; a=rsa-sha256; c=relaxed/relaxed; d=1e100.net; s=20230601; t=1760460172; x=1761064972; h=references:in-reply-to:cc:to:from:subject:message-id:date :x-gm-message-state:from:to:cc:subject:date:message-id:reply-to; bh=zJdcE7du/gqZOPR+83UEpfyri4QKf+KyPxtYBXgeyec=; b=JYC3wZQYez21k7lgQsLB21KxcVq8a9983azYRYQY0wsQP+qccJno/ssCzFMuBKzHfu tGnp98Me5QIdQf9kHj1Q52Dx60YwK4CPopk3tGjqe7i+6VEUyN60T7MpOmvYop89Wafh W2pHbetinj4QEJT3ODldlRGB4XpXAut4jlSa4IVVoQr6btIQieWzklr+cZKTZ+BVJC6M eF+yGL7PZu+r1A6mJK1GMarQWLcnyScoftC3zOmRGW3E567xRtcbskDwrRPzlHl5us/3 Cbn3W1alLMCCcqoOMWrR4To8EQ2fMikkx95eKh4++y/ZHYp6Bg6NZl5BB6Q0yj4GcmlP NkCw== X-Gm-Message-State: AOJu0Yxsr1rKuQRbJo4bMueYouOuQbMEUmiVd+MYz7JKNumEIrgqevaH Lb+x52h1onDPcnLZbP2JnC87xlZgicZ+gP4smm8/nTIJqoLOz3bTpiynEMZaesN0QRL5xT/Sl/K vk3jNDT5djqHEIJKRCjChLwZOM9ECH/mPLxLdIpQ4sBZY8Zv/La+FOSV0bW2z X-Gm-Gg: ASbGncvwRaD105c+2dvi/y1eQgtexuDieCrcayNKUlprStg0aqgkZTTsVEHq+84+le5 KdXEnyFJwYUqUpxjA6SZPcp0/QtUei1AJdwkKbSE2aHftfmJaQeW8MTSBDcB5PfHGo318P9nOoZ JrqqTgN/4l7HlEWNglnsU67ZpByBgY3v7cXX3D7TK+1hyosvJRROpOZMzC0gfVxdG+ufet+AkmH 7NLUZFD7KzTevlvgXVbGwWOwKkUYJmW3dN0ILyHqx3voAvi11CF/PhWh8MO3m8INiKe9Zc9flfO s1BT4L8SPi5sx9pgnWKB7/8Zcsd8SeBJctofTbnGA7kOBnQzrw== X-Google-Smtp-Source: AGHT+IFGkgb4FC5LeEUsCDBGtUul6rXVYejIyU+jREr8+d71pLyfXx1yZr/z+z5VMaqWsJ99bWcvS1N0Atil X-Received: by 2002:a05:6602:1652:b0:926:295d:81ba with SMTP id ca18e2360f4ac-93bd187237dmr3336795039f.5.1760460171861; Tue, 14 Oct 2025 09:42:51 -0700 (PDT) Received: from postal.iol.unh.edu (postal.iol.unh.edu. [2606:4100:3880:1234::84]) by smtp-relay.gmail.com with ESMTPS id ca18e2360f4ac-93e25a748e3sm80018939f.13.2025.10.14.09.42.51 (version=TLS1_2 cipher=ECDHE-ECDSA-AES128-GCM-SHA256 bits=128/128); Tue, 14 Oct 2025 09:42:51 -0700 (PDT) X-Relaying-Domain: iol.unh.edu Date: Tue, 14 Oct 2025 09:42:51 -0700 (PDT) Message-ID: <68ee7d8b.050a0220.3175cc.7e0fSMTPIN_ADDED_MISSING@mx.google.com> Received: from [172.21.0.2] (unknown [172.18.0.240]) by postal.iol.unh.edu (Postfix) with ESMTP id 67F28604D420; Tue, 14 Oct 2025 12:42:51 -0400 (EDT) Subject: |SUCCESS| pw157547 [PATCH] devtools: honor -n flag regardless of std From: dpdklab@iol.unh.edu To: Test Report Cc: dpdk-test-reports@iol.unh.edu In-Reply-To: <20251014074340.2364328-1-alialnu@nvidia.com> References: <20251014074340.2364328-1-alialnu@nvidia.com> Content-Type: text/plain X-BeenThere: test-report@dpdk.org X-Mailman-Version: 2.1.29 Precedence: list List-Id: automatic DPDK test reports List-Unsubscribe: , List-Archive: List-Post: List-Help: List-Subscribe: , Errors-To: test-report-bounces@dpdk.org Test-Label: iol-unit-arm64-testing Test-Status: SUCCESS http://dpdk.org/patch/157547 _Testing PASS_ Submitter: Ali Alnubani Date: Tuesday, October 14 2025 07:43:40 DPDK git baseline: Repo:dpdk Branch: master CommitID:2b403dd8fb37d0ba13723e44ffc7ee2c2795f838 157547 --> testing pass Upstream job id: Generic-Unit-Test-DPDK#381150 Test environment and result as below: +------------------------------+----------------+--------------+---------------------------+------------------------------+ | Environment | dpdk_unit_test | lpm_autotest | cryptodev_sw_zuc_autotest | cryptodev_sw_snow3g_autotest | +==============================+================+==============+===========================+==============================+ | CentOS Stream 10 | PASS | SKIPPED | SKIPPED | SKIPPED | +------------------------------+----------------+--------------+---------------------------+------------------------------+ | CentOS Stream 9 | PASS | SKIPPED | SKIPPED | SKIPPED | +------------------------------+----------------+--------------+---------------------------+------------------------------+ | Debian GNU/Linux 12 | PASS | SKIPPED | SKIPPED | SKIPPED | +------------------------------+----------------+--------------+---------------------------+------------------------------+ | Fedora Linux 40 | PASS | SKIPPED | SKIPPED | SKIPPED | +------------------------------+----------------+--------------+---------------------------+------------------------------+ | Fedora Linux 41 | PASS | SKIPPED | SKIPPED | SKIPPED | +------------------------------+----------------+--------------+---------------------------+------------------------------+ | Red Hat Enterprise Linux 9.5 | PASS | SKIPPED | SKIPPED | SKIPPED | +------------------------------+----------------+--------------+---------------------------+------------------------------+ | Fedora Linux 42 | PASS | SKIPPED | SKIPPED | SKIPPED | +------------------------------+----------------+--------------+---------------------------+------------------------------+ | Ubuntu 20.04 | PASS | PASS | SKIPPED | SKIPPED | +------------------------------+----------------+--------------+---------------------------+------------------------------+ | Ubuntu 24.04 | PASS | SKIPPED | SKIPPED | SKIPPED | +------------------------------+----------------+--------------+---------------------------+------------------------------+ | Ubuntu 22.04 | PASS | SKIPPED | SKIPPED | SKIPPED | +------------------------------+----------------+--------------+---------------------------+------------------------------+ | Debian 12 (arm) | SKIPPED | SKIPPED | PASS | PASS | +------------------------------+----------------+--------------+---------------------------+------------------------------+ CentOS Stream 10 Kernel: 5.4 Compiler: gcc gcc (GCC) 14.2.1 20250110 (Red Hat 14.2.1-8) CentOS Stream 9 Kernel: 5.4 Compiler: gcc gcc (GCC) 11.5.0 20240719 (Red Hat 11.5.0-11) Debian GNU/Linux 12 Kernel: 5.4 Compiler: gcc gcc (Debian 12.2.0-14+deb12u1) 12.2.0 Fedora Linux 40 Kernel: 5.4 Compiler: gcc gcc (GCC) 14.2.1 20240912 (Red Hat 14.2.1-3) Fedora Linux 41 Kernel: 5.4 Compiler: gcc gcc (GCC) 14.3.1 20250523 (Red Hat 14.3.1-1) Red Hat Enterprise Linux 9.5 Kernel: 5.4 Compiler: gcc gcc (GCC) 11.5.0 20240719 (Red Hat 11.5.0-2) Fedora Linux 42 Kernel: 5.4 Compiler: gcc gcc (GCC) 15.2.1 20250808 (Red Hat 15.2.1-1) Ubuntu 20.04 Kernel: 5.4 Compiler: gcc gcc (Ubuntu 9.4.0-1ubuntu1~20.04.2) 9.4.0 Ubuntu 24.04 Kernel: 5.4 Compiler: gcc gcc (Ubuntu 13.3.0-6ubuntu2~24.04) 13.3.0 Ubuntu 22.04 Kernel: 5.4 Compiler: gcc gcc (Ubuntu 11.4.0-1ubuntu1~22.04) 11.4.0 Debian 12 (arm) Kernel: Depends on container host Compiler: gcc (Debian 12.2.0-14) 12.2.0 To view detailed results, visit: https://lab.dpdk.org/results/dashboard/patchsets/34271/ UNH-IOL DPDK Community Lab To manage your email subscriptions, visit: https://lab.dpdk.org/results/dashboard/preferences/subscriptions/