From mboxrd@z Thu Jan 1 00:00:00 1970 Return-Path: Received: from mails.dpdk.org (mails.dpdk.org [217.70.189.124]) by inbox.dpdk.org (Postfix) with ESMTP id C85CB48937 for ; Tue, 14 Oct 2025 18:51:53 +0200 (CEST) Received: from mails.dpdk.org (localhost [127.0.0.1]) by mails.dpdk.org (Postfix) with ESMTP id C3A37402A8; Tue, 14 Oct 2025 18:51:53 +0200 (CEST) Received: from mail-pg1-f228.google.com (mail-pg1-f228.google.com [209.85.215.228]) by mails.dpdk.org (Postfix) with ESMTP id DFE46402A8 for ; Tue, 14 Oct 2025 18:51:52 +0200 (CEST) Received: by mail-pg1-f228.google.com with SMTP id 41be03b00d2f7-b62e7221351so4568352a12.1 for ; Tue, 14 Oct 2025 09:51:52 -0700 (PDT) DKIM-Signature: v=1; a=rsa-sha256; c=relaxed/relaxed; d=iol.unh.edu; s=unh-iol; t=1760460712; x=1761065512; darn=dpdk.org; h=references:in-reply-to:cc:to:from:subject:message-id:date:from:to :cc:subject:date:message-id:reply-to; bh=lh/YtXnewJzjHgPYCJx4gq3dGsNmvgyYyUd2t/sxOcg=; b=aPEcf9xwlGdwfra16bZDTNk2vWh++XD4XCDhHaMuL/cPI4/7DCA54x8uQR4hqs1FwZ ZaiNdv2kkelitMKYOuq+fBhV+xz9WzoHYh5JErPJmKQyOzCGaTkTVbUaAvmhtXGkjjkh wCXN5jyVLBBoZCpQX/uibjLt8ceLWSM+a0k/s= X-Google-DKIM-Signature: v=1; a=rsa-sha256; c=relaxed/relaxed; d=1e100.net; s=20230601; t=1760460712; x=1761065512; h=references:in-reply-to:cc:to:from:subject:message-id:date :x-gm-message-state:from:to:cc:subject:date:message-id:reply-to; bh=lh/YtXnewJzjHgPYCJx4gq3dGsNmvgyYyUd2t/sxOcg=; b=IQxDGuclkvzYLb14g3UysVL+gW6iV+4JpKrx3Tg9sbBIj8AGkxuKemrQM6gt+q0o1v rYAvbMyV/6BDGcvc4z4BX5HEW5HevJFc6PyWMWKmH1RzvwImvz4nG2VoORH9X8SIXWPN Ksvon/xtu6lc1zmmSLCkcNUo6y7sIWx75PdE1D9qYq7RGaO9iSHvJYN4AiKLDT4Aq6eg sPG/5kTYN7TmLnZKXwVHpd3v81PYp6EYzNl2GCdMLx+kIGLN4grZ7v+jGrD6sZZ4jDgT wphgNNiJabNQyrUF/Tx2JSFCbYp9jPueUfvYZVU5h/x6ANzCIFApdfwAoWaNRqHisuYV K9BQ== X-Gm-Message-State: AOJu0YyxeqdIapXgvSYK5oN4Pdnycqjy0WdHKWTvDoyJ53aZMTBVE3d2 Xg54RahpqTj+J98eiHmLI02LGaBcy0c9MTld1lYK4rCq5RCEIyGzQU7xfT4SrwcsC7GtwktEQT9 qYE7qlluqpcOO1A95ysh2JAYRjWFvHZFYi98htCgZSmWE X-Gm-Gg: ASbGnct7aeqCnO7UTZ5Rve4BYQNBWtkhXR0m0SrMrknCAQyHivfYcG+DwoaPqWtg13e FQDpZrGlbVKuwfbypvwmxVq5ZVKWxuYFnyQ8kmO1dnco0ZDDi56mrW/YAnjNfFm7rLr41ukLPzd D17KGwwXDivAcVhWn2fSvYAmknbKfCk1MBmHthFEP0vvkVUTmnF9xw2AIzqD4x5rXC9tYDm+JWs OvJa/4R8MEGmeU8FygXSSsvJbobaIxgO+yzObMnrz0aBciRbkcCIBl9hAdSiOytPYd0yavgZJcc MaFKm4JQawVtsHcbMHu/jTH6x1fRG/sAEzEOOIS+P5cPR7hauxlAy3XyuQosqvogqOpsLrUu X-Google-Smtp-Source: AGHT+IHkidSGPU+xLjVUwhka1uYASSfebDTu0x9O+qt89UJHQ1iaDEBOUKrCNismxg5iFkyHJ9oSEg7FEP1l X-Received: by 2002:a17:903:1a23:b0:271:479d:3de3 with SMTP id d9443c01a7336-290272152eamr330132315ad.12.1760460711916; Tue, 14 Oct 2025 09:51:51 -0700 (PDT) Received: from postal.iol.unh.edu (postal.iol.unh.edu. [132.177.123.84]) by smtp-relay.gmail.com with ESMTPS id d9443c01a7336-29034f2ca5dsm14617525ad.49.2025.10.14.09.51.51 (version=TLS1_2 cipher=ECDHE-ECDSA-AES128-GCM-SHA256 bits=128/128); Tue, 14 Oct 2025 09:51:51 -0700 (PDT) X-Relaying-Domain: iol.unh.edu Date: Tue, 14 Oct 2025 09:51:51 -0700 (PDT) Message-ID: <68ee7fa7.170a0220.1539ab.8e80SMTPIN_ADDED_MISSING@mx.google.com> Received: from [172.21.0.2] (unknown [172.18.0.240]) by postal.iol.unh.edu (Postfix) with ESMTP id 369C7604D420; Tue, 14 Oct 2025 12:51:51 -0400 (EDT) Subject: |SUCCESS| pw157566-157572 [PATCH] [v6,7/7] usertools/mbuf: parse mbu From: dpdklab@iol.unh.edu To: Test Report Cc: dpdk-test-reports@iol.unh.edu In-Reply-To: <20251014124046.1032293-8-thomas@monjalon.net> References: <20251014124046.1032293-8-thomas@monjalon.net> Content-Type: text/plain X-BeenThere: test-report@dpdk.org X-Mailman-Version: 2.1.29 Precedence: list List-Id: automatic DPDK test reports List-Unsubscribe: , List-Archive: List-Post: List-Help: List-Subscribe: , Errors-To: test-report-bounces@dpdk.org Test-Label: iol-unit-amd64-testing Test-Status: SUCCESS http://dpdk.org/patch/157572 _Testing PASS_ Submitter: Thomas Monjalon Date: Tuesday, October 14 2025 12:33:40 DPDK git baseline: Repo:dpdk Branch: master CommitID:2b403dd8fb37d0ba13723e44ffc7ee2c2795f838 157566-157572 --> testing pass Upstream job id: Generic-VM-Unit-Test-DPDK#31788 Test environment and result as below: +-------------------------------+----------------+ | Environment | dpdk_unit_test | +===============================+================+ | CentOS Stream 9 | PASS | +-------------------------------+----------------+ | CentOS Stream 10 | PASS | +-------------------------------+----------------+ | Debian GNU/Linux 12 | PASS | +-------------------------------+----------------+ | Fedora Linux 40 | PASS | +-------------------------------+----------------+ | Fedora Linux 41 | PASS | +-------------------------------+----------------+ | Fedora Linux 42 | PASS | +-------------------------------+----------------+ | Red Hat Enterprise Linux 8.10 | PASS | +-------------------------------+----------------+ | Red Hat Enterprise Linux 9.5 | PASS | +-------------------------------+----------------+ | Ubuntu 20.04 | PASS | +-------------------------------+----------------+ | Ubuntu 24.04 | PASS | +-------------------------------+----------------+ | Ubuntu 22.04 | PASS | +-------------------------------+----------------+ | Windows Server 2022 | PASS | +-------------------------------+----------------+ CentOS Stream 9 Kernel: 5.15 Compiler: gcc gcc (GCC) 11.5.0 20240719 (Red Hat 11.5.0-11) CentOS Stream 10 Kernel: 5.15 Compiler: gcc gcc (GCC) 14.2.1 20250110 (Red Hat 14.2.1-8) Debian GNU/Linux 12 Kernel: 5.15 Compiler: gcc gcc (Debian 12.2.0-14+deb12u1) 12.2.0 Fedora Linux 40 Kernel: 5.15 Compiler: gcc gcc (GCC) 14.2.1 20240912 (Red Hat 14.2.1-3) Fedora Linux 41 Kernel: 5.15 Compiler: gcc gcc (GCC) 14.3.1 20250523 (Red Hat 14.3.1-1) Fedora Linux 42 Kernel: 5.15 Compiler: gcc gcc (GCC) 15.2.1 20250808 (Red Hat 15.2.1-1) Red Hat Enterprise Linux 8.10 Kernel: 5.15 Compiler: gcc gcc (GCC) 8.5.0 20210514 (Red Hat 8.5.0-22) Red Hat Enterprise Linux 9.5 Kernel: 5.15 Compiler: gcc gcc (GCC) 11.5.0 20240719 (Red Hat 11.5.0-2) Ubuntu 20.04 Kernel: 5.15 Compiler: gcc gcc (Ubuntu 9.4.0-1ubuntu1~20.04.2) 9.4.0 Ubuntu 24.04 Kernel: 5.15 Compiler: gcc gcc (Ubuntu 13.3.0-6ubuntu2~24.04) 13.3.0 Ubuntu 22.04 Kernel: 5.15 Compiler: gcc gcc (Ubuntu 11.4.0-1ubuntu1~22.04) 11.4.0 Windows Server 2022 Kernel: 10.0.20348.2031 Compiler: clang 15.0.7, gcc 14.1.0 (MinGW), and MSVC VS 19.39.33521 To view detailed results, visit: https://lab.dpdk.org/results/dashboard/patchsets/34277/ UNH-IOL DPDK Community Lab To manage your email subscriptions, visit: https://lab.dpdk.org/results/dashboard/preferences/subscriptions/