From mboxrd@z Thu Jan 1 00:00:00 1970 Return-Path: Received: from mails.dpdk.org (mails.dpdk.org [217.70.189.124]) by inbox.dpdk.org (Postfix) with ESMTP id C413948937 for ; Tue, 14 Oct 2025 19:01:38 +0200 (CEST) Received: from mails.dpdk.org (localhost [127.0.0.1]) by mails.dpdk.org (Postfix) with ESMTP id A9D05402A8; Tue, 14 Oct 2025 19:01:38 +0200 (CEST) Received: from mail-yw1-f228.google.com (mail-yw1-f228.google.com [209.85.128.228]) by mails.dpdk.org (Postfix) with ESMTP id E5925402A8 for ; Tue, 14 Oct 2025 19:01:37 +0200 (CEST) Received: by mail-yw1-f228.google.com with SMTP id 00721157ae682-73b4e3d0756so61771167b3.3 for ; Tue, 14 Oct 2025 10:01:37 -0700 (PDT) DKIM-Signature: v=1; a=rsa-sha256; c=relaxed/relaxed; d=iol.unh.edu; s=unh-iol; t=1760461297; x=1761066097; darn=dpdk.org; h=references:in-reply-to:cc:to:from:subject:message-id:date:from:to :cc:subject:date:message-id:reply-to; bh=Dd6C0cLLAvADUrsDxFgp9NREBEeJ1NHposs03YBEbQQ=; b=LyTPbgGeSSZw0l5IFo4/AqPxmlX0fTs6NzgJ54aLwE8Nx0nkS360vQr2JdyArY6t3o WzFIKBetk4YBQOZd+Mk/y7dn20zgfBAd1Ue1SL/pdTjh9MJhxrpeo8PPrU1VKfIthL70 hpQf0/nVVYX1DDZrPsoxFy4NFjbKXlfNZTvo0= X-Google-DKIM-Signature: v=1; a=rsa-sha256; c=relaxed/relaxed; d=1e100.net; s=20230601; t=1760461297; x=1761066097; h=references:in-reply-to:cc:to:from:subject:message-id:date :x-gm-message-state:from:to:cc:subject:date:message-id:reply-to; bh=Dd6C0cLLAvADUrsDxFgp9NREBEeJ1NHposs03YBEbQQ=; b=Eo8WVOFToT2i69mKqGwrmU9h5sFJ7NZ2HhhlQJQ0Gdz6hJpb9Y690OXy4ZB7qBcUSf WBkuNYsnXiVWOMFUygJaXWzr9uqVPgPzVkxJ7dKA8Ca5E5nFH8+poUp6qmVGFT1ttUWJ NLl9142x5bJ7/A3Ddm0okaoIjmUcqOQxUIaWdDaq+fmL1reAFMYXaqqrge8Yzlb+/BRx bjG1SqO9/lUkOoEpNHXTZZTy4maNLN3rwB8lqPD65hUj5XdNt1ZNbLtPINAd9QJMy5Q0 KzTsNBxL7F8tj/OXvBxuYgtEDJW4bE/TCRNWHtuwVEJgMD8GY5N2K0xyB/nqiJ8uOWsV 5pWA== X-Gm-Message-State: AOJu0YyF8QxJSPDCiGw6H+hbR/VwDJ7X3ex/2Px+wS8j00RdWereP2D6 6HYKp84UNNrYJ79JKY9k3hfSrmlqYF0CswatpghZxLyQ/BY/ngMKuBdHYCD1xesrpQzbxNHf4bJ I8lqSqRzH+5HQyZcTLkHT6YjbnGG+1unjKo3pBCVin5N7eprepfi5yk+UYayo X-Gm-Gg: ASbGnctI/KPDxyZ4SEO7B69ZmvVtTw6+L6P+aT6+vMoyDtQulJ3E293T02orQO450f1 a34DZ0sRVeS6dCjg2X0J4Vp171PpPqgYCyZNDVQuZfN3PesC7VbpEOfhf9mcl0xn166SAFBwBWa uumOV9G4Niw02bghddTX94qeR2PgDhCwIxE3JkYsKeZYKSzyLkH6dU+9fPv63bIwLuM9YS4hy3R KsAYJVfX50dklA0XwtpeKMM9VXfvcVWHBccLnfqNJFchU6tMEflHu74/53FFa6PBEKYQuMZXXRx d4IFpBqyaPfntseNdvborNmz0m5cdpxTCt9AeCZ5B7QW4c14Qw== X-Google-Smtp-Source: AGHT+IES6QfT0hw8j3q9M7Fem6er0aDQEQ1wv4AMCsexy56LWBOivFBFu7llcVaiBnXm85UNaHSLjTYKVrwa X-Received: by 2002:a05:690c:7442:b0:743:c16d:ae86 with SMTP id 00721157ae682-780e15e86b1mr265379637b3.20.1760461296757; Tue, 14 Oct 2025 10:01:36 -0700 (PDT) Received: from postal.iol.unh.edu (postal.iol.unh.edu. [2606:4100:3880:1234::84]) by smtp-relay.gmail.com with ESMTPS id 00721157ae682-78106d5829esm8861537b3.13.2025.10.14.10.01.36 (version=TLS1_2 cipher=ECDHE-ECDSA-AES128-GCM-SHA256 bits=128/128); Tue, 14 Oct 2025 10:01:36 -0700 (PDT) X-Relaying-Domain: iol.unh.edu Date: Tue, 14 Oct 2025 10:01:36 -0700 (PDT) Message-ID: <68ee81f0.050a0220.130ea0.d2e9SMTPIN_ADDED_MISSING@mx.google.com> Received: from [172.21.0.4] (unknown [172.18.0.240]) by postal.iol.unh.edu (Postfix) with ESMTP id 651CF604D420; Tue, 14 Oct 2025 13:01:36 -0400 (EDT) Subject: |SUCCESS| pw157557-157561 [PATCH] [v3,5/5] net/dpaa: fix resource le From: dpdklab@iol.unh.edu To: Test Report Cc: dpdk-test-reports@iol.unh.edu, Stephen Hemminger In-Reply-To: <20251014101716.2885563-6-g.singh@nxp.com> References: <20251014101716.2885563-6-g.singh@nxp.com> Content-Type: text/plain X-BeenThere: test-report@dpdk.org X-Mailman-Version: 2.1.29 Precedence: list List-Id: automatic DPDK test reports List-Unsubscribe: , List-Archive: List-Post: List-Help: List-Subscribe: , Errors-To: test-report-bounces@dpdk.org Test-Label: iol-compile-arm64-testing Test-Status: SUCCESS http://dpdk.org/patch/157561 _Testing PASS_ Submitter: Gagandeep Singh Date: Tuesday, October 14 2025 10:17:16 DPDK git baseline: Repo:dpdk-next-net Branch: master CommitID:c04bbd131b2c14b3049bf86d3ef367b34e6fdf1e 157557-157561 --> testing pass Upstream job id: Generic-DPDK-Compile-Meson#434105 Test environment and result as below: +------------------------------+--------------------+ | Environment | dpdk_meson_compile | +==============================+====================+ | Ubuntu 20.04 | PASS | +------------------------------+--------------------+ | Debian GNU/Linux 12 | PASS | +------------------------------+--------------------+ | Red Hat Enterprise Linux 9.5 | PASS | +------------------------------+--------------------+ | Fedora Linux 42 | PASS | +------------------------------+--------------------+ | Ubuntu 22.04 | PASS | +------------------------------+--------------------+ | Ubuntu 24.04 | PASS | +------------------------------+--------------------+ | CentOS Stream 9 | PASS | +------------------------------+--------------------+ | CentOS Stream 10 | PASS | +------------------------------+--------------------+ Ubuntu 20.04 Kernel: 5.15 Compiler: aarch64-linux-gnu-gcc gcc (Ubuntu 9.4.0-1ubuntu1~20.04.2) 9.4.0 Debian GNU/Linux 12 Kernel: 5.4 Compiler: gcc gcc (Debian 12.2.0-14+deb12u1) 12.2.0 Red Hat Enterprise Linux 9.5 Kernel: 5.4 Compiler: gcc gcc (GCC) 11.5.0 20240719 (Red Hat 11.5.0-2) Fedora Linux 42 Kernel: 5.4 Compiler: clang gcc (GCC) 15.2.1 20250808 (Red Hat 15.2.1-1) Ubuntu 22.04 Kernel: 5.4 Compiler: gcc gcc (Ubuntu 11.4.0-1ubuntu1~22.04) 11.4.0 Ubuntu 24.04 Kernel: 5.4 Compiler: gcc gcc (Ubuntu 13.3.0-6ubuntu2~24.04) 13.3.0 CentOS Stream 9 Kernel: 5.4 Compiler: gcc gcc (GCC) 11.5.0 20240719 (Red Hat 11.5.0-11) CentOS Stream 10 Kernel: 5.4 Compiler: gcc gcc (GCC) 14.2.1 20250110 (Red Hat 14.2.1-8) To view detailed results, visit: https://lab.dpdk.org/results/dashboard/patchsets/34274/ UNH-IOL DPDK Community Lab To manage your email subscriptions, visit: https://lab.dpdk.org/results/dashboard/preferences/subscriptions/