From mboxrd@z Thu Jan 1 00:00:00 1970 Return-Path: Received: from mails.dpdk.org (mails.dpdk.org [217.70.189.124]) by inbox.dpdk.org (Postfix) with ESMTP id CF34348937 for ; Tue, 14 Oct 2025 19:01:56 +0200 (CEST) Received: from mails.dpdk.org (localhost [127.0.0.1]) by mails.dpdk.org (Postfix) with ESMTP id CB5D4402A8; Tue, 14 Oct 2025 19:01:56 +0200 (CEST) Received: from mail-pj1-f97.google.com (mail-pj1-f97.google.com [209.85.216.97]) by mails.dpdk.org (Postfix) with ESMTP id 58374402A8 for ; Tue, 14 Oct 2025 19:01:55 +0200 (CEST) Received: by mail-pj1-f97.google.com with SMTP id 98e67ed59e1d1-3305c08d9f6so59050a91.1 for ; Tue, 14 Oct 2025 10:01:55 -0700 (PDT) DKIM-Signature: v=1; a=rsa-sha256; c=relaxed/relaxed; d=iol.unh.edu; s=unh-iol; t=1760461314; x=1761066114; darn=dpdk.org; h=references:in-reply-to:cc:to:from:subject:message-id:date:from:to :cc:subject:date:message-id:reply-to; bh=uulMS/TklrV67HDUUGbp7pdikNGtxi3xttjAmJo8MU0=; b=HHQrnvKMm+yd1rpb8nz6Oyjp9dMjKQc/WntV8K2C89EOoZIQUwSfffqJ26aMcmKRrb BvN8YXkRwiyB4708rpviwRThcXo3beB91VxJN0wMptzZ+w6g1cn8EOqsx7q6Rmrfe6Nw CFkL3FPNBWJniqXgdid6IsA16x5RVcax2Uw3M= X-Google-DKIM-Signature: v=1; a=rsa-sha256; c=relaxed/relaxed; d=1e100.net; s=20230601; t=1760461314; x=1761066114; h=references:in-reply-to:cc:to:from:subject:message-id:date :x-gm-message-state:from:to:cc:subject:date:message-id:reply-to; bh=uulMS/TklrV67HDUUGbp7pdikNGtxi3xttjAmJo8MU0=; b=OADxfFc5/We1qeTrP97m0y/rMQbPty2DuDaq87BPsc3GZENS8heW7wXrGP5AGdzOlt Wmb6VmpShuOom/mxeVU9YN2+d+MNpbwnFOXLPCH1hhZhUfsevKAGx37jn8yLI4kijR3j 8dEJIXyKBJm2ViAjxNw4AMbtXfmPP9rG7OYDbh1tPF3psceloV6oSm6LiPLEMp4WyfSx Nirr1uhNPmijjI0fW1Vq+EUdT/uxoqPrw2tV0XLbMSpW53NCFPpZBnJQfr/YzZ8AOjiW Sj5pr0UyvBfqJBcM6JsGF+oN5BVStfdRTlBWsOgWvfb02Sv9hj2znnO5wNVXgiNbGu6A EgYQ== X-Gm-Message-State: AOJu0Yy2lp4amO2Y/QB20y2nIQS6/eIebjxpz6XxtPmgaatz3XbUSDhv wW+dJh2aO0wkJw34D6mxLLrwfSZaoXAv9Nxtf7sjKb89kkWBCBBJkArincnCKtLW1zfL0J9a3iR NmmIah3VmM9IyFY1X1UIYJ+BCvR9qDRSjhCNKaPPqjB9M X-Gm-Gg: ASbGncsaIZ7ma/n++AMB0/eJ4goQIq6Pf4KZVQRLYr/beM8nTAnD0OtA0nOTVPKk5Ep AyQX/OYanOFcdwFGH9oGAnheKdxDEmsr9oa1Qc3PaowHZkox9YH9yxgG2Rv6xPrrTLVAvD1xr6Y Daw/TMsBLT/dOhgQajR3jZ0Q7rJ9vlmIalOFmf6qfXX3vK6pVhNVKi0kif18iBvdzL2iKVvnqRi EeMqFNH5Gb2cfCi3GGYLoupV2inGGVlj68pffJ64wLH2Qq0NXdQx2tpyHP5NBo+IRubatkNdlUa 78i5U0STxy8l7gbtOfwm8S5+/mEvGgdtTADl7Vq27g4AZ8XcKMcl2Jd7wi3tIuZWf77j74+F X-Google-Smtp-Source: AGHT+IGDvPsOcgPd5MpWv0+Pjys+kfCd2rUaQ/huEo1QTo1TVPMLP8E1mKz2zX51OsdGpq8s2UAiyCIZwSgI X-Received: by 2002:a17:90b:4b8e:b0:32e:64ed:c20a with SMTP id 98e67ed59e1d1-339ed9a6251mr39348619a91.0.1760461314003; Tue, 14 Oct 2025 10:01:54 -0700 (PDT) Received: from postal.iol.unh.edu (postal.iol.unh.edu. [132.177.123.84]) by smtp-relay.gmail.com with ESMTPS id 98e67ed59e1d1-33b626cfe3dsm1334224a91.5.2025.10.14.10.01.53 (version=TLS1_2 cipher=ECDHE-ECDSA-AES128-GCM-SHA256 bits=128/128); Tue, 14 Oct 2025 10:01:53 -0700 (PDT) X-Relaying-Domain: iol.unh.edu Date: Tue, 14 Oct 2025 10:01:53 -0700 (PDT) Message-ID: <68ee8201.170a0220.2a410a.2160SMTPIN_ADDED_MISSING@mx.google.com> Received: from [172.21.0.2] (unknown [172.18.0.240]) by postal.iol.unh.edu (Postfix) with ESMTP id 39442604D420; Tue, 14 Oct 2025 13:01:53 -0400 (EDT) Subject: |SUCCESS| pw157557-157561 [PATCH] [v3,5/5] net/dpaa: fix resource le From: dpdklab@iol.unh.edu To: Test Report Cc: dpdk-test-reports@iol.unh.edu, Stephen Hemminger In-Reply-To: <20251014101716.2885563-6-g.singh@nxp.com> References: <20251014101716.2885563-6-g.singh@nxp.com> Content-Type: text/plain X-BeenThere: test-report@dpdk.org X-Mailman-Version: 2.1.29 Precedence: list List-Id: automatic DPDK test reports List-Unsubscribe: , List-Archive: List-Post: List-Help: List-Subscribe: , Errors-To: test-report-bounces@dpdk.org Test-Label: iol-compile-arm64-testing Test-Status: SUCCESS http://dpdk.org/patch/157561 _Testing PASS_ Submitter: Gagandeep Singh Date: Tuesday, October 14 2025 10:17:16 DPDK git baseline: Repo:dpdk-next-net Branch: master CommitID:c04bbd131b2c14b3049bf86d3ef367b34e6fdf1e 157557-157561 --> testing pass Upstream job id: Generic-DPDK-Compile-Meson#434111 Test environment and result as below: +------------------------------+--------------------+ | Environment | dpdk_meson_compile | +==============================+====================+ | Ubuntu 20.04 | PASS | +------------------------------+--------------------+ | Debian GNU/Linux 12 | PASS | +------------------------------+--------------------+ | Red Hat Enterprise Linux 9.5 | PASS | +------------------------------+--------------------+ | Fedora Linux 42 | PASS | +------------------------------+--------------------+ | Ubuntu 22.04 | PASS | +------------------------------+--------------------+ | Ubuntu 24.04 | PASS | +------------------------------+--------------------+ | CentOS Stream 9 | PASS | +------------------------------+--------------------+ | CentOS Stream 10 | PASS | +------------------------------+--------------------+ Ubuntu 20.04 Kernel: 5.15 Compiler: aarch64-linux-gnu-gcc gcc (Ubuntu 9.4.0-1ubuntu1~20.04.2) 9.4.0 Debian GNU/Linux 12 Kernel: 5.4 Compiler: gcc gcc (Debian 12.2.0-14+deb12u1) 12.2.0 Red Hat Enterprise Linux 9.5 Kernel: 5.4 Compiler: gcc gcc (GCC) 11.5.0 20240719 (Red Hat 11.5.0-2) Fedora Linux 42 Kernel: 5.4 Compiler: clang gcc (GCC) 15.2.1 20250808 (Red Hat 15.2.1-1) Ubuntu 22.04 Kernel: 5.4 Compiler: gcc gcc (Ubuntu 11.4.0-1ubuntu1~22.04) 11.4.0 Ubuntu 24.04 Kernel: 5.4 Compiler: gcc gcc (Ubuntu 13.3.0-6ubuntu2~24.04) 13.3.0 CentOS Stream 9 Kernel: 5.4 Compiler: gcc gcc (GCC) 11.5.0 20240719 (Red Hat 11.5.0-11) CentOS Stream 10 Kernel: 5.4 Compiler: gcc gcc (GCC) 14.2.1 20250110 (Red Hat 14.2.1-8) To view detailed results, visit: https://lab.dpdk.org/results/dashboard/patchsets/34274/ UNH-IOL DPDK Community Lab To manage your email subscriptions, visit: https://lab.dpdk.org/results/dashboard/preferences/subscriptions/