From mboxrd@z Thu Jan 1 00:00:00 1970 Return-Path: Received: from mails.dpdk.org (mails.dpdk.org [217.70.189.124]) by inbox.dpdk.org (Postfix) with ESMTP id DD83048937 for ; Tue, 14 Oct 2025 19:02:04 +0200 (CEST) Received: from mails.dpdk.org (localhost [127.0.0.1]) by mails.dpdk.org (Postfix) with ESMTP id D8C0D402A8; Tue, 14 Oct 2025 19:02:04 +0200 (CEST) Received: from mail-oi1-f225.google.com (mail-oi1-f225.google.com [209.85.167.225]) by mails.dpdk.org (Postfix) with ESMTP id 996AA402A8 for ; Tue, 14 Oct 2025 19:02:03 +0200 (CEST) Received: by mail-oi1-f225.google.com with SMTP id 5614622812f47-43f494764a2so3010681b6e.0 for ; Tue, 14 Oct 2025 10:02:03 -0700 (PDT) DKIM-Signature: v=1; a=rsa-sha256; c=relaxed/relaxed; d=iol.unh.edu; s=unh-iol; t=1760461323; x=1761066123; darn=dpdk.org; h=cc:to:from:subject:message-id:date:from:to:cc:subject:date :message-id:reply-to; bh=XYNZSszigXF6okUxZ67V+2shUonRmit/BgHz1iKP3pk=; b=flmWLbSqxRQLrvO8nm3Mpn1XSDLk1bcbYTi5QcsLHbn0oIaVediKhMraE3Gx+k7LUu PWD6QScZknZSw2VVPmCs+eXG9qjdbTw8xc7T6AeQfMWbol6DhUKZhUZl18gs8KzHTuoI qAZmDRWPtmlnrJJFfzcL0BHBrDn42qQOdcSII= X-Google-DKIM-Signature: v=1; a=rsa-sha256; c=relaxed/relaxed; d=1e100.net; s=20230601; t=1760461323; x=1761066123; h=cc:to:from:subject:message-id:date:x-gm-message-state:from:to:cc :subject:date:message-id:reply-to; bh=XYNZSszigXF6okUxZ67V+2shUonRmit/BgHz1iKP3pk=; b=DZv6jGNGMeVln5wykdNB7Z61FFBTnBVdMmgim1+WapqtqWdLj1XohgSHw40eJUl49S v8/blu0Vyeilu0oq3PeVjMozTfDx+ic/fNcU+i/vn2dCRN95Q5PWM6GBvrai5P1aab8V kNrrH/HbsVNvltCNKamJ9vHt9rOJDCJZ7+hb44Bu0YX8qGKK2I38bLYVycPfNE+6O7vc IssHjO8gzsmnTQnlzGI3GyYPpFOrmMOGNBOTtcJ3NRiuFVRltBoXbJ8MavJY6E7ggnEj 4lsqMtQFNYWVrKMIvHFcZi6VtrXYzzlg9ArLX3uNiP1sAiuDdwUco+i/IzIeLKFif108 Gkug== X-Gm-Message-State: AOJu0YzUJ9HQqP5oSSfek5Bm/Bpt0dRmh7JcEP8GK8H81SpGUDpgVyKN eibM79mAXhSBzfGzBmyiWbHxuv8+NNnIdSnpkIyea5npV7uNDhldDslpQ/59874WlpnuKygi1jr WLwbfRZURaOqvfl5rGkE/h+71b8Pt4wwQ6tAius1L1Y3x X-Gm-Gg: ASbGnctwrJFxvSUJsjP8kzjBNQNsJPiUbE5EOix9xcK8d6rOme1qaRqUs6y7CE6vNYi BePG5oqIj1w63/FdqBLZBVHYvOcu7YPtr+OTRgDX9wUG7gOTCdAUud3GYFq9FBTwUn8cVk/6Rck xPMAoQzAytECdp0czDZbGa/vk67jPeBKwzo/v/nl9HVj1erUTHssAxb7wWk5F6eoSxy8Kv4kliG sKAPsFz5AtXiGtbB6MRuzN0/KCby6fKApAEKMn44FP/yfH3ignfc1tiUd6WoxNM9lY3f5kM7tH1 rn0E/nreUn4ynEnMAhHyq7kodJ6g0tdId7mcW6GTOQapzsiAgpboLwFDVyk7fZLEGHwkDFu4 X-Google-Smtp-Source: AGHT+IFsCwtVOtVpsU2jaUsjjEqoUex6Jd+L3S08UqvnG2SnDavREqWbBnKrGb9QgSAAJTrdZl+MjuTppo8a X-Received: by 2002:a05:6808:189b:b0:441:8f74:fa7 with SMTP id 5614622812f47-4418f741eb2mr8028807b6e.52.1760461322289; Tue, 14 Oct 2025 10:02:02 -0700 (PDT) Received: from postal.iol.unh.edu (postal.iol.unh.edu. [132.177.123.84]) by smtp-relay.gmail.com with ESMTPS id 006d021491bc7-650181edb69sm234202eaf.8.2025.10.14.10.02.02 (version=TLS1_2 cipher=ECDHE-ECDSA-AES128-GCM-SHA256 bits=128/128); Tue, 14 Oct 2025 10:02:02 -0700 (PDT) X-Relaying-Domain: iol.unh.edu Date: Tue, 14 Oct 2025 10:02:02 -0700 (PDT) Message-ID: <68ee820a.050a0220.579fa.b2cfSMTPIN_ADDED_MISSING@mx.google.com> Received: from [172.21.0.2] (unknown [172.18.0.240]) by postal.iol.unh.edu (Postfix) with ESMTP id D24A5604D420; Tue, 14 Oct 2025 13:02:01 -0400 (EDT) Subject: |SUCCESS| [GIT MASTER] b26049c00e3c452cb446d688a43c6c7eebbee32e From: dpdklab@iol.unh.edu To: Test Report Cc: dpdk-test-reports@iol.unh.edu, Bruce Richardson Content-Type: text/plain X-BeenThere: test-report@dpdk.org X-Mailman-Version: 2.1.29 Precedence: list List-Id: automatic DPDK test reports List-Unsubscribe: , List-Archive: List-Post: List-Help: List-Subscribe: , Errors-To: test-report-bounces@dpdk.org _Testing PASS_ Branch: dpdk-next-net-intel b26049c00e3c452cb446d688a43c6c7eebbee32e --> testing pass Upstream job id: Generic-DPDK-Compile-Meson#434133 Test environment and result as below: +------------------------------+--------------------+ | Environment | dpdk_meson_compile | +==============================+====================+ | Ubuntu 20.04 | PASS | +------------------------------+--------------------+ | Red Hat Enterprise Linux 9.5 | PASS | +------------------------------+--------------------+ | Debian GNU/Linux 12 | PASS | +------------------------------+--------------------+ | Fedora Linux 42 | PASS | +------------------------------+--------------------+ | Ubuntu 22.04 | PASS | +------------------------------+--------------------+ | CentOS Stream 9 | PASS | +------------------------------+--------------------+ | CentOS Stream 10 | PASS | +------------------------------+--------------------+ | Ubuntu 24.04 | PASS | +------------------------------+--------------------+ Ubuntu 20.04 Kernel: 5.15 Compiler: aarch64-linux-gnu-gcc gcc (Ubuntu 9.4.0-1ubuntu1~20.04.2) 9.4.0 Red Hat Enterprise Linux 9.5 Kernel: 5.4 Compiler: gcc gcc (GCC) 11.5.0 20240719 (Red Hat 11.5.0-2) Debian GNU/Linux 12 Kernel: 5.4 Compiler: gcc gcc (Debian 12.2.0-14+deb12u1) 12.2.0 Fedora Linux 42 Kernel: 5.4 Compiler: gcc gcc (GCC) 15.2.1 20250808 (Red Hat 15.2.1-1) Ubuntu 22.04 Kernel: 5.4 Compiler: gcc gcc (Ubuntu 11.4.0-1ubuntu1~22.04) 11.4.0 CentOS Stream 9 Kernel: 5.4 Compiler: gcc gcc (GCC) 11.5.0 20240719 (Red Hat 11.5.0-11) CentOS Stream 10 Kernel: 5.4 Compiler: gcc gcc (GCC) 14.2.1 20250110 (Red Hat 14.2.1-8) Ubuntu 24.04 Kernel: 5.4 Compiler: gcc gcc (Ubuntu 13.3.0-6ubuntu2~24.04) 13.3.0 To view detailed results, visit: https://lab.dpdk.org/results/dashboard/tarballs/35203/ UNH-IOL DPDK Community Lab To manage your email subscriptions, visit: https://lab.dpdk.org/results/dashboard/preferences/subscriptions/