From mboxrd@z Thu Jan 1 00:00:00 1970 Return-Path: Received: from mails.dpdk.org (mails.dpdk.org [217.70.189.124]) by inbox.dpdk.org (Postfix) with ESMTP id 4834548937 for ; Tue, 14 Oct 2025 19:05:26 +0200 (CEST) Received: from mails.dpdk.org (localhost [127.0.0.1]) by mails.dpdk.org (Postfix) with ESMTP id 44B7C402A8; Tue, 14 Oct 2025 19:05:26 +0200 (CEST) Received: from mail-qv1-f100.google.com (mail-qv1-f100.google.com [209.85.219.100]) by mails.dpdk.org (Postfix) with ESMTP id 76B01402A8 for ; Tue, 14 Oct 2025 19:05:25 +0200 (CEST) Received: by mail-qv1-f100.google.com with SMTP id 6a1803df08f44-7e3148a8928so71077816d6.2 for ; Tue, 14 Oct 2025 10:05:25 -0700 (PDT) DKIM-Signature: v=1; a=rsa-sha256; c=relaxed/relaxed; d=iol.unh.edu; s=unh-iol; t=1760461525; x=1761066325; darn=dpdk.org; h=references:in-reply-to:cc:to:from:subject:message-id:date:from:to :cc:subject:date:message-id:reply-to; bh=qgbxN6w5Yw37LKAQNK0O4yNp8BnFrtewyCDF/bTmQIE=; b=UoAsV3DpEflS/szU8wWK+8ySXoaq9HfE1JH6AaanE+P6o4i6OvB6XRDaZVjVe4YqPc z84tJZpmkosvTlOs3fk2wSezwd2GscbtZtTMr847a6D9wvsgnWu/VIE2FIQi/sJHtG0r iruBIa3w9QCZYdw8Mg96ZT3mZ7vVUUaqlyP60= X-Google-DKIM-Signature: v=1; a=rsa-sha256; c=relaxed/relaxed; d=1e100.net; s=20230601; t=1760461525; x=1761066325; h=references:in-reply-to:cc:to:from:subject:message-id:date :x-gm-message-state:from:to:cc:subject:date:message-id:reply-to; bh=qgbxN6w5Yw37LKAQNK0O4yNp8BnFrtewyCDF/bTmQIE=; b=VRfIVh8c7NHxJQZbqqPq/xtH9tU+ow5XGI+lWU3WYjsGqlfKDmOoE7gNmZ6dehpFoI On46gDiFz4pb2jS/YPe4af0hBKrrXefzhnzB40S/Rro6R7RQKXz9Y1/SdSFlUDzGhr1U Dkerc5WPU1ZGxU7Mn/R3zT78cDhc/zgBUs0GPfExd9Qjg3RXKMFKQn9BxX9XDLAw7B8G s6m/5Y8pbtU8qK38KyfVoV1bakQXsbMDEON1g7iPN2Bj0Pu9VmFN7yTtzuCFXS8BQPkJ 0OQ4NYgfVETUe4sSo2sOCsTRWwEb2yxq6zMARLTcHHJqEWQlQgdEB2zv0sjwj5Ivn9SG tpDw== X-Gm-Message-State: AOJu0Yy+tSmEuhGsMG0Nh2NXQQiKXGWltV8soiHkU/iJoIYC6SrpXCWy VnCCmcqLcuicoosNtbdTqOBZ+mzylubPPpoL7eRQ1xOF/pd5W3BTSPNV92Oz1H4Ktzm95Dd8MK+ hHJtjOLOQcacbBLxZra/wdgNwfuYAnxZd7iMo55ruRVXXrQ4PfOvldkWZ7TA8 X-Gm-Gg: ASbGncuctY0NbH0hSrRlPWLUpa/hZqPUxbxZOUcf3mle0ZSX5iwLEUClso09uqhludo w8Qw1p693sziL49BPBvxPbLNDuA0mWLbwUAwGSEErQ4fpdN80aoXRdfq4aYN4Obg6h7o4zEOLdO mvC8O70SB3KiQfa9ipFfu9fzBkg3qbJRcXmR+Z+NW9H7mzSHzbC+t8R5hfhHAZ7iywsXItW7zoT CTPXn7xYDTLO/cKmHp1ijE5YqbHtQFPEUEPtM/wQ5cPLeG5D52j3pqBuPCs7tMYLsOT0IuPPnTH HRtMLx9Jc1nU8aO/be1Akc1pBIFTCVdpKX+IbNRRR3SMMpHAHA== X-Google-Smtp-Source: AGHT+IGO6A08eV1P8INcXy6Vbxf7tVVFBNUpuPSXvf/oeQRyug7ryE7o3ijOfaeHPw0Tl2FMer6bgb0QEwHQ X-Received: by 2002:a05:6214:f01:b0:725:29f0:c7c8 with SMTP id 6a1803df08f44-87b2ef9342dmr370580766d6.47.1760461524787; Tue, 14 Oct 2025 10:05:24 -0700 (PDT) Received: from postal.iol.unh.edu (postal.iol.unh.edu. [2606:4100:3880:1234::84]) by smtp-relay.gmail.com with ESMTPS id 6a1803df08f44-87c010dcb29sm255116d6.0.2025.10.14.10.05.24 (version=TLS1_2 cipher=ECDHE-ECDSA-AES128-GCM-SHA256 bits=128/128); Tue, 14 Oct 2025 10:05:24 -0700 (PDT) X-Relaying-Domain: iol.unh.edu Date: Tue, 14 Oct 2025 10:05:24 -0700 (PDT) Message-ID: <68ee82d4.050a0220.39fd92.142bSMTPIN_ADDED_MISSING@mx.google.com> Received: from [172.21.0.3] (unknown [172.18.0.240]) by postal.iol.unh.edu (Postfix) with ESMTP id 7FE13604D420; Tue, 14 Oct 2025 13:05:24 -0400 (EDT) Subject: |SUCCESS| pw157566-157572 [PATCH] [v6,7/7] usertools/mbuf: parse mbu From: dpdklab@iol.unh.edu To: Test Report Cc: dpdk-test-reports@iol.unh.edu In-Reply-To: <20251014124046.1032293-8-thomas@monjalon.net> References: <20251014124046.1032293-8-thomas@monjalon.net> Content-Type: text/plain X-BeenThere: test-report@dpdk.org X-Mailman-Version: 2.1.29 Precedence: list List-Id: automatic DPDK test reports List-Unsubscribe: , List-Archive: List-Post: List-Help: List-Subscribe: , Errors-To: test-report-bounces@dpdk.org Test-Label: iol-unit-amd64-testing Test-Status: SUCCESS http://dpdk.org/patch/157572 _Testing PASS_ Submitter: Thomas Monjalon Date: Tuesday, October 14 2025 12:33:40 DPDK git baseline: Repo:dpdk Branch: master CommitID:2b403dd8fb37d0ba13723e44ffc7ee2c2795f838 157566-157572 --> testing pass Upstream job id: Generic-VM-Unit-Test-DPDK#31789 Test environment and result as below: +-------------------------------+----------------+ | Environment | dpdk_unit_test | +===============================+================+ | CentOS Stream 9 | PASS | +-------------------------------+----------------+ | CentOS Stream 10 | PASS | +-------------------------------+----------------+ | Debian GNU/Linux 12 | PASS | +-------------------------------+----------------+ | Fedora Linux 40 | PASS | +-------------------------------+----------------+ | Fedora Linux 41 | PASS | +-------------------------------+----------------+ | Fedora Linux 42 | PASS | +-------------------------------+----------------+ | Red Hat Enterprise Linux 8.10 | PASS | +-------------------------------+----------------+ | Red Hat Enterprise Linux 9.5 | PASS | +-------------------------------+----------------+ | Ubuntu 20.04 | PASS | +-------------------------------+----------------+ | Ubuntu 24.04 | PASS | +-------------------------------+----------------+ | Ubuntu 22.04 | PASS | +-------------------------------+----------------+ | Windows Server 2022 | PASS | +-------------------------------+----------------+ CentOS Stream 9 Kernel: 5.15 Compiler: gcc gcc (GCC) 11.5.0 20240719 (Red Hat 11.5.0-11) CentOS Stream 10 Kernel: 5.15 Compiler: gcc gcc (GCC) 14.2.1 20250110 (Red Hat 14.2.1-8) Debian GNU/Linux 12 Kernel: 5.15 Compiler: gcc gcc (Debian 12.2.0-14+deb12u1) 12.2.0 Fedora Linux 40 Kernel: 5.15 Compiler: gcc gcc (GCC) 14.2.1 20240912 (Red Hat 14.2.1-3) Fedora Linux 41 Kernel: 5.15 Compiler: gcc gcc (GCC) 14.3.1 20250523 (Red Hat 14.3.1-1) Fedora Linux 42 Kernel: 5.15 Compiler: gcc gcc (GCC) 15.2.1 20250808 (Red Hat 15.2.1-1) Red Hat Enterprise Linux 8.10 Kernel: 5.15 Compiler: gcc gcc (GCC) 8.5.0 20210514 (Red Hat 8.5.0-22) Red Hat Enterprise Linux 9.5 Kernel: 5.15 Compiler: gcc gcc (GCC) 11.5.0 20240719 (Red Hat 11.5.0-2) Ubuntu 20.04 Kernel: 5.15 Compiler: gcc gcc (Ubuntu 9.4.0-1ubuntu1~20.04.2) 9.4.0 Ubuntu 24.04 Kernel: 5.15 Compiler: gcc gcc (Ubuntu 13.3.0-6ubuntu2~24.04) 13.3.0 Ubuntu 22.04 Kernel: 5.15 Compiler: gcc gcc (Ubuntu 11.4.0-1ubuntu1~22.04) 11.4.0 Windows Server 2022 Kernel: 10.0.20348.2031 Compiler: clang 15.0.7, gcc 14.1.0 (MinGW), and MSVC VS 19.39.33521 To view detailed results, visit: https://lab.dpdk.org/results/dashboard/patchsets/34277/ UNH-IOL DPDK Community Lab To manage your email subscriptions, visit: https://lab.dpdk.org/results/dashboard/preferences/subscriptions/