From mboxrd@z Thu Jan 1 00:00:00 1970 Return-Path: Received: from mails.dpdk.org (mails.dpdk.org [217.70.189.124]) by inbox.dpdk.org (Postfix) with ESMTP id 75FD848937 for ; Tue, 14 Oct 2025 19:25:29 +0200 (CEST) Received: from mails.dpdk.org (localhost [127.0.0.1]) by mails.dpdk.org (Postfix) with ESMTP id 3827D40288; Tue, 14 Oct 2025 19:25:29 +0200 (CEST) Received: from mail-io1-f100.google.com (mail-io1-f100.google.com [209.85.166.100]) by mails.dpdk.org (Postfix) with ESMTP id 56CF240288 for ; Tue, 14 Oct 2025 19:25:27 +0200 (CEST) Received: by mail-io1-f100.google.com with SMTP id ca18e2360f4ac-93bccd4901aso552023039f.2 for ; Tue, 14 Oct 2025 10:25:27 -0700 (PDT) DKIM-Signature: v=1; a=rsa-sha256; c=relaxed/relaxed; d=iol.unh.edu; s=unh-iol; t=1760462726; x=1761067526; darn=dpdk.org; h=references:in-reply-to:cc:to:from:subject:message-id:date:from:to :cc:subject:date:message-id:reply-to; bh=e6WKTQOzTRZmDTDjPwd3ouMzWGqKhAa2yx0+dbzon8c=; b=XTZW5yxKpwI1e7NXOnuS/fXe6clTCd/Uh0Nq9q8hcVHEmvHMAiNNCd3dk0PK4tOfQu JpkinNtFNYY9CqOJotNR2j3wgwJMV+yEvC5acAWLW0HdGTEQSvndc8eqGw2kThYEnFD0 P4kRU6ORM9oEQ9e0RCZY0CJHBO7gXPShpNi18= X-Google-DKIM-Signature: v=1; a=rsa-sha256; c=relaxed/relaxed; d=1e100.net; s=20230601; t=1760462726; x=1761067526; h=references:in-reply-to:cc:to:from:subject:message-id:date :x-gm-message-state:from:to:cc:subject:date:message-id:reply-to; bh=e6WKTQOzTRZmDTDjPwd3ouMzWGqKhAa2yx0+dbzon8c=; b=hKNRi0HJPTjgo98G9BnaKJewhJ934y7fLPLc6rvbURuh5ryPiyGryn2bEttk/dhxTC Q+EhUx2eHSR8o9RFS98FMg21szUrQF/H+c3wK/vQvpwOD81Qm8ao/zHzvKo3n0Q8estL JKAlqtIdVY/LB1I3Bnh5R9P4u4LlwoV8lK3eDiW1NbNt4nNqIElHv6KwLp0YJTnI/LGf 4LvOUShyOcUd8giXKAXYcn5lHIPgV2YLQ/u73EP3dOsed8eFrsvLl4/AcRI9ewtujlEb 3SUxvHeatUYDvEqU+rO9TjMICB3zXGseBunTH4mVfDIhJcXjfzN3VuIZe/Gy+Hy/40O5 g4Jw== X-Gm-Message-State: AOJu0YzcfRUa8DW5UPajiDZeBGcv8tr/CrR6GLCB5ocaM6HdszIft7Kw S5TWINaUTnMxytnhoVlJ97Df7G+xUcHRnTy8s2MFTFi+gZyz7u4RT/ONTzjTOiIB0BvvGaAFMxI 6q6qZDD/kTHjP6PZEooaDPwpN/Yyi1f1CsRyTTUHZ1md/ X-Gm-Gg: ASbGnctxV9ROdl5Y2uLRxNUFUSkvfbgMWJ7qAKp2+WWSYXCuppEOog7OFTdNW1pJKcu M+PGR3fhlCaiIeLvJowecFjvGAtQIxx7IhFxb1Gygq4839QJYLh+zcn5fZcAijmJqSez121S3tw QWySj0CKHjOdZCBUcKN3YWb7H1XCYkzbv7/HoRmNvA5CQS2sJzfojt9BTEf1N5Suvy9ntHub6mi /YNxFsIxbot3H3ex9rOrkGk2c2LfCIDBMc0/bBhUB+/j1JVNI4W1jk8Su2xKQmi8uFyvQuciO5K wRt1k0OK+IMrbmAZ8L6b1yxGISm6zZRNmBaRGfgsNP2f8Zm1VrffnKHZVj9RLcU1ekPUC42/ X-Google-Smtp-Source: AGHT+IH2gulPxmUv5Q9Iiwr7MK027maOK+XHzZhNWCf8kqG9bQWE8/IZQRghHCwjrR2WCEAG88UIWB3H7fKZ X-Received: by 2002:a05:6602:1543:b0:914:9a7:c25b with SMTP id ca18e2360f4ac-93bd182e726mr3242215039f.4.1760462726477; Tue, 14 Oct 2025 10:25:26 -0700 (PDT) Received: from postal.iol.unh.edu (postal.iol.unh.edu. [132.177.123.84]) by smtp-relay.gmail.com with ESMTPS id ca18e2360f4ac-93e25950898sm85203939f.5.2025.10.14.10.25.26 (version=TLS1_2 cipher=ECDHE-ECDSA-AES128-GCM-SHA256 bits=128/128); Tue, 14 Oct 2025 10:25:26 -0700 (PDT) X-Relaying-Domain: iol.unh.edu Date: Tue, 14 Oct 2025 10:25:26 -0700 (PDT) Message-ID: <68ee8786.5e0a0220.207411.a1e5SMTPIN_ADDED_MISSING@mx.google.com> Received: from [172.21.0.2] (unknown [172.18.0.240]) by postal.iol.unh.edu (Postfix) with ESMTP id 0E552604D420; Tue, 14 Oct 2025 13:25:26 -0400 (EDT) Subject: |SUCCESS| pw157573 [PATCH] net/i40e: fix symmetric toeplitz hashing From: dpdklab@iol.unh.edu To: Test Report Cc: dpdk-test-reports@iol.unh.edu, Bruce Richardson In-Reply-To: <20251014160718.92171-1-anurag.mandal@intel.com> References: <20251014160718.92171-1-anurag.mandal@intel.com> Content-Type: text/plain X-BeenThere: test-report@dpdk.org X-Mailman-Version: 2.1.29 Precedence: list List-Id: automatic DPDK test reports List-Unsubscribe: , List-Archive: List-Post: List-Help: List-Subscribe: , Errors-To: test-report-bounces@dpdk.org Test-Label: iol-compile-amd64-testing Test-Status: SUCCESS http://dpdk.org/patch/157573 _Testing PASS_ Submitter: Anurag Mandal Date: Tuesday, October 14 2025 16:07:18 DPDK git baseline: Repo:dpdk-next-net-intel Branch: master CommitID:d2d0163cb4200ff7e450fd66eb6a92a931f06de7 157573 --> testing pass Upstream job id: Windows-Compile-DPDK-VS#7194 Test environment and result as below: +-------------------------------+--------------------+-------------------+------------------+-------------------+ | Environment | dpdk_meson_compile | dpdk_compile_spdk | dpdk_compile_ovs | dpdk_msvc_compile | +===============================+====================+===================+==================+===================+ | Ubuntu 20.04 | PASS | SKIPPED | SKIPPED | SKIPPED | +-------------------------------+--------------------+-------------------+------------------+-------------------+ | FreeBSD 14.2 | PASS | SKIPPED | SKIPPED | SKIPPED | +-------------------------------+--------------------+-------------------+------------------+-------------------+ | CentOS Stream 9 | PASS | PASS | SKIPPED | SKIPPED | +-------------------------------+--------------------+-------------------+------------------+-------------------+ | CentOS Stream 10 | PASS | SKIPPED | SKIPPED | SKIPPED | +-------------------------------+--------------------+-------------------+------------------+-------------------+ | Debian GNU/Linux 12 | PASS | PASS | SKIPPED | SKIPPED | +-------------------------------+--------------------+-------------------+------------------+-------------------+ | Fedora Linux 42 | PASS | PASS | PASS | SKIPPED | +-------------------------------+--------------------+-------------------+------------------+-------------------+ | openSUSE Leap 15.6 | PASS | SKIPPED | SKIPPED | SKIPPED | +-------------------------------+--------------------+-------------------+------------------+-------------------+ | Red Hat Enterprise Linux 8.10 | PASS | SKIPPED | SKIPPED | SKIPPED | +-------------------------------+--------------------+-------------------+------------------+-------------------+ | Red Hat Enterprise Linux 9.5 | PASS | SKIPPED | SKIPPED | SKIPPED | +-------------------------------+--------------------+-------------------+------------------+-------------------+ | Ubuntu 24.04 | PASS | PASS | PASS | SKIPPED | +-------------------------------+--------------------+-------------------+------------------+-------------------+ | Ubuntu 22.04 | PASS | PASS | SKIPPED | SKIPPED | +-------------------------------+--------------------+-------------------+------------------+-------------------+ | Alpine Linux 3.22.0 | PASS | SKIPPED | SKIPPED | SKIPPED | +-------------------------------+--------------------+-------------------+------------------+-------------------+ | Windows Server 2022 | SKIPPED | SKIPPED | SKIPPED | PASS | +-------------------------------+--------------------+-------------------+------------------+-------------------+ Ubuntu 20.04 Kernel: 4.19 Compiler: gcc gcc (Ubuntu 9.4.0-1ubuntu1~20.04.2) 9.4.0 FreeBSD 14.2 Kernel: 14.2-RELEASE Compiler: clang 18.1.6 CentOS Stream 9 Kernel: 5.15 Compiler: gcc gcc (GCC) 11.5.0 20240719 (Red Hat 11.5.0-11) CentOS Stream 10 Kernel: 5.15 Compiler: gcc gcc (GCC) 14.2.1 20250110 (Red Hat 14.2.1-8) Debian GNU/Linux 12 Kernel: 5.15 Compiler: gcc gcc (Debian 12.2.0-14+deb12u1) 12.2.0 Fedora Linux 42 Kernel: 5.15 Compiler: clang gcc (GCC) 15.2.1 20250808 (Red Hat 15.2.1-1) openSUSE Leap 15.6 Kernel: 5.15 Compiler: gcc gcc (SUSE Linux) 7.5.0 Red Hat Enterprise Linux 8.10 Kernel: 5.15 Compiler: gcc gcc (GCC) 8.5.0 20210514 (Red Hat 8.5.0-22) Red Hat Enterprise Linux 9.5 Kernel: 5.15 Compiler: gcc gcc (GCC) 11.5.0 20240719 (Red Hat 11.5.0-2) Ubuntu 24.04 Kernel: 5.15 Compiler: gcc gcc (Ubuntu 13.3.0-6ubuntu2~24.04) 13.3.0 Ubuntu 22.04 Kernel: 5.15 Compiler: gcc gcc (Ubuntu 11.4.0-1ubuntu1~22.04) 11.4.0 Alpine Linux 3.22.0 Kernel: 5.15 Compiler: gcc gcc (Alpine 14.2.0) 14.2.0 Windows Server 2022 Kernel: 10.0.20348.2031 Compiler: clang 15.0.7, gcc 14.1.0 (MinGW), and MSVC VS 19.39.33521 To view detailed results, visit: https://lab.dpdk.org/results/dashboard/patchsets/34278/ UNH-IOL DPDK Community Lab To manage your email subscriptions, visit: https://lab.dpdk.org/results/dashboard/preferences/subscriptions/