From mboxrd@z Thu Jan 1 00:00:00 1970 Return-Path: Received: from mails.dpdk.org (mails.dpdk.org [217.70.189.124]) by inbox.dpdk.org (Postfix) with ESMTP id AED7848937 for ; Tue, 14 Oct 2025 19:29:04 +0200 (CEST) Received: from mails.dpdk.org (localhost [127.0.0.1]) by mails.dpdk.org (Postfix) with ESMTP id 8687740288; Tue, 14 Oct 2025 19:29:04 +0200 (CEST) Received: from mail-pl1-f226.google.com (mail-pl1-f226.google.com [209.85.214.226]) by mails.dpdk.org (Postfix) with ESMTP id 2703340288 for ; Tue, 14 Oct 2025 19:29:03 +0200 (CEST) Received: by mail-pl1-f226.google.com with SMTP id d9443c01a7336-2680cf68265so44164275ad.2 for ; Tue, 14 Oct 2025 10:29:03 -0700 (PDT) DKIM-Signature: v=1; a=rsa-sha256; c=relaxed/relaxed; d=iol.unh.edu; s=unh-iol; t=1760462942; x=1761067742; darn=dpdk.org; h=references:in-reply-to:cc:to:from:subject:message-id:date:from:to :cc:subject:date:message-id:reply-to; bh=WrdUhxN/DJIN1Cw/uDbCflTcCJ41pezxphYHxUiFApE=; b=UVRC1o4cUHfhC8SjdLFk1n/g+1mKR+pKV89bMvYh9MQbDhbK3qu3sNCcS/UjTYh6ax Q0HfeRk07xgdosm8RUQJSgxcB/RvnncZQYXwKequkvm4zuvqsrFHK1eKDLdLHOvnkDza T8w19BHbHr9QKS3lHvXuSzaD8DbRnR9deMY/U= X-Google-DKIM-Signature: v=1; a=rsa-sha256; c=relaxed/relaxed; d=1e100.net; s=20230601; t=1760462942; x=1761067742; h=references:in-reply-to:cc:to:from:subject:message-id:date :x-gm-message-state:from:to:cc:subject:date:message-id:reply-to; bh=WrdUhxN/DJIN1Cw/uDbCflTcCJ41pezxphYHxUiFApE=; b=KNe83J/rVFy28uesee1oncxZbZTMCl0NT4p9RWR53CSWYoz2Egcyidyoph/eGgBP1f Iup1Qx0s3e1Np4l9CmqsAwybYwZzMyGWvSftfEHelbc6grpTqs6R7jxDu3iNqNjwcN3i vt9Iym2iDBuzz1uBL2hbPm1sycgJTUZ8qsxmGdDcRscRSRGFVhkf+Tq9uNgHYYFpCobi B/zY6G7qisqNIsIc/XYAAj8zyguDyWeipixCRTUNcahWtVsPSGSjxZa29AV2VuifXX1G sarMWmwTT90W5LAan6qoZtyuajbQbXV2yh4t07PZ+LyIttXK9fePREL8PZQyV2utW0j8 8fuw== X-Gm-Message-State: AOJu0YzPcZM5k7G/SMKj7Ri68QtcAcIt6fNY2bOEyIXRSg3t5pSJ5Le3 UcnKZRoCpdLMT/sVpB0gVwK9Db+2zr910EmnfllzulCa3Taq75+qFJ+WgQP7SJFnFz3cLb4/EPP 12X43GiHOx0pGLSb2WYmPRmEOm9dSN0U6qdf+6/00Bevx X-Gm-Gg: ASbGnct7jX/ILPbmCWeTr0sd0EvaUPgdBfHmv++PsVUE76U63BDZATBn9hho9s6m/OR 0YVzcsegtN5tv7G+COdz5BpbLfnEZCeXiPdIupvDkacoKrGvt/O+3uD/Ai6kYzqESlUWSPBc8YK 6Wu/ljDJpvEhyFBWCEE3e5ZHpAPX7LQ+TOXvWBaz0k1AryGAZO69zVtJcoEDDLQayZkSvyYxdYX gDBFLZBT/bbUlpnphLqYt56p9bfKebusJUsF1scuHEqZqdosSg9u29iNlk4gxabuOJkkFvwXbJM 8lrpg86asBB440FauKQmc/wmheU6CdrkCGcYMzUU1Zq5AkDgGqBtsuFPCuKYZwsV9DnOzdno X-Google-Smtp-Source: AGHT+IEmFrcZa+wXI3FmpommbaWoYi1Nyj/ZBoYlmJ8sf2D2YI48uri4lcaRYNtesUC7Pun7FeaSK4SI6s3m X-Received: by 2002:a17:902:f64f:b0:28e:a70f:e882 with SMTP id d9443c01a7336-29027215bc9mr326356715ad.11.1760462942168; Tue, 14 Oct 2025 10:29:02 -0700 (PDT) Received: from postal.iol.unh.edu (postal.iol.unh.edu. [132.177.123.84]) by smtp-relay.gmail.com with ESMTPS id d9443c01a7336-29034efa8f5sm14104595ad.48.2025.10.14.10.29.02 (version=TLS1_2 cipher=ECDHE-ECDSA-AES128-GCM-SHA256 bits=128/128); Tue, 14 Oct 2025 10:29:02 -0700 (PDT) X-Relaying-Domain: iol.unh.edu Date: Tue, 14 Oct 2025 10:29:02 -0700 (PDT) Message-ID: <68ee885e.170a0220.178c3e.6545SMTPIN_ADDED_MISSING@mx.google.com> Received: from [172.21.0.2] (unknown [172.18.0.240]) by postal.iol.unh.edu (Postfix) with ESMTP id 58122604D420; Tue, 14 Oct 2025 13:29:01 -0400 (EDT) Subject: |SUCCESS| pw157557-157561 [PATCH] [v3,5/5] net/dpaa: fix resource le From: dpdklab@iol.unh.edu To: Test Report Cc: dpdk-test-reports@iol.unh.edu, Stephen Hemminger In-Reply-To: <20251014101716.2885563-6-g.singh@nxp.com> References: <20251014101716.2885563-6-g.singh@nxp.com> Content-Type: text/plain X-BeenThere: test-report@dpdk.org X-Mailman-Version: 2.1.29 Precedence: list List-Id: automatic DPDK test reports List-Unsubscribe: , List-Archive: List-Post: List-Help: List-Subscribe: , Errors-To: test-report-bounces@dpdk.org Test-Label: iol-compile-amd64-testing Test-Status: SUCCESS http://dpdk.org/patch/157561 _Testing PASS_ Submitter: Gagandeep Singh Date: Tuesday, October 14 2025 10:17:16 DPDK git baseline: Repo:dpdk-next-net Branch: master CommitID:c04bbd131b2c14b3049bf86d3ef367b34e6fdf1e 157557-157561 --> testing pass Upstream job id: Windows-Compile-DPDK-Native#31609 Test environment and result as below: +-------------------------------+--------------------+-------------------+------------------+-------------------+-------------------------+ | Environment | dpdk_meson_compile | dpdk_compile_spdk | dpdk_compile_ovs | dpdk_msvc_compile | dpdk_llvm_clang_compile | +===============================+====================+===================+==================+===================+=========================+ | Debian GNU/Linux 12 | PASS | PASS | SKIPPED | SKIPPED | SKIPPED | +-------------------------------+--------------------+-------------------+------------------+-------------------+-------------------------+ | Ubuntu 20.04 | PASS | SKIPPED | SKIPPED | SKIPPED | SKIPPED | +-------------------------------+--------------------+-------------------+------------------+-------------------+-------------------------+ | Fedora Linux 42 | PASS | PASS | PASS | SKIPPED | SKIPPED | +-------------------------------+--------------------+-------------------+------------------+-------------------+-------------------------+ | Red Hat Enterprise Linux 9.5 | PASS | SKIPPED | SKIPPED | SKIPPED | SKIPPED | +-------------------------------+--------------------+-------------------+------------------+-------------------+-------------------------+ | Red Hat Enterprise Linux 8.10 | PASS | SKIPPED | SKIPPED | SKIPPED | SKIPPED | +-------------------------------+--------------------+-------------------+------------------+-------------------+-------------------------+ | openSUSE Leap 15.6 | PASS | SKIPPED | SKIPPED | SKIPPED | SKIPPED | +-------------------------------+--------------------+-------------------+------------------+-------------------+-------------------------+ | CentOS Stream 10 | PASS | SKIPPED | SKIPPED | SKIPPED | SKIPPED | +-------------------------------+--------------------+-------------------+------------------+-------------------+-------------------------+ | CentOS Stream 9 | PASS | PASS | SKIPPED | SKIPPED | SKIPPED | +-------------------------------+--------------------+-------------------+------------------+-------------------+-------------------------+ | Ubuntu 22.04 | PASS | PASS | SKIPPED | SKIPPED | SKIPPED | +-------------------------------+--------------------+-------------------+------------------+-------------------+-------------------------+ | Ubuntu 24.04 | PASS | PASS | PASS | SKIPPED | SKIPPED | +-------------------------------+--------------------+-------------------+------------------+-------------------+-------------------------+ | FreeBSD 14.2 | PASS | SKIPPED | SKIPPED | SKIPPED | SKIPPED | +-------------------------------+--------------------+-------------------+------------------+-------------------+-------------------------+ | Alpine Linux 3.22.0 | PASS | SKIPPED | SKIPPED | SKIPPED | SKIPPED | +-------------------------------+--------------------+-------------------+------------------+-------------------+-------------------------+ | Windows Server 2022 | SKIPPED | SKIPPED | SKIPPED | PASS | PASS | +-------------------------------+--------------------+-------------------+------------------+-------------------+-------------------------+ Debian GNU/Linux 12 Kernel: 5.15 Compiler: gcc gcc (Debian 12.2.0-14+deb12u1) 12.2.0 Ubuntu 20.04 Kernel: 5.15 Compiler: gcc gcc (Ubuntu 9.4.0-1ubuntu1~20.04.2) 9.4.0 Fedora Linux 42 Kernel: 5.15 Compiler: gcc gcc (GCC) 15.2.1 20250808 (Red Hat 15.2.1-1) Red Hat Enterprise Linux 9.5 Kernel: 5.15 Compiler: gcc gcc (GCC) 11.5.0 20240719 (Red Hat 11.5.0-2) Red Hat Enterprise Linux 8.10 Kernel: 5.15 Compiler: gcc gcc (GCC) 8.5.0 20210514 (Red Hat 8.5.0-22) openSUSE Leap 15.6 Kernel: 5.15 Compiler: gcc gcc (SUSE Linux) 7.5.0 CentOS Stream 10 Kernel: 5.15 Compiler: gcc gcc (GCC) 14.2.1 20250110 (Red Hat 14.2.1-8) CentOS Stream 9 Kernel: 5.15 Compiler: gcc gcc (GCC) 11.5.0 20240719 (Red Hat 11.5.0-11) Ubuntu 22.04 Kernel: 5.15 Compiler: gcc gcc (Ubuntu 11.4.0-1ubuntu1~22.04) 11.4.0 Ubuntu 24.04 Kernel: 5.15 Compiler: gcc gcc (Ubuntu 13.3.0-6ubuntu2~24.04) 13.3.0 FreeBSD 14.2 Kernel: 14.2-RELEASE Compiler: clang 18.1.6 Alpine Linux 3.22.0 Kernel: 5.15 Compiler: gcc gcc (Alpine 14.2.0) 14.2.0 Windows Server 2022 Kernel: 10.0.20348.2031 Compiler: clang 15.0.7, gcc 14.1.0 (MinGW), and MSVC VS 19.39.33521 To view detailed results, visit: https://lab.dpdk.org/results/dashboard/patchsets/34274/ UNH-IOL DPDK Community Lab To manage your email subscriptions, visit: https://lab.dpdk.org/results/dashboard/preferences/subscriptions/