From mboxrd@z Thu Jan 1 00:00:00 1970 Return-Path: Received: from mails.dpdk.org (mails.dpdk.org [217.70.189.124]) by inbox.dpdk.org (Postfix) with ESMTP id 6DDC348937 for ; Tue, 14 Oct 2025 19:37:22 +0200 (CEST) Received: from mails.dpdk.org (localhost [127.0.0.1]) by mails.dpdk.org (Postfix) with ESMTP id 4060140288; Tue, 14 Oct 2025 19:37:22 +0200 (CEST) Received: from mail-pj1-f100.google.com (mail-pj1-f100.google.com [209.85.216.100]) by mails.dpdk.org (Postfix) with ESMTP id 617A340288 for ; Tue, 14 Oct 2025 19:37:20 +0200 (CEST) Received: by mail-pj1-f100.google.com with SMTP id 98e67ed59e1d1-339e71ccf48so7906656a91.3 for ; Tue, 14 Oct 2025 10:37:20 -0700 (PDT) DKIM-Signature: v=1; a=rsa-sha256; c=relaxed/relaxed; d=iol.unh.edu; s=unh-iol; t=1760463439; x=1761068239; darn=dpdk.org; h=references:in-reply-to:cc:to:from:subject:message-id:date:from:to :cc:subject:date:message-id:reply-to; bh=Vh5yxNfhzqih0cUAjf/+5APYL9d43tCSDIyW3hPOnIY=; b=i21/4X4olhcMlbvMD8RX3HNRp08C5ViI+rNOlxuJz+WHidrDVkkOo3AlOmMWN1riRm AqinjYlsMiwmPwHaxFfgTDvoUTpwJZgg1xJJnSYuXZUUZNcnu072zA33EZ7ZuajMMMtl nHMetCmUOzAfgTcKFa5bXEON0IKAQV1XxPPVo= X-Google-DKIM-Signature: v=1; a=rsa-sha256; c=relaxed/relaxed; d=1e100.net; s=20230601; t=1760463439; x=1761068239; h=references:in-reply-to:cc:to:from:subject:message-id:date :x-gm-message-state:from:to:cc:subject:date:message-id:reply-to; bh=Vh5yxNfhzqih0cUAjf/+5APYL9d43tCSDIyW3hPOnIY=; b=UOEo8xcpheOH+TAhaiaku7qehizdtBy2W4E2jvz2Zu8pacYI1LG8toNw6MfO9Rojm0 +5sTINzcuwN/4QAGEkv96R4SYeAvlbpEg3hyKA5A55ONb7tXZZzDVzvIO+8oee4uUqDf eG58n/XvurkKoRJYOCkeunIDlzCN1gcYWPA9DfGie6sr5W00A6oqQET0qojVb6wROCMp 2WaoSmfZAmyjMqlH673zKAMtpS12ZLzZkJaZJDgx1BM1sWqZBsQraI1jo3LKhgxEoSOS HZKO6K4vudHemb1hyVFXO0sj4YIHJZHnNFHw5RNmbmKJ815rTaaitQCUDPTDm8sXtJTq 9xlA== X-Gm-Message-State: AOJu0Yz0iPNYgW6knr2mFdXObkaCopbdz68D8BwxeXu0NMES4I8f31D2 cwRX7kBRmv2Umy6UlLBMld2US+GX81UKsB8FXa2sf8N0zgMj9aoVWfvZ59qAH+XJPz2H/n3jPE3 dkibrQkBJ2oLeqGTPSN1GfsH29kkUVBYG6xkg5SrF9pbNaHzNa+9ryxMS8zXF X-Gm-Gg: ASbGncsBmYaYz3BdJKp5SEkVTSAGMiIk1PH83nyVIF2EKLWNagMfikd3gXauDmT5mWI V2fVQG85qi8oJuQh6Jf2IJCgA99xRg8XSYHFpp6NUPH4apiu8jYvLlBZ+X58koJ6vDbXdkTC2mD SuF1Q8eJk3i58afASfBklQeNbrH+Wq4OW2FUo++/MXp6sn1Sl6bVmmo43vdc1A1iLImz26tkCzH fsPAUIohWunonoHTyin+9oAvMMLdW1po71cQ08LiH0uVFmhwJ/oWaKhbAHDDq2XswguvoybZiOc mdW3zykDSQOEgs00hsICRwHwPnc6gQGnjkt8CdiQc3GRhxQBfg== X-Google-Smtp-Source: AGHT+IFVTIOy/lKgcmySq0AYBT7qoVtKrOdgWmsUEl64z98b/3WN1pUo+vELQaGmAB5qypYYQNxrVRzAp2JS X-Received: by 2002:a17:90b:1e0a:b0:339:9f7d:92d4 with SMTP id 98e67ed59e1d1-33b51110ef7mr35237817a91.9.1760463439388; Tue, 14 Oct 2025 10:37:19 -0700 (PDT) Received: from postal.iol.unh.edu (postal.iol.unh.edu. [2606:4100:3880:1234::84]) by smtp-relay.gmail.com with ESMTPS id 98e67ed59e1d1-33b61929027sm1304431a91.0.2025.10.14.10.37.19 (version=TLS1_2 cipher=ECDHE-ECDSA-AES128-GCM-SHA256 bits=128/128); Tue, 14 Oct 2025 10:37:19 -0700 (PDT) X-Relaying-Domain: iol.unh.edu Date: Tue, 14 Oct 2025 10:37:19 -0700 (PDT) Message-ID: <68ee8a4f.170a0220.1cf9a9.ff21SMTPIN_ADDED_MISSING@mx.google.com> Received: from [172.21.0.2] (unknown [172.18.0.240]) by postal.iol.unh.edu (Postfix) with ESMTP id A00CA6050A61; Tue, 14 Oct 2025 13:37:18 -0400 (EDT) Subject: |SUCCESS| pw157573 [PATCH] net/i40e: fix symmetric toeplitz hashing From: dpdklab@iol.unh.edu To: Test Report Cc: dpdk-test-reports@iol.unh.edu, Bruce Richardson In-Reply-To: <20251014160718.92171-1-anurag.mandal@intel.com> References: <20251014160718.92171-1-anurag.mandal@intel.com> Content-Type: text/plain X-BeenThere: test-report@dpdk.org X-Mailman-Version: 2.1.29 Precedence: list List-Id: automatic DPDK test reports List-Unsubscribe: , List-Archive: List-Post: List-Help: List-Subscribe: , Errors-To: test-report-bounces@dpdk.org Test-Label: iol-unit-amd64-testing Test-Status: SUCCESS http://dpdk.org/patch/157573 _Testing PASS_ Submitter: Anurag Mandal Date: Tuesday, October 14 2025 16:07:18 DPDK git baseline: Repo:dpdk-next-net-intel Branch: master CommitID:d2d0163cb4200ff7e450fd66eb6a92a931f06de7 157573 --> testing pass Upstream job id: Generic-VM-Unit-Test-DPDK#31790 Test environment and result as below: +-------------------------------+----------------+ | Environment | dpdk_unit_test | +===============================+================+ | CentOS Stream 10 | PASS | +-------------------------------+----------------+ | CentOS Stream 9 | PASS | +-------------------------------+----------------+ | Fedora Linux 40 | PASS | +-------------------------------+----------------+ | Red Hat Enterprise Linux 9.5 | PASS | +-------------------------------+----------------+ | Debian GNU/Linux 12 | PASS | +-------------------------------+----------------+ | Fedora Linux 42 | PASS | +-------------------------------+----------------+ | Red Hat Enterprise Linux 8.10 | PASS | +-------------------------------+----------------+ | Fedora Linux 41 | PASS | +-------------------------------+----------------+ | Ubuntu 20.04 | PASS | +-------------------------------+----------------+ | Ubuntu 22.04 | PASS | +-------------------------------+----------------+ | Ubuntu 24.04 | PASS | +-------------------------------+----------------+ | Windows Server 2022 | PASS | +-------------------------------+----------------+ CentOS Stream 10 Kernel: 5.15 Compiler: gcc gcc (GCC) 14.2.1 20250110 (Red Hat 14.2.1-8) CentOS Stream 9 Kernel: 5.15 Compiler: gcc gcc (GCC) 11.5.0 20240719 (Red Hat 11.5.0-11) Fedora Linux 40 Kernel: 5.15 Compiler: gcc gcc (GCC) 14.2.1 20240912 (Red Hat 14.2.1-3) Red Hat Enterprise Linux 9.5 Kernel: 5.15 Compiler: gcc gcc (GCC) 11.5.0 20240719 (Red Hat 11.5.0-2) Debian GNU/Linux 12 Kernel: 5.15 Compiler: gcc gcc (Debian 12.2.0-14+deb12u1) 12.2.0 Fedora Linux 42 Kernel: 5.15 Compiler: clang gcc (GCC) 15.2.1 20250808 (Red Hat 15.2.1-1) Red Hat Enterprise Linux 8.10 Kernel: 5.15 Compiler: gcc gcc (GCC) 8.5.0 20210514 (Red Hat 8.5.0-22) Fedora Linux 41 Kernel: 5.15 Compiler: gcc gcc (GCC) 14.3.1 20250523 (Red Hat 14.3.1-1) Ubuntu 20.04 Kernel: 5.15 Compiler: gcc gcc (Ubuntu 9.4.0-1ubuntu1~20.04.2) 9.4.0 Ubuntu 22.04 Kernel: 5.15 Compiler: gcc gcc (Ubuntu 11.4.0-1ubuntu1~22.04) 11.4.0 Ubuntu 24.04 Kernel: 5.15 Compiler: gcc gcc (Ubuntu 13.3.0-6ubuntu2~24.04) 13.3.0 Windows Server 2022 Kernel: 10.0.20348.2031 Compiler: clang 15.0.7, gcc 14.1.0 (MinGW), and MSVC VS 19.39.33521 To view detailed results, visit: https://lab.dpdk.org/results/dashboard/patchsets/34278/ UNH-IOL DPDK Community Lab To manage your email subscriptions, visit: https://lab.dpdk.org/results/dashboard/preferences/subscriptions/