From mboxrd@z Thu Jan 1 00:00:00 1970 Return-Path: Received: from mails.dpdk.org (mails.dpdk.org [217.70.189.124]) by inbox.dpdk.org (Postfix) with ESMTP id 615F948937 for ; Tue, 14 Oct 2025 19:38:14 +0200 (CEST) Received: from mails.dpdk.org (localhost [127.0.0.1]) by mails.dpdk.org (Postfix) with ESMTP id 5C39E40288; Tue, 14 Oct 2025 19:38:14 +0200 (CEST) Received: from mail-yx1-f97.google.com (mail-yx1-f97.google.com [74.125.224.97]) by mails.dpdk.org (Postfix) with ESMTP id 2CFDA40288 for ; Tue, 14 Oct 2025 19:38:13 +0200 (CEST) Received: by mail-yx1-f97.google.com with SMTP id 956f58d0204a3-63470a6f339so5513562d50.0 for ; Tue, 14 Oct 2025 10:38:13 -0700 (PDT) DKIM-Signature: v=1; a=rsa-sha256; c=relaxed/relaxed; d=iol.unh.edu; s=unh-iol; t=1760463492; x=1761068292; darn=dpdk.org; h=references:in-reply-to:cc:to:from:subject:message-id:date:from:to :cc:subject:date:message-id:reply-to; bh=WxSRI0ZG4wrJ3AyBDzRJBaEJh1bQyk/xtD7Y5P2cZCE=; b=BARtDq987bWIzHS9PtHGqNtC+yxFhjHgKm/dMjlslTVDsbByYMqXGVEfhllUvuFf8K E+KFtXDzgGnwD8tBLuhZSNnZeHl/Jgvvc4n4HQNYjL3g2orawzFtSUT/ceSW0CBE5TxK gTN01HSZX1Vzaep5k6CPdKFzQ9m+yWD1jCtxY= X-Google-DKIM-Signature: v=1; a=rsa-sha256; c=relaxed/relaxed; d=1e100.net; s=20230601; t=1760463492; x=1761068292; h=references:in-reply-to:cc:to:from:subject:message-id:date :x-gm-message-state:from:to:cc:subject:date:message-id:reply-to; bh=WxSRI0ZG4wrJ3AyBDzRJBaEJh1bQyk/xtD7Y5P2cZCE=; b=IKnpl3vz1Wtx/2jujiPC2IyS/1yiohM/255ps2rTVZOMYV+KxHdrFy7u6FoH/f1dfJ SsRJyF8iOuRUlNJlBOapBnKjbGIMRUbzv/73NyqPKIz3j48Dqw8J1v3xLxdp8kF/3lkZ nslYzyKEw3JN9Rdx7swLn8TvALjM1ueIC8Cs3Mf8DYtczC3h32ztRxbj4FXDzQAjGISk BIWn6o3iiuLDqRrdk2zSJL+8+4lyuSVKkH99a/cqt565rsh6ikR0is4evzzUXwsZR9Z8 ZqiCThLrS7L27FHVed02w9zhH9m2W5RFlJLbUg3i3L5520twN/EWjyGbiAggcQobJ+Ho VZHg== X-Gm-Message-State: AOJu0YyEP0qet1JhyoOUtwtOeCFdEqmD1OCdFJY2iTjZKd4gt1Kqpxe3 w52QmD0W8vahVaYI5rRSQpk2AhIT9y4HKmL/7E/fh8UQvhP0FPTqSElrmvTeGgRH+Ygc3cZFbdo luyMvK6I7xrRYSiCMLZJnnNc+GbJEXVkJnIDa9wsTnedv X-Gm-Gg: ASbGncsl3l95TH9eySF1n+RTGiRUtDye3qYR0q5/8pC0ueW6Aaw4Bj5vbhrRh4JfiVS xE8WdNimFBYsvl51nMxnXuN1lsKwfE+A/OOy5Q1IY+QN+GNpnkbDKz2fTjJ3xYEC3sDKRJufqhi O/VqKujYBpGBr8DB8edK92lfjJ3mGqIXsZ9pRzSINDU0cJiR786YZE9BeksNuLdup030UrgikmI I8Ci7Di0R/xK/NJGpNa4bXQ4QkLESwJY0oMLM+olv1iT/u2O82ejTMHm/K5QLqMzwicYD/RXPCW dT+veEA3UEZidl7Py9LMX+EVtpYG4awSrAtl4ZIPLrYBw1mj8PdT/ZrpPf1kbpHP187pWIuM X-Google-Smtp-Source: AGHT+IE4edJ4n2CJfQhkIrnK72zaEKbBBWnQa9V/7NYtidk3tDvzBfpovbakQZiF9XNiNmRPI2rOpI/EPaTj X-Received: by 2002:a05:690c:64c8:b0:766:6507:686b with SMTP id 00721157ae682-780e1520680mr387826767b3.8.1760463492416; Tue, 14 Oct 2025 10:38:12 -0700 (PDT) Received: from postal.iol.unh.edu (postal.iol.unh.edu. [132.177.123.84]) by smtp-relay.gmail.com with ESMTPS id 00721157ae682-7814511ab44sm2486127b3.0.2025.10.14.10.38.12 (version=TLS1_2 cipher=ECDHE-ECDSA-AES128-GCM-SHA256 bits=128/128); Tue, 14 Oct 2025 10:38:12 -0700 (PDT) X-Relaying-Domain: iol.unh.edu Date: Tue, 14 Oct 2025 10:38:12 -0700 (PDT) Message-ID: <68ee8a84.050a0220.19f1e7.cdc1SMTPIN_ADDED_MISSING@mx.google.com> Received: from [172.21.0.4] (unknown [172.18.0.240]) by postal.iol.unh.edu (Postfix) with ESMTP id 18E576050A61; Tue, 14 Oct 2025 13:38:12 -0400 (EDT) Subject: |SUCCESS| pw157557-157561 [PATCH] [v3,5/5] net/dpaa: fix resource le From: dpdklab@iol.unh.edu To: Test Report Cc: dpdk-test-reports@iol.unh.edu, Stephen Hemminger In-Reply-To: <20251014101716.2885563-6-g.singh@nxp.com> References: <20251014101716.2885563-6-g.singh@nxp.com> Content-Type: text/plain X-BeenThere: test-report@dpdk.org X-Mailman-Version: 2.1.29 Precedence: list List-Id: automatic DPDK test reports List-Unsubscribe: , List-Archive: List-Post: List-Help: List-Subscribe: , Errors-To: test-report-bounces@dpdk.org Test-Label: iol-compile-amd64-testing Test-Status: SUCCESS http://dpdk.org/patch/157561 _Testing PASS_ Submitter: Gagandeep Singh Date: Tuesday, October 14 2025 10:17:16 DPDK git baseline: Repo:dpdk-next-net Branch: master CommitID:c04bbd131b2c14b3049bf86d3ef367b34e6fdf1e 157557-157561 --> testing pass Upstream job id: Windows-Compile-DPDK-Native#31610 Test environment and result as below: +-------------------------------+--------------------+-------------------+------------------+-------------------+-------------------------+----------------------+ | Environment | dpdk_meson_compile | dpdk_compile_spdk | dpdk_compile_ovs | dpdk_msvc_compile | dpdk_llvm_clang_compile | dpdk_mingw64_compile | +===============================+====================+===================+==================+===================+=========================+======================+ | Debian GNU/Linux 12 | PASS | PASS | SKIPPED | SKIPPED | SKIPPED | SKIPPED | +-------------------------------+--------------------+-------------------+------------------+-------------------+-------------------------+----------------------+ | Ubuntu 20.04 | PASS | SKIPPED | SKIPPED | SKIPPED | SKIPPED | SKIPPED | +-------------------------------+--------------------+-------------------+------------------+-------------------+-------------------------+----------------------+ | Fedora Linux 42 | PASS | PASS | PASS | SKIPPED | SKIPPED | SKIPPED | +-------------------------------+--------------------+-------------------+------------------+-------------------+-------------------------+----------------------+ | Red Hat Enterprise Linux 9.5 | PASS | SKIPPED | SKIPPED | SKIPPED | SKIPPED | SKIPPED | +-------------------------------+--------------------+-------------------+------------------+-------------------+-------------------------+----------------------+ | Red Hat Enterprise Linux 8.10 | PASS | SKIPPED | SKIPPED | SKIPPED | SKIPPED | SKIPPED | +-------------------------------+--------------------+-------------------+------------------+-------------------+-------------------------+----------------------+ | openSUSE Leap 15.6 | PASS | SKIPPED | SKIPPED | SKIPPED | SKIPPED | SKIPPED | +-------------------------------+--------------------+-------------------+------------------+-------------------+-------------------------+----------------------+ | CentOS Stream 10 | PASS | SKIPPED | SKIPPED | SKIPPED | SKIPPED | SKIPPED | +-------------------------------+--------------------+-------------------+------------------+-------------------+-------------------------+----------------------+ | CentOS Stream 9 | PASS | PASS | SKIPPED | SKIPPED | SKIPPED | SKIPPED | +-------------------------------+--------------------+-------------------+------------------+-------------------+-------------------------+----------------------+ | Ubuntu 22.04 | PASS | PASS | SKIPPED | SKIPPED | SKIPPED | SKIPPED | +-------------------------------+--------------------+-------------------+------------------+-------------------+-------------------------+----------------------+ | Ubuntu 24.04 | PASS | PASS | PASS | SKIPPED | SKIPPED | SKIPPED | +-------------------------------+--------------------+-------------------+------------------+-------------------+-------------------------+----------------------+ | FreeBSD 14.2 | PASS | SKIPPED | SKIPPED | SKIPPED | SKIPPED | SKIPPED | +-------------------------------+--------------------+-------------------+------------------+-------------------+-------------------------+----------------------+ | Alpine Linux 3.22.0 | PASS | SKIPPED | SKIPPED | SKIPPED | SKIPPED | SKIPPED | +-------------------------------+--------------------+-------------------+------------------+-------------------+-------------------------+----------------------+ | Windows Server 2022 | SKIPPED | SKIPPED | SKIPPED | PASS | PASS | PASS | +-------------------------------+--------------------+-------------------+------------------+-------------------+-------------------------+----------------------+ Debian GNU/Linux 12 Kernel: 5.15 Compiler: gcc gcc (Debian 12.2.0-14+deb12u1) 12.2.0 Ubuntu 20.04 Kernel: 5.15 Compiler: gcc gcc (Ubuntu 9.4.0-1ubuntu1~20.04.2) 9.4.0 Fedora Linux 42 Kernel: 5.15 Compiler: gcc gcc (GCC) 15.2.1 20250808 (Red Hat 15.2.1-1) Red Hat Enterprise Linux 9.5 Kernel: 5.15 Compiler: gcc gcc (GCC) 11.5.0 20240719 (Red Hat 11.5.0-2) Red Hat Enterprise Linux 8.10 Kernel: 5.15 Compiler: gcc gcc (GCC) 8.5.0 20210514 (Red Hat 8.5.0-22) openSUSE Leap 15.6 Kernel: 5.15 Compiler: gcc gcc (SUSE Linux) 7.5.0 CentOS Stream 10 Kernel: 5.15 Compiler: gcc gcc (GCC) 14.2.1 20250110 (Red Hat 14.2.1-8) CentOS Stream 9 Kernel: 5.15 Compiler: gcc gcc (GCC) 11.5.0 20240719 (Red Hat 11.5.0-11) Ubuntu 22.04 Kernel: 5.15 Compiler: gcc gcc (Ubuntu 11.4.0-1ubuntu1~22.04) 11.4.0 Ubuntu 24.04 Kernel: 5.15 Compiler: gcc gcc (Ubuntu 13.3.0-6ubuntu2~24.04) 13.3.0 FreeBSD 14.2 Kernel: 14.2-RELEASE Compiler: clang 18.1.6 Alpine Linux 3.22.0 Kernel: 5.15 Compiler: gcc gcc (Alpine 14.2.0) 14.2.0 Windows Server 2022 Kernel: 10.0.20348.2031 Compiler: clang 15.0.7, gcc 14.1.0 (MinGW), and MSVC VS 19.39.33521 To view detailed results, visit: https://lab.dpdk.org/results/dashboard/patchsets/34274/ UNH-IOL DPDK Community Lab To manage your email subscriptions, visit: https://lab.dpdk.org/results/dashboard/preferences/subscriptions/