From mboxrd@z Thu Jan 1 00:00:00 1970 Return-Path: Received: from mails.dpdk.org (mails.dpdk.org [217.70.189.124]) by inbox.dpdk.org (Postfix) with ESMTP id CC3B348937 for ; Tue, 14 Oct 2025 19:41:52 +0200 (CEST) Received: from mails.dpdk.org (localhost [127.0.0.1]) by mails.dpdk.org (Postfix) with ESMTP id C841940288; Tue, 14 Oct 2025 19:41:52 +0200 (CEST) Received: from mail-yx1-f97.google.com (mail-yx1-f97.google.com [74.125.224.97]) by mails.dpdk.org (Postfix) with ESMTP id 8416140288 for ; Tue, 14 Oct 2025 19:41:51 +0200 (CEST) Received: by mail-yx1-f97.google.com with SMTP id 956f58d0204a3-63605f6f926so3535135d50.0 for ; Tue, 14 Oct 2025 10:41:51 -0700 (PDT) DKIM-Signature: v=1; a=rsa-sha256; c=relaxed/relaxed; d=iol.unh.edu; s=unh-iol; t=1760463711; x=1761068511; darn=dpdk.org; h=references:in-reply-to:cc:to:from:subject:message-id:date:from:to :cc:subject:date:message-id:reply-to; bh=oKfejAJUKJx7tZABIl+ZXAb5zPtijk7GYipgnO5OJKI=; b=hOA3aogJnHFsEzw3JK+nq34XoS1Zbu54jfNSiPQQ3xSCwnydy0H2WfMKyMzSPfUZkc STZIio+FlLrrCCI73ZlURswGxjcbif2Kd2KueliOEcgdspSomMarkMDOVuxVCFxZh3jf sLTVHGAX+EmSrd/HoVgc8SSimmGP0GfF3j8aE= X-Google-DKIM-Signature: v=1; a=rsa-sha256; c=relaxed/relaxed; d=1e100.net; s=20230601; t=1760463711; x=1761068511; h=references:in-reply-to:cc:to:from:subject:message-id:date :x-gm-message-state:from:to:cc:subject:date:message-id:reply-to; bh=oKfejAJUKJx7tZABIl+ZXAb5zPtijk7GYipgnO5OJKI=; b=DHsUZkMXxgHVaRBuKukWi+kyZUjlbfnwdzaslyfDNV9Y27DokdVHPHkvMqVVH4svi7 Gct5L2xFv7iaOpEc+22Sb+W4ctO6Z6eo/5ylNjD7N7W9acmj6SmdwSI6lrUanHke5+Lz YWyMEubi996JNyWn4uWQPJxn3wDduQWB8hYOeYCRL+sE8Y6Rl4tvX/qskETsAGT5znr3 lWPBOcwbehrmbMBv0XXocB8W0+8mV/pmqfHSSGgLDB5pMIM0xgI9fybqsyA1KTbpqGDk r3US9Gz5+BTH/+CultTdany4C4HERBJ6++xCYlrCxGhjpDOHoyshYBL7SgMzBQnvFhoX jHQA== X-Gm-Message-State: AOJu0YwFIXfVwxEBLkbgIh8Mnf1sL5U8ZG8eJ0rscmww9x3rKxBe6aCV QsCcmFYMS0R1fAkKsykfjIHRnP+v6iP9EzxUDSe2LEJUE+qJ5c1rlBouFHaEHHI8CQ38WWy79g+ jtUehvbtiGDCSqWlqXdUQAiCbsqlfLOi5LrYGU7Ravn4ujzFtnHtgGp+a2MW4 X-Gm-Gg: ASbGnctGq2ORXWHc0Yf7Haii7HCmxI2ks7Utb/ME3Tw7hdD8fs0y5oSIefTTfiWq3Eu XD2XA2kO2B4fG+7Qb9RRSRPzhNhJvgJdAhZI19yZUtANmqMY1P3TJ1jYrEzGJRma2en+QI9OuoQ IQtdDsNgoUOOjq6QDL/VdCx4avXbUyQLJe6vMbX7PmtrnRyx4cyYIQieQtOsjqCmR5oxuuwkz3O nn6Qxq32w/aKheG6n64aYW/cCqYo8lrJZGdYwOF5VfRNYF45cY85IlNm1GhpQUv7jdQ0vN6Ucc+ 2l0k3djlyvoU0VZfzZZ19XjTHjpYdOxD0Zl6P1r4oKjBSFus7A== X-Google-Smtp-Source: AGHT+IEiXGlxhwXjgY0ZxKepIl5EgotJuvUqBOTf/6Z1Q4aWQrW++J5zXuc/Lm7FeSv9pDo6qjvqaRVmtY49 X-Received: by 2002:a05:690e:164b:b0:636:13ab:b5b6 with SMTP id 956f58d0204a3-63ccb85e78cmr18685749d50.13.1760463710810; Tue, 14 Oct 2025 10:41:50 -0700 (PDT) Received: from postal.iol.unh.edu (postal.iol.unh.edu. [2606:4100:3880:1234::84]) by smtp-relay.gmail.com with ESMTPS id 00721157ae682-781253d1865sm5174357b3.30.2025.10.14.10.41.50 (version=TLS1_2 cipher=ECDHE-ECDSA-AES128-GCM-SHA256 bits=128/128); Tue, 14 Oct 2025 10:41:50 -0700 (PDT) X-Relaying-Domain: iol.unh.edu Date: Tue, 14 Oct 2025 10:41:50 -0700 (PDT) Message-ID: <68ee8b5e.050a0220.211503.9887SMTPIN_ADDED_MISSING@mx.google.com> Received: from [172.21.0.2] (unknown [172.18.0.240]) by postal.iol.unh.edu (Postfix) with ESMTP id 518426050A61; Tue, 14 Oct 2025 13:41:50 -0400 (EDT) Subject: |SUCCESS| pw157573 [PATCH] net/i40e: fix symmetric toeplitz hashing From: dpdklab@iol.unh.edu To: Test Report Cc: dpdk-test-reports@iol.unh.edu, Bruce Richardson In-Reply-To: <20251014160718.92171-1-anurag.mandal@intel.com> References: <20251014160718.92171-1-anurag.mandal@intel.com> Content-Type: text/plain X-BeenThere: test-report@dpdk.org X-Mailman-Version: 2.1.29 Precedence: list List-Id: automatic DPDK test reports List-Unsubscribe: , List-Archive: List-Post: List-Help: List-Subscribe: , Errors-To: test-report-bounces@dpdk.org Test-Label: iol-unit-amd64-testing Test-Status: SUCCESS http://dpdk.org/patch/157573 _Testing PASS_ Submitter: Anurag Mandal Date: Tuesday, October 14 2025 16:07:18 DPDK git baseline: Repo:dpdk-next-net-intel Branch: master CommitID:d2d0163cb4200ff7e450fd66eb6a92a931f06de7 157573 --> testing pass Upstream job id: Generic-VM-Unit-Test-DPDK#31791 Test environment and result as below: +-------------------------------+----------------+ | Environment | dpdk_unit_test | +===============================+================+ | CentOS Stream 10 | PASS | +-------------------------------+----------------+ | CentOS Stream 9 | PASS | +-------------------------------+----------------+ | Fedora Linux 40 | PASS | +-------------------------------+----------------+ | Red Hat Enterprise Linux 9.5 | PASS | +-------------------------------+----------------+ | Debian GNU/Linux 12 | PASS | +-------------------------------+----------------+ | Fedora Linux 42 | PASS | +-------------------------------+----------------+ | Red Hat Enterprise Linux 8.10 | PASS | +-------------------------------+----------------+ | Fedora Linux 41 | PASS | +-------------------------------+----------------+ | Ubuntu 20.04 | PASS | +-------------------------------+----------------+ | Ubuntu 22.04 | PASS | +-------------------------------+----------------+ | Ubuntu 24.04 | PASS | +-------------------------------+----------------+ | Windows Server 2022 | PASS | +-------------------------------+----------------+ CentOS Stream 10 Kernel: 5.15 Compiler: gcc gcc (GCC) 14.2.1 20250110 (Red Hat 14.2.1-8) CentOS Stream 9 Kernel: 5.15 Compiler: gcc gcc (GCC) 11.5.0 20240719 (Red Hat 11.5.0-11) Fedora Linux 40 Kernel: 5.15 Compiler: gcc gcc (GCC) 14.2.1 20240912 (Red Hat 14.2.1-3) Red Hat Enterprise Linux 9.5 Kernel: 5.15 Compiler: gcc gcc (GCC) 11.5.0 20240719 (Red Hat 11.5.0-2) Debian GNU/Linux 12 Kernel: 5.15 Compiler: gcc gcc (Debian 12.2.0-14+deb12u1) 12.2.0 Fedora Linux 42 Kernel: 5.15 Compiler: clang gcc (GCC) 15.2.1 20250808 (Red Hat 15.2.1-1) Red Hat Enterprise Linux 8.10 Kernel: 5.15 Compiler: gcc gcc (GCC) 8.5.0 20210514 (Red Hat 8.5.0-22) Fedora Linux 41 Kernel: 5.15 Compiler: gcc gcc (GCC) 14.3.1 20250523 (Red Hat 14.3.1-1) Ubuntu 20.04 Kernel: 5.15 Compiler: gcc gcc (Ubuntu 9.4.0-1ubuntu1~20.04.2) 9.4.0 Ubuntu 22.04 Kernel: 5.15 Compiler: gcc gcc (Ubuntu 11.4.0-1ubuntu1~22.04) 11.4.0 Ubuntu 24.04 Kernel: 5.15 Compiler: gcc gcc (Ubuntu 13.3.0-6ubuntu2~24.04) 13.3.0 Windows Server 2022 Kernel: 10.0.20348.2031 Compiler: clang 15.0.7, gcc 14.1.0 (MinGW), and MSVC VS 19.39.33521 To view detailed results, visit: https://lab.dpdk.org/results/dashboard/patchsets/34278/ UNH-IOL DPDK Community Lab To manage your email subscriptions, visit: https://lab.dpdk.org/results/dashboard/preferences/subscriptions/