From mboxrd@z Thu Jan 1 00:00:00 1970 Return-Path: Received: from mails.dpdk.org (mails.dpdk.org [217.70.189.124]) by inbox.dpdk.org (Postfix) with ESMTP id DB12048937 for ; Tue, 14 Oct 2025 19:42:08 +0200 (CEST) Received: from mails.dpdk.org (localhost [127.0.0.1]) by mails.dpdk.org (Postfix) with ESMTP id D73F940288; Tue, 14 Oct 2025 19:42:08 +0200 (CEST) Received: from mail-pl1-f228.google.com (mail-pl1-f228.google.com [209.85.214.228]) by mails.dpdk.org (Postfix) with ESMTP id 323B540288 for ; Tue, 14 Oct 2025 19:42:07 +0200 (CEST) Received: by mail-pl1-f228.google.com with SMTP id d9443c01a7336-26a0a694ea8so40999475ad.3 for ; Tue, 14 Oct 2025 10:42:07 -0700 (PDT) DKIM-Signature: v=1; a=rsa-sha256; c=relaxed/relaxed; d=iol.unh.edu; s=unh-iol; t=1760463726; x=1761068526; darn=dpdk.org; h=cc:to:from:subject:message-id:date:from:to:cc:subject:date :message-id:reply-to; bh=Y5aXfQFpGtnoXdUh+MbD3n1+VZqx4BSKDAmZpZm2iM8=; b=Fv24GAfnOsWTzAX5KaaSg4sMNoVYNKs/5ILQ6mQu2hf45Eyui4qcpm7lTA1fJEXLGq DQPTwrNeF7ntNaGEUiszD3vwYt96a8Yys1KcWpccYhpKe2IJkrYVsoXQCKRs+NtZxebo dl01Z8yPIaCxs3T/6cvs5CuYPCOH9f/vAcbMc= X-Google-DKIM-Signature: v=1; a=rsa-sha256; c=relaxed/relaxed; d=1e100.net; s=20230601; t=1760463726; x=1761068526; h=cc:to:from:subject:message-id:date:x-gm-message-state:from:to:cc :subject:date:message-id:reply-to; bh=Y5aXfQFpGtnoXdUh+MbD3n1+VZqx4BSKDAmZpZm2iM8=; b=w3zaWNvEYLiRnzkJszPm+jsbd7Ps5TvzpgtFBrO+JVMBWbAhDm7hKmbU3w8cCfIkU2 Xc+zIdP1Z50jE7LvD7JYoBIgGkATKExHe1DNDT27Mg0RxqcZhUFa5Y4oUK3DLrvI9PQu VfQEY9oT/wg++G7Bi2yNvcJCxXvgfikzlm1XDiHbfjdssP5Vpxs7bIz2Ksg+0VxcEuWK 7cMiBnpYc2W/IQLYwUw7nUa8c3T0BR3tes02CUJTv+9RQ8JAhPbF9i6WBmhas7L5oSO4 inEPdlsSwKP96QnpuwHTtE726SuaSItciNol6llQ9+uENNPZv0U+DK/8LM/V46Psygvl xubQ== X-Gm-Message-State: AOJu0YzURyLitO7VZr54EkpF5V2vQhJ414olvFty65w2kWL/GnFJLZTv sZzZuPVjcrGO0K+oEcol+jiAeUwmWB+p114FcGwj4YT4qGPXau6jvdhHc+waCfHZUF7S1yA2y0L cj3smYnGsSiTXyvW546w9q4PSQvB0TDB/mnM/YwuXBoIEf2lTqCUBO2ALfE6N X-Gm-Gg: ASbGncvXFk9bPNI/lIQzpjbvFgtT5XpVAsQD2cuKGf05FLXISEZ4LtunuLPi2YqIvU5 eO5RgIMtI0B6/K4S45gcCy8sVLt/xIXRLbohCo6k9vgnhqgR1rYcm50E+YA2qaCostwAjvppSRF Dbt4ZKX3c5a12iotJVpDhTC9BfEP4fNJzPS8kSp1CxvB8WUca+0yI3asT/QixyspSKxr35TtskW M+P7tnSsLSYFm5TQX/7+y0VueyjyBr6swWK3+K0UmDU5BT1y70EKvqTcOsYPYOwWM8shm+IuT58 /c4RVGhEZ8AktPnF0n3OzKh9FOwpcqQejQ6XFaaWLtLtPDZY1A== X-Google-Smtp-Source: AGHT+IEfqYo1y9gfWeeug+Lg8Ity6Pvymo6aDYKTFIdZx/mNGzqYrrGcrVwUQWqCwuk6H+90yPpdfqehWBZT X-Received: by 2002:a17:902:d54c:b0:24c:7b94:2f87 with SMTP id d9443c01a7336-290272aec22mr290561225ad.14.1760463726368; Tue, 14 Oct 2025 10:42:06 -0700 (PDT) Received: from postal.iol.unh.edu (postal.iol.unh.edu. [2606:4100:3880:1234::84]) by smtp-relay.gmail.com with ESMTPS id d9443c01a7336-29078941b97sm2803995ad.20.2025.10.14.10.42.06 (version=TLS1_2 cipher=ECDHE-ECDSA-AES128-GCM-SHA256 bits=128/128); Tue, 14 Oct 2025 10:42:06 -0700 (PDT) X-Relaying-Domain: iol.unh.edu Date: Tue, 14 Oct 2025 10:42:06 -0700 (PDT) Message-ID: <68ee8b6e.170a0220.151f67.d99aSMTPIN_ADDED_MISSING@mx.google.com> Received: from [172.21.0.2] (unknown [172.18.0.240]) by postal.iol.unh.edu (Postfix) with ESMTP id 893D26050A61; Tue, 14 Oct 2025 13:42:05 -0400 (EDT) Subject: |SUCCESS| [GIT MASTER] b26049c00e3c452cb446d688a43c6c7eebbee32e From: dpdklab@iol.unh.edu To: Test Report Cc: dpdk-test-reports@iol.unh.edu, Bruce Richardson Content-Type: text/plain X-BeenThere: test-report@dpdk.org X-Mailman-Version: 2.1.29 Precedence: list List-Id: automatic DPDK test reports List-Unsubscribe: , List-Archive: List-Post: List-Help: List-Subscribe: , Errors-To: test-report-bounces@dpdk.org _Testing PASS_ Branch: dpdk-next-net-intel b26049c00e3c452cb446d688a43c6c7eebbee32e --> testing pass Upstream job id: Windows-Compile-DPDK-Native#31611 Test environment and result as below: +-------------------------------+--------------------+-------------------+------------------+-------------------+-------------------------+ | Environment | dpdk_meson_compile | dpdk_compile_spdk | dpdk_compile_ovs | dpdk_msvc_compile | dpdk_llvm_clang_compile | +===============================+====================+===================+==================+===================+=========================+ | CentOS Stream 9 | PASS | PASS | SKIPPED | SKIPPED | SKIPPED | +-------------------------------+--------------------+-------------------+------------------+-------------------+-------------------------+ | CentOS Stream 10 | PASS | SKIPPED | SKIPPED | SKIPPED | SKIPPED | +-------------------------------+--------------------+-------------------+------------------+-------------------+-------------------------+ | Debian GNU/Linux 12 | PASS | PASS | SKIPPED | SKIPPED | SKIPPED | +-------------------------------+--------------------+-------------------+------------------+-------------------+-------------------------+ | Ubuntu 20.04 | PASS | SKIPPED | SKIPPED | SKIPPED | SKIPPED | +-------------------------------+--------------------+-------------------+------------------+-------------------+-------------------------+ | Fedora Linux 42 | PASS | PASS | PASS | SKIPPED | SKIPPED | +-------------------------------+--------------------+-------------------+------------------+-------------------+-------------------------+ | Red Hat Enterprise Linux 9.5 | PASS | SKIPPED | SKIPPED | SKIPPED | SKIPPED | +-------------------------------+--------------------+-------------------+------------------+-------------------+-------------------------+ | Red Hat Enterprise Linux 8.10 | PASS | SKIPPED | SKIPPED | SKIPPED | SKIPPED | +-------------------------------+--------------------+-------------------+------------------+-------------------+-------------------------+ | openSUSE Leap 15.6 | PASS | SKIPPED | SKIPPED | SKIPPED | SKIPPED | +-------------------------------+--------------------+-------------------+------------------+-------------------+-------------------------+ | Ubuntu 24.04 | PASS | PASS | PASS | SKIPPED | SKIPPED | +-------------------------------+--------------------+-------------------+------------------+-------------------+-------------------------+ | Ubuntu 22.04 | PASS | PASS | SKIPPED | SKIPPED | SKIPPED | +-------------------------------+--------------------+-------------------+------------------+-------------------+-------------------------+ | Alpine Linux 3.22.0 | PASS | SKIPPED | SKIPPED | SKIPPED | SKIPPED | +-------------------------------+--------------------+-------------------+------------------+-------------------+-------------------------+ | FreeBSD 14.2 | PASS | SKIPPED | SKIPPED | SKIPPED | SKIPPED | +-------------------------------+--------------------+-------------------+------------------+-------------------+-------------------------+ | Windows Server 2022 | SKIPPED | SKIPPED | SKIPPED | PASS | PASS | +-------------------------------+--------------------+-------------------+------------------+-------------------+-------------------------+ CentOS Stream 9 Kernel: 5.15 Compiler: gcc gcc (GCC) 11.5.0 20240719 (Red Hat 11.5.0-11) CentOS Stream 10 Kernel: 5.15 Compiler: gcc gcc (GCC) 14.2.1 20250110 (Red Hat 14.2.1-8) Debian GNU/Linux 12 Kernel: 5.15 Compiler: gcc gcc (Debian 12.2.0-14+deb12u1) 12.2.0 Ubuntu 20.04 Kernel: 4.19 Compiler: gcc gcc (Ubuntu 9.4.0-1ubuntu1~20.04.2) 9.4.0 Fedora Linux 42 Kernel: 5.15 Compiler: clang gcc (GCC) 15.2.1 20250808 (Red Hat 15.2.1-1) Red Hat Enterprise Linux 9.5 Kernel: 5.15 Compiler: gcc gcc (GCC) 11.5.0 20240719 (Red Hat 11.5.0-2) Red Hat Enterprise Linux 8.10 Kernel: 5.15 Compiler: gcc gcc (GCC) 8.5.0 20210514 (Red Hat 8.5.0-22) openSUSE Leap 15.6 Kernel: 5.15 Compiler: gcc gcc (SUSE Linux) 7.5.0 Ubuntu 24.04 Kernel: 5.15 Compiler: gcc gcc (Ubuntu 13.3.0-6ubuntu2~24.04) 13.3.0 Ubuntu 22.04 Kernel: 5.15 Compiler: gcc gcc (Ubuntu 11.4.0-1ubuntu1~22.04) 11.4.0 Alpine Linux 3.22.0 Kernel: 5.15 Compiler: gcc gcc (Alpine 14.2.0) 14.2.0 FreeBSD 14.2 Kernel: 14.2-RELEASE Compiler: clang 18.1.6 Windows Server 2022 Kernel: 10.0.20348.2031 Compiler: clang 15.0.7, gcc 14.1.0 (MinGW), and MSVC VS 19.39.33521 To view detailed results, visit: https://lab.dpdk.org/results/dashboard/tarballs/35203/ UNH-IOL DPDK Community Lab To manage your email subscriptions, visit: https://lab.dpdk.org/results/dashboard/preferences/subscriptions/