From mboxrd@z Thu Jan 1 00:00:00 1970 Return-Path: Received: from mails.dpdk.org (mails.dpdk.org [217.70.189.124]) by inbox.dpdk.org (Postfix) with ESMTP id 0E34048937 for ; Tue, 14 Oct 2025 19:43:38 +0200 (CEST) Received: from mails.dpdk.org (localhost [127.0.0.1]) by mails.dpdk.org (Postfix) with ESMTP id 092A540288; Tue, 14 Oct 2025 19:43:38 +0200 (CEST) Received: from mail-pl1-f225.google.com (mail-pl1-f225.google.com [209.85.214.225]) by mails.dpdk.org (Postfix) with ESMTP id 3B81840288 for ; Tue, 14 Oct 2025 19:43:36 +0200 (CEST) Received: by mail-pl1-f225.google.com with SMTP id d9443c01a7336-26c209802c0so55437385ad.0 for ; Tue, 14 Oct 2025 10:43:36 -0700 (PDT) DKIM-Signature: v=1; a=rsa-sha256; c=relaxed/relaxed; d=iol.unh.edu; s=unh-iol; t=1760463815; x=1761068615; darn=dpdk.org; h=cc:to:from:subject:message-id:date:from:to:cc:subject:date :message-id:reply-to; bh=g33w+Dg6EszdyKb0X37r/othJpN6T8oJS0poSnhX8kk=; b=O6VRIiQ5ygnAws/PVu546sxtagj6o8oIYZ67BBFi43JdpzvfSBQikpfGUl8AXKV7LJ pqo4GbccHJd511G+FJItAZ2WYriQ0nYzog12Qg/nM1UAAPC5WauVjaVGjM1Fb22kE5Gd Momc+5gkCtT2ClKtXGYOkHhENi2VBa2rwwUc4= X-Google-DKIM-Signature: v=1; a=rsa-sha256; c=relaxed/relaxed; d=1e100.net; s=20230601; t=1760463815; x=1761068615; h=cc:to:from:subject:message-id:date:x-gm-message-state:from:to:cc :subject:date:message-id:reply-to; bh=g33w+Dg6EszdyKb0X37r/othJpN6T8oJS0poSnhX8kk=; b=jf5JYtL7clUsil91/6xL2Be9ub1A3atAQOwrxN/7ytmegrsn+xU8tMfU0IaeqZ5Nnk cGt2CtHEfJOzSdDa1FRXg5ED/CGS89ZxDdC6bPWg7iTOLLC7C8ZTBZZphjVMKV43dOi3 xYSr4HcSzzrwClTHVeVJWxTswfgCO8sdFCQKQ4uQc4eeHIwbOl/644xO2YWDdx8KnbRB yq81La1j8JdRzeSosa81U9vXU9wlclb8wBrMvzUzpXA6TtVjkoCXso47A3A0BM2H4b+v eanPWdmnVqnRlzQ6b5HfgePdNuwIQuX/CYkE4e1xRNhv7tCmAfMFzD5zkz0Y9pVuK5ys ft0Q== X-Gm-Message-State: AOJu0YyXNeC69IUoEI8pGuRpTr5zjWmkvxw+pN9XKAXcWJIIj4f2dlQW tlUvMnf2//9HIEVyH8sGGaR0eHhlUQv88GkzXEHfy7HIUAymCa05Vba9eozVzYoIemiG3WgUfry W5KIL7bjp0tvHCWrfEk/YRq5Mbd1+VYPOeLbMPOOjZ1BK X-Gm-Gg: ASbGncv1QNfTn7974aIkwj0XRJdI3drodC4uXdobKvhJjSLSwVEqURVkLhJSUcO226K 6e+ky/1hMaV84QA5ghciUNOpYW4xwkIb+bIZnpDLSp+uv8EQflTa2f4bE14rmaeSCEy3vET9nQu AEQFDe/mI12fcW/6rDhqweLlf0pjC1rQVKHblMsCnutjHiWkNBqAuRq7Dx3wTL0fSz2yImYpu1v cA8j3U6+iwnzVKYqEeHY1QSTNrSlumF+/s6AZrLQnZdPrZYK1FfbKzgYhKnaOk7MM9hE+t+kzDA 9QLTGeLdPt0cLNALVi1WhGn2rEmmyMffTa2eehH0SQ4O6e9Z1WlblHPu8RjGJw8XQ/lZnmPC X-Google-Smtp-Source: AGHT+IHahyEWwwb0JI037iykad4TPksyBwMjhyrzcBuWtvfZeGD6TiU4uyympjgYLmOUJua6zOzZNwBSknjS X-Received: by 2002:a17:903:acb:b0:24b:270e:56cb with SMTP id d9443c01a7336-2902739b362mr320221175ad.27.1760463815345; Tue, 14 Oct 2025 10:43:35 -0700 (PDT) Received: from postal.iol.unh.edu (postal.iol.unh.edu. [132.177.123.84]) by smtp-relay.gmail.com with ESMTPS id d9443c01a7336-2904e9e0f2esm9791835ad.74.2025.10.14.10.43.35 (version=TLS1_2 cipher=ECDHE-ECDSA-AES128-GCM-SHA256 bits=128/128); Tue, 14 Oct 2025 10:43:35 -0700 (PDT) X-Relaying-Domain: iol.unh.edu Date: Tue, 14 Oct 2025 10:43:35 -0700 (PDT) Message-ID: <68ee8bc7.170a0220.1d852.fc22SMTPIN_ADDED_MISSING@mx.google.com> Received: from [172.21.0.2] (unknown [172.18.0.240]) by postal.iol.unh.edu (Postfix) with ESMTP id 7FCF86050A61; Tue, 14 Oct 2025 13:43:34 -0400 (EDT) Subject: |SUCCESS| [GIT MASTER] b26049c00e3c452cb446d688a43c6c7eebbee32e From: dpdklab@iol.unh.edu To: Test Report Cc: dpdk-test-reports@iol.unh.edu, Bruce Richardson Content-Type: text/plain X-BeenThere: test-report@dpdk.org X-Mailman-Version: 2.1.29 Precedence: list List-Id: automatic DPDK test reports List-Unsubscribe: , List-Archive: List-Post: List-Help: List-Subscribe: , Errors-To: test-report-bounces@dpdk.org _Testing PASS_ Branch: dpdk-next-net-intel b26049c00e3c452cb446d688a43c6c7eebbee32e --> testing pass Upstream job id: Windows-Compile-DPDK-Native#31612 Test environment and result as below: +-------------------------------+--------------------+-------------------+------------------+-------------------+-------------------------+----------------------+ | Environment | dpdk_meson_compile | dpdk_compile_spdk | dpdk_compile_ovs | dpdk_msvc_compile | dpdk_llvm_clang_compile | dpdk_mingw64_compile | +===============================+====================+===================+==================+===================+=========================+======================+ | CentOS Stream 9 | PASS | PASS | SKIPPED | SKIPPED | SKIPPED | SKIPPED | +-------------------------------+--------------------+-------------------+------------------+-------------------+-------------------------+----------------------+ | CentOS Stream 10 | PASS | SKIPPED | SKIPPED | SKIPPED | SKIPPED | SKIPPED | +-------------------------------+--------------------+-------------------+------------------+-------------------+-------------------------+----------------------+ | Debian GNU/Linux 12 | PASS | PASS | SKIPPED | SKIPPED | SKIPPED | SKIPPED | +-------------------------------+--------------------+-------------------+------------------+-------------------+-------------------------+----------------------+ | Ubuntu 20.04 | PASS | SKIPPED | SKIPPED | SKIPPED | SKIPPED | SKIPPED | +-------------------------------+--------------------+-------------------+------------------+-------------------+-------------------------+----------------------+ | Fedora Linux 42 | PASS | PASS | PASS | SKIPPED | SKIPPED | SKIPPED | +-------------------------------+--------------------+-------------------+------------------+-------------------+-------------------------+----------------------+ | Red Hat Enterprise Linux 9.5 | PASS | SKIPPED | SKIPPED | SKIPPED | SKIPPED | SKIPPED | +-------------------------------+--------------------+-------------------+------------------+-------------------+-------------------------+----------------------+ | Red Hat Enterprise Linux 8.10 | PASS | SKIPPED | SKIPPED | SKIPPED | SKIPPED | SKIPPED | +-------------------------------+--------------------+-------------------+------------------+-------------------+-------------------------+----------------------+ | openSUSE Leap 15.6 | PASS | SKIPPED | SKIPPED | SKIPPED | SKIPPED | SKIPPED | +-------------------------------+--------------------+-------------------+------------------+-------------------+-------------------------+----------------------+ | Ubuntu 24.04 | PASS | PASS | PASS | SKIPPED | SKIPPED | SKIPPED | +-------------------------------+--------------------+-------------------+------------------+-------------------+-------------------------+----------------------+ | Ubuntu 22.04 | PASS | PASS | SKIPPED | SKIPPED | SKIPPED | SKIPPED | +-------------------------------+--------------------+-------------------+------------------+-------------------+-------------------------+----------------------+ | Alpine Linux 3.22.0 | PASS | SKIPPED | SKIPPED | SKIPPED | SKIPPED | SKIPPED | +-------------------------------+--------------------+-------------------+------------------+-------------------+-------------------------+----------------------+ | FreeBSD 14.2 | PASS | SKIPPED | SKIPPED | SKIPPED | SKIPPED | SKIPPED | +-------------------------------+--------------------+-------------------+------------------+-------------------+-------------------------+----------------------+ | Windows Server 2022 | SKIPPED | SKIPPED | SKIPPED | PASS | PASS | PASS | +-------------------------------+--------------------+-------------------+------------------+-------------------+-------------------------+----------------------+ CentOS Stream 9 Kernel: 5.15 Compiler: gcc gcc (GCC) 11.5.0 20240719 (Red Hat 11.5.0-11) CentOS Stream 10 Kernel: 5.15 Compiler: gcc gcc (GCC) 14.2.1 20250110 (Red Hat 14.2.1-8) Debian GNU/Linux 12 Kernel: 5.15 Compiler: gcc gcc (Debian 12.2.0-14+deb12u1) 12.2.0 Ubuntu 20.04 Kernel: 4.19 Compiler: gcc gcc (Ubuntu 9.4.0-1ubuntu1~20.04.2) 9.4.0 Fedora Linux 42 Kernel: 5.15 Compiler: clang gcc (GCC) 15.2.1 20250808 (Red Hat 15.2.1-1) Red Hat Enterprise Linux 9.5 Kernel: 5.15 Compiler: gcc gcc (GCC) 11.5.0 20240719 (Red Hat 11.5.0-2) Red Hat Enterprise Linux 8.10 Kernel: 5.15 Compiler: gcc gcc (GCC) 8.5.0 20210514 (Red Hat 8.5.0-22) openSUSE Leap 15.6 Kernel: 5.15 Compiler: gcc gcc (SUSE Linux) 7.5.0 Ubuntu 24.04 Kernel: 5.15 Compiler: gcc gcc (Ubuntu 13.3.0-6ubuntu2~24.04) 13.3.0 Ubuntu 22.04 Kernel: 5.15 Compiler: gcc gcc (Ubuntu 11.4.0-1ubuntu1~22.04) 11.4.0 Alpine Linux 3.22.0 Kernel: 5.15 Compiler: gcc gcc (Alpine 14.2.0) 14.2.0 FreeBSD 14.2 Kernel: 14.2-RELEASE Compiler: clang 18.1.6 Windows Server 2022 Kernel: 10.0.20348.2031 Compiler: clang 15.0.7, gcc 14.1.0 (MinGW), and MSVC VS 19.39.33521 To view detailed results, visit: https://lab.dpdk.org/results/dashboard/tarballs/35203/ UNH-IOL DPDK Community Lab To manage your email subscriptions, visit: https://lab.dpdk.org/results/dashboard/preferences/subscriptions/